Workbook

Sheet Budapest
A1: Number | B1: LOCATION DATA | D1: BUILDING GEOMETRY | Q1: ENERGY NEEDS AND SAVINGS | AG1: CO2 EMISSION | AN1: SO2 EMISSION | AU1: NOx EMISSION | BB1: Investements | BG1: U-values, current condition | BK1: U-values, after insulation | BP1: MFAB volume Ve | BQ1: No of storeys | BR1: Akuk | BS1: H | BT1: Volume V | BU1: 20 | BV1: -15 | BW1: -15 | BX1: 3
B2: City | C2: Address | D2: Ground area | E2: Heated area | F2: Ground circumference | G2: Type of floor construction | H2: Total number of storeys | I2: Height | J2: Area of outer walls | K2: Outer walls insulation | L2: Total area of windows and doors | M2: Total area of PVC windows and doorsa | N2: Roof/ceiling area | O2: Type of roof | P2: Roof insulation | Q2: Heating system | R2: Primarly energy source | S2: Heat required in current state of building | T2: Specific heat required in current condition of building | U2: Heat required in after insulation of outer walls | V2: Potential saving after insulation of outer walls | W2: Heat required in after insulation of roof/ceiling | X2: Potential saving after insulation of roof/ceiling | Y2: Heat required in after replacement of windows and doors | Z2: Potential saving after replacement of widows and doors | AA2: Heat required in after insulation of floors | AB2: Potential saving after insulation of floors | AC2: Potential saving after all architectural measures | AD2: Heat required after all architectural measures | AE2: Specific heat required after all architectural measures | AF2: Total savings by architectural measures | AG2: Emission in current state of building | AH2: Reduction after insulation of outer walls | AI2: Reduction after insulation of roof/ceiling | AJ2: Reduction after replacement of widows and doors | AK2: Reduction after insulation of floors | AL2: Reduction after all measures | AM2: Emission after all measures | AN2: Emission in current state of building | AO2: Reduction after insulation of outer walls | AP2: Reduction after insulation of roof/ceiling | AQ2: Reduction after replacement of widows and doors | AR2: Reduction after insulation of floors | AS2: Reduction after all measures | AT2: Emission after all measures | AU2: Emission in current state of building | AV2: Reduction after insulation of outer walls | AW2: Reduction after insulation of roof/ceiling | AX2: Reduction after replacement of widows and doors | AY2: Reduction after insulation of floors | AZ2: Reduction after all measures | BA2: Emission after all measures | BB2: Wall insulation | BC2: Roof/ceiling insulation | BD2: Windows replacement | BE2: Floor insulation | BF2: Total investment | BG2: U-wall | BH2: U-windows | BI2: U-floor | BJ2: U-roof | BK2: U-wall | BL2: U-roof | BM2: U-windows | BN2: U-floor | BU2: Qtr.req | BV2: Qtr. Ins wall | BW2: Qtr. Ins roof | BX2: Qtr. Ins win | BY2: Qtr. Ins floor | BZ2: Qtr.potr | CA2: Qtr. Iz zid | CB2: Qtr. Iz tav | CC2: Qtr. Iz proz | CD2: Qtr. Iz pod
D3: m2 | E3: m2 | F3: m | I3: m | J3: m2 | L3: m2 | M3: m2 | N3: m2 | S3: kWh/year | T3: kWh/m2year | U3: kWh/year | V3: kWh/year | W3: kWh/year | X3: kWh/year | Y3: kWh/year | Z3: kWh/year | AA3: kWh/year | AB3: kWh/year | AC3: kWh/year | AD3: kWh/year | AE3: kWh/m2year | AF3: % | AG3: t/year | AH3: t/year | AI3: t/year | AJ3: t/year | AK3: t/year | AL3: t/year | AM3: t/year | AN3: t/year | AO3: t/year | AP3: t/year | AQ3: t/year | AR3: t/year | AS3: t/year | AT3: t/year | AU3: t/year | AV3: t/year | AW3: t/year | AX3: t/year | AY3: t/year | AZ3: t/year | BA3: t/year | BB3: EUR | BC3: EUR | BD3: EUR | BE3: EUR | BF3: EUR | BG3: W/m2K | BH3: W/m2K | BI3: W/m2K | BJ3: W/m2K | BK3: W/m2K | BL3: W/m2K | BM3: W/m2K | BN3: W/m2K | BP3: m3 | BR3: m2 | BS3: m | BT3: m3 | BU3: kWh/god | BV3: kWh/god | BW3: kWh/god | BX3: kWh/god | BY3: kWh/god | BZ3: kWh/god | CA3: kWh/god | CB3: kWh/god | CC3: kWh/god | CD3: kWh/god
A4: 1 | B4: Budapest | C4: Apáthy István utca 10; Szigony utca 34 | D4: 546.7 | E4: =0.8*D4*H4 -> 1749.44 | F4: 194.6 | G4: Ground | H4: 4 | I4: 14.5 | J4: =F4*I4-L4 -> 2312.4 | K4: N | L4: 509.3 | M4: 140.5 | N4: 563.101 | O4: Sloped | P4: N | Q4: Individual | R4: Natural gas | S4: =BZ4 -> 301457.36 | T4: =S4/E4 -> 172.31649 | U4: =CA4 -> 177701.75 | V4: =IF(ISBLANK(D4)," ",S4-U4) -> 123755.61 | W4: =CB4 -> 251598.47 | X4: =IF(ISBLANK(D4)," ",S4-W4) -> 49858.881 | Y4: =CC4 -> 274124.21 | Z4: =IF(ISBLANK(D4)," ",S4-Y4) -> 27333.142 | AA4: =CD4 -> 301457.36 | AB4: =IF(ISBLANK(D4)," ",S4-AA4) -> 0 | AC4: =V4+X4+Z4+AB4 -> 200947.63 | AD4: =IF(ISBLANK(D4)," ",S4-AC4) -> 100509.72 | AE4: =AD4/E4 -> 57.452512 | AF4: =1-AD4/S4 -> 0.66658726 | AG4: =IF(ISBLANK($D4),"",S4*_xlfn.XLOOKUP(Q4,DATA!$B$24:$B$25,DATA!$C$24:$C$25,"error",0,1)/1000) -> 60.577856 | AH4: =IF(ISBLANK($D4),"",V4*_xlfn.XLOOKUP(Q4,DATA!$B$24:$B$25,DATA!$C$24:$C$25,"error",0,1)/1000) -> 24.86869 | AI4: =IF(ISBLANK($D4),"",X4*_xlfn.XLOOKUP(Q4,DATA!$B$24:$B$25,DATA!$C$24:$C$25,"error",0,1)/1000) -> 10.019142 | AJ4: =IF(ISBLANK($D4),"",Z4*_xlfn.XLOOKUP(Q4,DATA!$B$24:$B$25,DATA!$C$24:$C$25,"error",0,1)/1000) -> 5.4925948 | AK4: =IF(ISBLANK($D4),"",AB4*_xlfn.XLOOKUP(Q4,DATA!$B$24:$B$25,DATA!$C$24:$C$25,"error",0,1)/1000) -> 0 | AL4: =SUM(AH4:AK4) -> 40.380427 | AM4: =IF(ISBLANK($D4),"",AG4-AL4) -> 20.197429 | AN4: =IF(ISBLANK($D4),"",$S4*0.0135790158248428/1000) -> 4.0934942 | AO4: =IF(ISBLANK($D4),"",$V4*0.0135790158248428/1000) -> 1.6804794 | AP4: =IF(ISBLANK($D4),"",$X4*0.0135790158248428/1000) -> 0.67703454 | AQ4: =IF(ISBLANK($D4),"",$Z4*0.0135790158248428/1000) -> 0.37115716 | AR4: =IF(ISBLANK($D4),"",$AB4*0.0135790158248428/1000) -> 0 | AS4: =IF(ISBLANK($D4),"",$AC4*0.0135790158248428/1000) -> 2.7286711 | AT4: =IF(ISBLANK($D4),"",AN4-AS4) -> 1.3648231 | AU4: =IF(ISBLANK($D4),"",$S4*0.000738514285714286/1000) -> 0.22263056 | AV4: =IF(ISBLANK($D4),"",$V4*0.000738514285714286/1000) -> 0.091395286 | AW4: =IF(ISBLANK($D4),"",$X4*0.000738514285714286/1000) -> 0.036821496 | AX4: =IF(ISBLANK($D4),"",$Z4*0.000738514285714286/1000) -> 0.020185916 | AY4: =IF(ISBLANK($D4),"",$AB4*0.000738514285714286/1000) -> 0 | AZ4: =IF(ISBLANK($D4),"",$AC4*0.000738514285714286/1000) -> 0.1484027 | BA4: =IF(ISBLANK($D4),"",AU4-AZ4) -> 0.074227866 | BB4: =IF(V4>0,J4*DATA!$C$4,0) -> 150306 | BC4: =IF(X4>0,N4*_xlfn.XLOOKUP(Budapest!O4,DATA!$B$5:$B$6,DATA!$C$5:$C$6,"error",0,1),0) -> 27028.848 | BD4: =IF(Z4>0,(L4-M4)*DATA!$C$7,"0,00 ") -> 55320 | BE4: =IF(G4="basement",D4*DATA!$C$8,IF(G4="ground",0,"error")) -> 0 | BF4: =BB4+BC4+BD4+BE4 -> 232654.85 | BG4: 1.48 | BH4: 2.3672295 | BI4: =IF(G4="ground",0.57,IF(G4="basement",0.85,"error")) -> 0.57 | BJ4: 2.33 | BK4: =IF(K4="N",1/((1/BG4)+0.15/0.038),BG4) -> 0.21630769 | BL4: =IF(O4="sloped",1/(1/BJ4+0.15/0.04),IF(O4="flat",1/(1/BJ4+0.15/0.034),"error")) -> 0.23928113 | BM4: 1.1 | BN4: =IF(BI4=0.85,1/(1/BI4+0.05/0.038),BI4) -> 0.57 | BP4: =D4*BS4 -> 7927.15 | BQ4: =H4 -> 4 | BR4: =0.32*BP4 -> 2536.688 | BS4: =I4 -> 14.5 | BT4: =IF(BQ4<=3,0.76*BP4,0.8*BP4) -> 6341.72 | BU4: =(($D4*$BI4*($BU$1-$BX$1)+$J4*$BG4*($BU$1-$BW$1)+$L4*$BH4*($BU$1-$BW$1)+$N4*$BJ4*($BU$1-$BV$1))*1.05+$BT4*(5.95))/1000 -> 261.5909 | BV4: =(($D4*$BI4*($BU$1-$BX$1)+$J4*$BK4*($BU$1-$BW$1)+$L4*$BH4*($BU$1-$BW$1)+$N4*$BJ4*($BU$1-$BV$1))*1.05+$BT4*(5.95))/1000 -> 154.20145 | BW4: =(($D4*$BI4*($BU$1-$BX$1)+$J4*$BG4*($BU$1-$BW$1)+$L4*$BH4*($BU$1-$BW$1)+$N4*$BL4*($BU$1-$BV$1))*1.05+$BT4*(5.95))/1000 -> 218.32565 | BX4: =(($D4*$BI4*($BU$1-$BX$1)+$J4*$BG4*($BU$1-$BW$1)+$L4*$BM4*($BU$1-$BW$1)+$N4*$BJ4*($BU$1-$BV$1))*1.05+$BT4*(5.95))/1000 -> 237.87245 | BY4: =(($D4*$BN4*($BU$1-$BX$1)+$J4*$BG4*($BU$1-$BW$1)+$L4*$BH4*($BU$1-$BW$1)+$N4*$BJ4*($BU$1-$BV$1))*1.05+$BT4*(5.95))/1000 -> 261.5909 | BZ4: =BU4*1152.4 -> 301457.36 | CA4: =BV4*1152.4 -> 177701.75 | CB4: =BW4*1152.4 -> 251598.47 | CC4: =BX4*1152.4 -> 274124.21 | CD4: =BY4*1152.4 -> 301457.36
A5: 2 | B5: Budapest | C5: Apáthy István utca 12 | D5: 248 | E5: =0.8*D5*H5 -> 396.8 | F5: 63 | G5: Basement | H5: 2 | I5: 8.5 | J5: =F5*I5-L5 -> 430.5 | K5: N | L5: 105 | M5: 0 | N5: 255.5 | O5: Sloped | P5: N | Q5: Individual | R5: Natural gas | S5: =BZ5 -> 80190.117 | T5: =S5/E5 -> 202.09203 | U5: =CA5 -> 57150.508 | V5: =IF(ISBLANK(D5)," ",S5-U5) -> 23039.608 | W5: =CB5 -> 57567.276 | X5: =IF(ISBLANK(D5)," ",S5-W5) -> 22622.841 | Y5: =CC5 -> 72408.176 | Z5: =IF(ISBLANK(D5)," ",S5-Y5) -> 7781.9411 | AA5: =CD5 -> 77900.804 | AB5: =IF(ISBLANK(D5)," ",S5-AA5) -> 2289.3127 | AC5: =V5+X5+Z5+AB5 -> 55733.703 | AD5: =IF(ISBLANK(D5)," ",S5-AC5) -> 24456.414 | AE5: =AD5/E5 -> 61.634108 | AF5: =1-AD5/S5 -> 0.6950196 | AG5: =IF(ISBLANK($D5),"",S5*_xlfn.XLOOKUP(Q5,DATA!$B$24:$B$25,DATA!$C$24:$C$25,"error",0,1)/1000) -> 16.114204 | AH5: =IF(ISBLANK($D5),"",V5*_xlfn.XLOOKUP(Q5,DATA!$B$24:$B$25,DATA!$C$24:$C$25,"error",0,1)/1000) -> 4.6298093 | AI5: =IF(ISBLANK($D5),"",X5*_xlfn.XLOOKUP(Q5,DATA!$B$24:$B$25,DATA!$C$24:$C$25,"error",0,1)/1000) -> 4.5460598 | AJ5: =IF(ISBLANK($D5),"",Z5*_xlfn.XLOOKUP(Q5,DATA!$B$24:$B$25,DATA!$C$24:$C$25,"error",0,1)/1000) -> 1.5637811 | AK5: =IF(ISBLANK($D5),"",AB5*_xlfn.XLOOKUP(Q5,DATA!$B$24:$B$25,DATA!$C$24:$C$25,"error",0,1)/1000) -> 0.4600374 | AL5: =SUM(AH5:AK5) -> 11.199688 | AM5: =IF(ISBLANK($D5),"",AG5-AL5) -> 4.9145164 | AN5: =IF(ISBLANK($D5),"",$S5*0.0135790158248428/1000) -> 1.0889029 | AO5: =IF(ISBLANK($D5),"",$V5*0.0135790158248428/1000) -> 0.31285521 | AP5: =IF(ISBLANK($D5),"",$X5*0.0135790158248428/1000) -> 0.30719591 | AQ5: =IF(ISBLANK($D5),"",$Z5*0.0135790158248428/1000) -> 0.1056711 | AR5: =IF(ISBLANK($D5),"",$AB5*0.0135790158248428/1000) -> 0.031086614 | AS5: =IF(ISBLANK($D5),"",$AC5*0.0135790158248428/1000) -> 0.75680883 | AT5: =IF(ISBLANK($D5),"",AN5-AS5) -> 0.33209403 | AU5: =IF(ISBLANK($D5),"",$S5*0.000738514285714286/1000) -> 0.059221547 | AV5: =IF(ISBLANK($D5),"",$V5*0.000738514285714286/1000) -> 0.01701508 | AW5: =IF(ISBLANK($D5),"",$X5*0.000738514285714286/1000) -> 0.016707291 | AX5: =IF(ISBLANK($D5),"",$Z5*0.000738514285714286/1000) -> 0.0057470747 | AY5: =IF(ISBLANK($D5),"",$AB5*0.000738514285714286/1000) -> 0.0016906902 | AZ5: =IF(ISBLANK($D5),"",$AC5*0.000738514285714286/1000) -> 0.041160136 | BA5: =IF(ISBLANK($D5),"",AU5-AZ5) -> 0.018061411 | BB5: =IF(V5>0,J5*DATA!$C$4,0) -> 27982.5 | BC5: =IF(X5>0,N5*_xlfn.XLOOKUP(Budapest!O5,DATA!$B$5:$B$6,DATA!$C$5:$C$6,"error",0,1),0) -> 12264 | BD5: =IF(Z5>0,(L5-M5)*DATA!$C$7,"0,00 ") -> 15750 | BE5: =IF(G5="basement",D5*DATA!$C$8,IF(G5="ground",0,"error")) -> 9920 | BF5: =BB5+BC5+BD5+BE5 -> 65916.5 | BG5: 1.48 | BH5: 2.85 | BI5: =IF(G5="ground",0.57,IF(G5="basement",0.85,"error")) -> 0.85 | BJ5: 2.33 | BK5: =IF(K5="N",1/((1/BG5)+0.15/0.038),BG5) -> 0.21630769 | BL5: =IF(O5="sloped",1/(1/BJ5+0.15/0.04),IF(O5="flat",1/(1/BJ5+0.15/0.034),"error")) -> 0.23928113 | BM5: 1.1 | BN5: =IF(BI5=0.85,1/(1/BI5+0.05/0.038),BI5) -> 0.40124224 | BP5: =D5*BS5 -> 2108 | BQ5: =H5 -> 2 | BR5: =0.32*BP5 -> 674.56 | BS5: =I5 -> 8.5 | BT5: =IF(BQ5<=3,0.76*BP5,0.8*BP5) -> 1602.08 | BU5: =(($D5*$BI5*($BU$1-$BX$1)+$J5*$BG5*($BU$1-$BW$1)+$L5*$BH5*($BU$1-$BW$1)+$N5*$BJ5*($BU$1-$BV$1))*1.05+$BT5*(5.95))/1000 -> 69.585315 | BV5: =(($D5*$BI5*($BU$1-$BX$1)+$J5*$BK5*($BU$1-$BW$1)+$L5*$BH5*($BU$1-$BW$1)+$N5*$BJ5*($BU$1-$BV$1))*1.05+$BT5*(5.95))/1000 -> 49.592597 | BW5: =(($D5*$BI5*($BU$1-$BX$1)+$J5*$BG5*($BU$1-$BW$1)+$L5*$BH5*($BU$1-$BW$1)+$N5*$BL5*($BU$1-$BV$1))*1.05+$BT5*(5.95))/1000 -> 49.954249 | BX5: =(($D5*$BI5*($BU$1-$BX$1)+$J5*$BG5*($BU$1-$BW$1)+$L5*$BM5*($BU$1-$BW$1)+$N5*$BJ5*($BU$1-$BV$1))*1.05+$BT5*(5.95))/1000 -> 62.832502 | BY5: =(($D5*$BN5*($BU$1-$BX$1)+$J5*$BG5*($BU$1-$BW$1)+$L5*$BH5*($BU$1-$BW$1)+$N5*$BJ5*($BU$1-$BV$1))*1.05+$BT5*(5.95))/1000 -> 67.598754 | BZ5: =BU5*1152.4 -> 80190.117 | CA5: =BV5*1152.4 -> 57150.508 | CB5: =BW5*1152.4 -> 57567.276 | CC5: =BX5*1152.4 -> 72408.176 | CD5: =BY5*1152.4 -> 77900.804
A6: 3 | B6: Budapest | C6: Apáthy István utca 14 | D6: 135 | E6: =0.8*D6*H6 -> 540 | F6: 68 | G6: Ground | H6: 5 | I6: 17.5 | J6: =F6*I6-L6 -> 975.8 | K6: N | L6: 214.2 | M6: 0 | N6: 139.5 | O6: Sloped | P6: N | Q6: Individual | R6: Natural gas | S6: =BZ6 -> 115323.7 | T6: =S6/E6 -> 213.5624 | U6: =CA6 -> 63100.585 | V6: =IF(ISBLANK(D6)," ",S6-U6) -> 52223.112 | W6: =CB6 -> 102971.89 | X6: =IF(ISBLANK(D6)," ",S6-W6) -> 12351.805 | Y6: =CC6 -> 99448.537 | Z6: =IF(ISBLANK(D6)," ",S6-Y6) -> 15875.16 | AA6: =CD6 -> 115323.7 | AB6: =IF(ISBLANK(D6)," ",S6-AA6) -> 0 | AC6: =V6+X6+Z6+AB6 -> 80450.077 | AD6: =IF(ISBLANK(D6)," ",S6-AC6) -> 34873.619 | AE6: =AD6/E6 -> 64.580777 | AF6: =1-AD6/S6 -> 0.69760231 | AG6: =IF(ISBLANK($D6),"",S6*_xlfn.XLOOKUP(Q6,DATA!$B$24:$B$25,DATA!$C$24:$C$25,"error",0,1)/1000) -> 23.174297 | AH6: =IF(ISBLANK($D6),"",V6*_xlfn.XLOOKUP(Q6,DATA!$B$24:$B$25,DATA!$C$24:$C$25,"error",0,1)/1000) -> 10.494234 | AI6: =IF(ISBLANK($D6),"",X6*_xlfn.XLOOKUP(Q6,DATA!$B$24:$B$25,DATA!$C$24:$C$25,"error",0,1)/1000) -> 2.4820953 | AJ6: =IF(ISBLANK($D6),"",Z6*_xlfn.XLOOKUP(Q6,DATA!$B$24:$B$25,DATA!$C$24:$C$25,"error",0,1)/1000) -> 3.1901134 | AK6: =IF(ISBLANK($D6),"",AB6*_xlfn.XLOOKUP(Q6,DATA!$B$24:$B$25,DATA!$C$24:$C$25,"error",0,1)/1000) -> 0 | AL6: =SUM(AH6:AK6) -> 16.166443 | AM6: =IF(ISBLANK($D6),"",AG6-AL6) -> 7.0078538 | AN6: =IF(ISBLANK($D6),"",$S6*0.0135790158248428/1000) -> 1.5659823 | AO6: =IF(ISBLANK($D6),"",$V6*0.0135790158248428/1000) -> 0.70913847 | AP6: =IF(ISBLANK($D6),"",$X6*0.0135790158248428/1000) -> 0.16772536 | AQ6: =IF(ISBLANK($D6),"",$Z6*0.0135790158248428/1000) -> 0.21556905 | AR6: =IF(ISBLANK($D6),"",$AB6*0.0135790158248428/1000) -> 0 | AS6: =IF(ISBLANK($D6),"",$AC6*0.0135790158248428/1000) -> 1.0924329 | AT6: =IF(ISBLANK($D6),"",AN6-AS6) -> 0.47354943 | AU6: =IF(ISBLANK($D6),"",$S6*0.000738514285714286/1000) -> 0.085168198 | AV6: =IF(ISBLANK($D6),"",$V6*0.000738514285714286/1000) -> 0.038567514 | AW6: =IF(ISBLANK($D6),"",$X6*0.000738514285714286/1000) -> 0.0091219847 | AX6: =IF(ISBLANK($D6),"",$Z6*0.000738514285714286/1000) -> 0.011724032 | AY6: =IF(ISBLANK($D6),"",$AB6*0.000738514285714286/1000) -> 0 | AZ6: =IF(ISBLANK($D6),"",$AC6*0.000738514285714286/1000) -> 0.059413531 | BA6: =IF(ISBLANK($D6),"",AU6-AZ6) -> 0.025754666 | BB6: =IF(V6>0,J6*DATA!$C$4,0) -> 63427 | BC6: =IF(X6>0,N6*_xlfn.XLOOKUP(Budapest!O6,DATA!$B$5:$B$6,DATA!$C$5:$C$6,"error",0,1),0) -> 6696 | BD6: =IF(Z6>0,(L6-M6)*DATA!$C$7,"0,00 ") -> 32130 | BE6: =IF(G6="basement",D6*DATA!$C$8,IF(G6="ground",0,"error")) -> 0 | BF6: =BB6+BC6+BD6+BE6 -> 102253 | BG6: 1.48 | BH6: 2.85 | BI6: =IF(G6="ground",0.57,IF(G6="basement",0.85,"error")) -> 0.57 | BJ6: 2.33 | BK6: =IF(K6="N",1/((1/BG6)+0.15/0.038),BG6) -> 0.21630769 | BL6: =IF(O6="sloped",1/(1/BJ6+0.15/0.04),IF(O6="flat",1/(1/BJ6+0.15/0.034),"error")) -> 0.23928113 | BM6: 1.1 | BN6: =IF(BI6=0.85,1/(1/BI6+0.05/0.038),BI6) -> 0.57 | BP6: =D6*BS6 -> 2362.5 | BQ6: =H6 -> 5 | BR6: =0.32*BP6 -> 756 | BS6: =I6 -> 17.5 | BT6: =IF(BQ6<=3,0.76*BP6,0.8*BP6) -> 1890 | BU6: =(($D6*$BI6*($BU$1-$BX$1)+$J6*$BG6*($BU$1-$BW$1)+$L6*$BH6*($BU$1-$BW$1)+$N6*$BJ6*($BU$1-$BV$1))*1.05+$BT6*(5.95))/1000 -> 100.07263 | BV6: =(($D6*$BI6*($BU$1-$BX$1)+$J6*$BK6*($BU$1-$BW$1)+$L6*$BH6*($BU$1-$BW$1)+$N6*$BJ6*($BU$1-$BV$1))*1.05+$BT6*(5.95))/1000 -> 54.755801 | BW6: =(($D6*$BI6*($BU$1-$BX$1)+$J6*$BG6*($BU$1-$BW$1)+$L6*$BH6*($BU$1-$BW$1)+$N6*$BL6*($BU$1-$BV$1))*1.05+$BT6*(5.95))/1000 -> 89.354297 | BX6: =(($D6*$BI6*($BU$1-$BX$1)+$J6*$BG6*($BU$1-$BW$1)+$L6*$BM6*($BU$1-$BW$1)+$N6*$BJ6*($BU$1-$BV$1))*1.05+$BT6*(5.95))/1000 -> 86.296891 | BY6: =(($D6*$BN6*($BU$1-$BX$1)+$J6*$BG6*($BU$1-$BW$1)+$L6*$BH6*($BU$1-$BW$1)+$N6*$BJ6*($BU$1-$BV$1))*1.05+$BT6*(5.95))/1000 -> 100.07263 | BZ6: =BU6*1152.4 -> 115323.7 | CA6: =BV6*1152.4 -> 63100.585 | CB6: =BW6*1152.4 -> 102971.89 | CC6: =BX6*1152.4 -> 99448.537 | CD6: =BY6*1152.4 -> 115323.7
A7: 4 | B7: Budapest | C7: Balassa utca 1; Tömő utca 23C | D7: 300.3 | E7: =0.8*D7*H7 -> 1201.2 | F7: 97.6 | G7: Ground | H7: 5 | I7: 17.5 | J7: =F7*I7-L7 -> 1395.9 | K7: N | L7: 312.1 | M7: 103.9 | N7: 309.334 | O7: Sloped | P7: N | Q7: Individual | R7: Natural gas | S7: =BZ7 -> 180336.07 | T7: =S7/E7 -> 150.12993 | U7: =CA7 -> 105629.94 | V7: =IF(ISBLANK(D7)," ",S7-U7) -> 74706.131 | W7: =CB7 -> 152946.59 | X7: =IF(ISBLANK(D7)," ",S7-W7) -> 27389.486 | Y7: =CC7 -> 164905.6 | Z7: =IF(ISBLANK(D7)," ",S7-Y7) -> 15430.478 | AA7: =CD7 -> 180336.07 | AB7: =IF(ISBLANK(D7)," ",S7-AA7) -> 0 | AC7: =V7+X7+Z7+AB7 -> 117526.09 | AD7: =IF(ISBLANK(D7)," ",S7-AC7) -> 62809.98 | AE7: =AD7/E7 -> 52.289361 | AF7: =1-AD7/S7 -> 0.65170596 | AG7: =IF(ISBLANK($D7),"",S7*_xlfn.XLOOKUP(Q7,DATA!$B$24:$B$25,DATA!$C$24:$C$25,"error",0,1)/1000) -> 36.238534 | AH7: =IF(ISBLANK($D7),"",V7*_xlfn.XLOOKUP(Q7,DATA!$B$24:$B$25,DATA!$C$24:$C$25,"error",0,1)/1000) -> 15.012197 | AI7: =IF(ISBLANK($D7),"",X7*_xlfn.XLOOKUP(Q7,DATA!$B$24:$B$25,DATA!$C$24:$C$25,"error",0,1)/1000) -> 5.5039173 | AJ7: =IF(ISBLANK($D7),"",Z7*_xlfn.XLOOKUP(Q7,DATA!$B$24:$B$25,DATA!$C$24:$C$25,"error",0,1)/1000) -> 3.1007545 | AK7: =IF(ISBLANK($D7),"",AB7*_xlfn.XLOOKUP(Q7,DATA!$B$24:$B$25,DATA!$C$24:$C$25,"error",0,1)/1000) -> 0 | AL7: =SUM(AH7:AK7) -> 23.616869 | AM7: =IF(ISBLANK($D7),"",AG7-AL7) -> 12.621665 | AN7: =IF(ISBLANK($D7),"",$S7*0.0135790158248428/1000) -> 2.4487864 | AO7: =IF(ISBLANK($D7),"",$V7*0.0135790158248428/1000) -> 1.0144357 | AP7: =IF(ISBLANK($D7),"",$X7*0.0135790158248428/1000) -> 0.37192227 | AQ7: =IF(ISBLANK($D7),"",$Z7*0.0135790158248428/1000) -> 0.2095307 | AR7: =IF(ISBLANK($D7),"",$AB7*0.0135790158248428/1000) -> 0 | AS7: =IF(ISBLANK($D7),"",$AC7*0.0135790158248428/1000) -> 1.5958887 | AT7: =IF(ISBLANK($D7),"",AN7-AS7) -> 0.85289771 | AU7: =IF(ISBLANK($D7),"",$S7*0.000738514285714286/1000) -> 0.13318077 | AV7: =IF(ISBLANK($D7),"",$V7*0.000738514285714286/1000) -> 0.055171545 | AW7: =IF(ISBLANK($D7),"",$X7*0.000738514285714286/1000) -> 0.020227527 | AX7: =IF(ISBLANK($D7),"",$Z7*0.000738514285714286/1000) -> 0.011395628 | AY7: =IF(ISBLANK($D7),"",$AB7*0.000738514285714286/1000) -> 0 | AZ7: =IF(ISBLANK($D7),"",$AC7*0.000738514285714286/1000) -> 0.0867947 | BA7: =IF(ISBLANK($D7),"",AU7-AZ7) -> 0.046386068 | BB7: =IF(V7>0,J7*DATA!$C$4,0) -> 90733.5 | BC7: =IF(X7>0,N7*_xlfn.XLOOKUP(Budapest!O7,DATA!$B$5:$B$6,DATA!$C$5:$C$6,"error",0,1),0) -> 14848.032 | BD7: =IF(Z7>0,(L7-M7)*DATA!$C$7,"0,00 ") -> 31230 | BE7: =IF(G7="basement",D7*DATA!$C$8,IF(G7="ground",0,"error")) -> 0 | BF7: =BB7+BC7+BD7+BE7 -> 136811.53 | BG7: 1.48 | BH7: 2.2674143 | BI7: =IF(G7="ground",0.57,IF(G7="basement",0.85,"error")) -> 0.57 | BJ7: 2.33 | BK7: =IF(K7="N",1/((1/BG7)+0.15/0.038),BG7) -> 0.21630769 | BL7: =IF(O7="sloped",1/(1/BJ7+0.15/0.04),IF(O7="flat",1/(1/BJ7+0.15/0.034),"error")) -> 0.23928113 | BM7: 1.1 | BN7: =IF(BI7=0.85,1/(1/BI7+0.05/0.038),BI7) -> 0.57 | BP7: =D7*BS7 -> 5255.25 | BQ7: =H7 -> 5 | BR7: =0.32*BP7 -> 1681.68 | BS7: =I7 -> 17.5 | BT7: =IF(BQ7<=3,0.76*BP7,0.8*BP7) -> 4204.2 | BU7: =(($D7*$BI7*($BU$1-$BX$1)+$J7*$BG7*($BU$1-$BW$1)+$L7*$BH7*($BU$1-$BW$1)+$N7*$BJ7*($BU$1-$BV$1))*1.05+$BT7*(5.95))/1000 -> 156.4874 | BV7: =(($D7*$BI7*($BU$1-$BX$1)+$J7*$BK7*($BU$1-$BW$1)+$L7*$BH7*($BU$1-$BW$1)+$N7*$BJ7*($BU$1-$BV$1))*1.05+$BT7*(5.95))/1000 -> 91.660833 | BW7: =(($D7*$BI7*($BU$1-$BX$1)+$J7*$BG7*($BU$1-$BW$1)+$L7*$BH7*($BU$1-$BW$1)+$N7*$BL7*($BU$1-$BV$1))*1.05+$BT7*(5.95))/1000 -> 132.72005 | BX7: =(($D7*$BI7*($BU$1-$BX$1)+$J7*$BG7*($BU$1-$BW$1)+$L7*$BM7*($BU$1-$BW$1)+$N7*$BJ7*($BU$1-$BV$1))*1.05+$BT7*(5.95))/1000 -> 143.09753 | BY7: =(($D7*$BN7*($BU$1-$BX$1)+$J7*$BG7*($BU$1-$BW$1)+$L7*$BH7*($BU$1-$BW$1)+$N7*$BJ7*($BU$1-$BV$1))*1.05+$BT7*(5.95))/1000 -> 156.4874 | BZ7: =BU7*1152.4 -> 180336.07 | CA7: =BV7*1152.4 -> 105629.94 | CB7: =BW7*1152.4 -> 152946.59 | CC7: =BX7*1152.4 -> 164905.6 | CD7: =BY7*1152.4 -> 180336.07
A8: 5 | B8: Budapest | C8: Baross utca 91 | D8: 340 | E8: =0.8*D8*H8 -> 1632 | F8: 74 | G8: Basement | H8: 6 | I8: 17.5 | J8: =F8*I8-L8 -> 1022.5 | K8: N | L8: 272.5 | M8: 0 | N8: 350.2 | O8: Sloped | P8: N | Q8: District heating | R8: Natural gas | S8: =BZ8 -> 170119.76 | T8: =S8/E8 -> 104.24005 | U8: =CA8 -> 115397.34 | V8: =IF(ISBLANK(D8)," ",S8-U8) -> 54722.415 | W8: =CB8 -> 139111.86 | X8: =IF(ISBLANK(D8)," ",S8-W8) -> 31007.901 | Y8: =CC8 -> 149923.77 | Z8: =IF(ISBLANK(D8)," ",S8-Y8) -> 20195.99 | AA8: =CD8 -> 166981.19 | AB8: =IF(ISBLANK(D8)," ",S8-AA8) -> 3138.5739 | AC8: =V8+X8+Z8+AB8 -> 109064.88 | AD8: =IF(ISBLANK(D8)," ",S8-AC8) -> 61054.879 | AE8: =AD8/E8 -> 37.411078 | AF8: =1-AD8/S8 -> 0.64110648 | AG8: =IF(ISBLANK($D8),"",S8*_xlfn.XLOOKUP(Q8,DATA!$B$24:$B$25,DATA!$C$24:$C$25,"error",0,1)/1000) -> 67.755298 | AH8: =IF(ISBLANK($D8),"",V8*_xlfn.XLOOKUP(Q8,DATA!$B$24:$B$25,DATA!$C$24:$C$25,"error",0,1)/1000) -> 21.794843 | AI8: =IF(ISBLANK($D8),"",X8*_xlfn.XLOOKUP(Q8,DATA!$B$24:$B$25,DATA!$C$24:$C$25,"error",0,1)/1000) -> 12.349827 | AJ8: =IF(ISBLANK($D8),"",Z8*_xlfn.XLOOKUP(Q8,DATA!$B$24:$B$25,DATA!$C$24:$C$25,"error",0,1)/1000) -> 8.0436589 | AK8: =IF(ISBLANK($D8),"",AB8*_xlfn.XLOOKUP(Q8,DATA!$B$24:$B$25,DATA!$C$24:$C$25,"error",0,1)/1000) -> 1.2500312 | AL8: =SUM(AH8:AK8) -> 43.43836 | AM8: =IF(ISBLANK($D8),"",AG8-AL8) -> 24.316937 | AN8: =IF(ISBLANK($D8),"",$S8*0.0135790158248428/1000) -> 2.3100589 | AO8: =IF(ISBLANK($D8),"",$V8*0.0135790158248428/1000) -> 0.74307653 | AP8: =IF(ISBLANK($D8),"",$X8*0.0135790158248428/1000) -> 0.42105678 | AQ8: =IF(ISBLANK($D8),"",$Z8*0.0135790158248428/1000) -> 0.27424167 | AR8: =IF(ISBLANK($D8),"",$AB8*0.0135790158248428/1000) -> 0.042618745 | AS8: =IF(ISBLANK($D8),"",$AC8*0.0135790158248428/1000) -> 1.4809937 | AT8: =IF(ISBLANK($D8),"",AN8-AS8) -> 0.82906517 | AU8: =IF(ISBLANK($D8),"",$S8*0.000738514285714286/1000) -> 0.12563587 | AV8: =IF(ISBLANK($D8),"",$V8*0.000738514285714286/1000) -> 0.040413285 | AW8: =IF(ISBLANK($D8),"",$X8*0.000738514285714286/1000) -> 0.022899778 | AX8: =IF(ISBLANK($D8),"",$Z8*0.000738514285714286/1000) -> 0.014915027 | AY8: =IF(ISBLANK($D8),"",$AB8*0.000738514285714286/1000) -> 0.0023178817 | AZ8: =IF(ISBLANK($D8),"",$AC8*0.000738514285714286/1000) -> 0.080545972 | BA8: =IF(ISBLANK($D8),"",AU8-AZ8) -> 0.0450899 | BB8: =IF(V8>0,J8*DATA!$C$4,0) -> 66462.5 | BC8: =IF(X8>0,N8*_xlfn.XLOOKUP(Budapest!O8,DATA!$B$5:$B$6,DATA!$C$5:$C$6,"error",0,1),0) -> 16809.6 | BD8: =IF(Z8>0,(L8-M8)*DATA!$C$7,"0,00 ") -> 40875 | BE8: =IF(G8="basement",D8*DATA!$C$8,IF(G8="ground",0,"error")) -> 13600 | BF8: =BB8+BC8+BD8+BE8 -> 137747.1 | BG8: 1.48 | BH8: 2.85 | BI8: =IF(G8="ground",0.57,IF(G8="basement",0.85,"error")) -> 0.85 | BJ8: 2.33 | BK8: =IF(K8="N",1/((1/BG8)+0.15/0.038),BG8) -> 0.21630769 | BL8: =IF(O8="sloped",1/(1/BJ8+0.15/0.04),IF(O8="flat",1/(1/BJ8+0.15/0.034),"error")) -> 0.23928113 | BM8: 1.1 | BN8: =IF(BI8=0.85,1/(1/BI8+0.05/0.038),BI8) -> 0.40124224 | BP8: =D8*BS8 -> 5950 | BQ8: =H8 -> 6 | BR8: =0.32*BP8 -> 1904 | BS8: =I8 -> 17.5 | BT8: =IF(BQ8<=3,0.76*BP8,0.8*BP8) -> 4760 | BU8: =(($D8*$BI8*($BU$1-$BX$1)+$J8*$BG8*($BU$1-$BW$1)+$L8*$BH8*($BU$1-$BW$1)+$N8*$BJ8*($BU$1-$BV$1))*1.05+$BT8*(5.95))/1000 -> 147.62214 | BV8: =(($D8*$BI8*($BU$1-$BX$1)+$J8*$BK8*($BU$1-$BW$1)+$L8*$BH8*($BU$1-$BW$1)+$N8*$BJ8*($BU$1-$BV$1))*1.05+$BT8*(5.95))/1000 -> 100.13654 | BW8: =(($D8*$BI8*($BU$1-$BX$1)+$J8*$BG8*($BU$1-$BW$1)+$L8*$BH8*($BU$1-$BW$1)+$N8*$BL8*($BU$1-$BV$1))*1.05+$BT8*(5.95))/1000 -> 120.71491 | BX8: =(($D8*$BI8*($BU$1-$BX$1)+$J8*$BG8*($BU$1-$BW$1)+$L8*$BM8*($BU$1-$BW$1)+$N8*$BJ8*($BU$1-$BV$1))*1.05+$BT8*(5.95))/1000 -> 130.09699 | BY8: =(($D8*$BN8*($BU$1-$BX$1)+$J8*$BG8*($BU$1-$BW$1)+$L8*$BH8*($BU$1-$BW$1)+$N8*$BJ8*($BU$1-$BV$1))*1.05+$BT8*(5.95))/1000 -> 144.89863 | BZ8: =BU8*1152.4 -> 170119.76 | CA8: =BV8*1152.4 -> 115397.34 | CB8: =BW8*1152.4 -> 139111.86 | CC8: =BX8*1152.4 -> 149923.77 | CD8: =BY8*1152.4 -> 166981.19
A9: 6 | B9: Budapest | C9: Baross utca 93 | D9: 340 | E9: =0.8*D9*H9 -> 1632 | F9: 74 | G9: Basement | H9: 6 | I9: 17.5 | J9: =F9*I9-L9 -> 1016.7 | K9: N | L9: 278.3 | M9: 0 | N9: 350.2 | O9: Sloped | P9: N | Q9: District heating | R9: Natural gas | S9: =BZ9 -> 170456.28 | T9: =S9/E9 -> 104.44625 | U9: =CA9 -> 116044.27 | V9: =IF(ISBLANK(D9)," ",S9-U9) -> 54412.009 | W9: =CB9 -> 139448.38 | X9: =IF(ISBLANK(D9)," ",S9-W9) -> 31007.901 | Y9: =CC9 -> 149830.43 | Z9: =IF(ISBLANK(D9)," ",S9-Y9) -> 20625.85 | AA9: =CD9 -> 167317.7 | AB9: =IF(ISBLANK(D9)," ",S9-AA9) -> 3138.5739 | AC9: =V9+X9+Z9+AB9 -> 109184.33 | AD9: =IF(ISBLANK(D9)," ",S9-AC9) -> 61271.944 | AE9: =AD9/E9 -> 37.544083 | AF9: =1-AD9/S9 -> 0.64054158 | AG9: =IF(ISBLANK($D9),"",S9*_xlfn.XLOOKUP(Q9,DATA!$B$24:$B$25,DATA!$C$24:$C$25,"error",0,1)/1000) -> 67.889326 | AH9: =IF(ISBLANK($D9),"",V9*_xlfn.XLOOKUP(Q9,DATA!$B$24:$B$25,DATA!$C$24:$C$25,"error",0,1)/1000) -> 21.671215 | AI9: =IF(ISBLANK($D9),"",X9*_xlfn.XLOOKUP(Q9,DATA!$B$24:$B$25,DATA!$C$24:$C$25,"error",0,1)/1000) -> 12.349827 | AJ9: =IF(ISBLANK($D9),"",Z9*_xlfn.XLOOKUP(Q9,DATA!$B$24:$B$25,DATA!$C$24:$C$25,"error",0,1)/1000) -> 8.2148634 | AK9: =IF(ISBLANK($D9),"",AB9*_xlfn.XLOOKUP(Q9,DATA!$B$24:$B$25,DATA!$C$24:$C$25,"error",0,1)/1000) -> 1.2500312 | AL9: =SUM(AH9:AK9) -> 43.485936 | AM9: =IF(ISBLANK($D9),"",AG9-AL9) -> 24.40339 | AN9: =IF(ISBLANK($D9),"",$S9*0.0135790158248428/1000) -> 2.3146285 | AO9: =IF(ISBLANK($D9),"",$V9*0.0135790158248428/1000) -> 0.73886153 | AP9: =IF(ISBLANK($D9),"",$X9*0.0135790158248428/1000) -> 0.42105678 | AQ9: =IF(ISBLANK($D9),"",$Z9*0.0135790158248428/1000) -> 0.28007874 | AR9: =IF(ISBLANK($D9),"",$AB9*0.0135790158248428/1000) -> 0.042618745 | AS9: =IF(ISBLANK($D9),"",$AC9*0.0135790158248428/1000) -> 1.4826158 | AT9: =IF(ISBLANK($D9),"",AN9-AS9) -> 0.8320127 | AU9: =IF(ISBLANK($D9),"",$S9*0.000738514285714286/1000) -> 0.1258844 | AV9: =IF(ISBLANK($D9),"",$V9*0.000738514285714286/1000) -> 0.040184046 | AW9: =IF(ISBLANK($D9),"",$X9*0.000738514285714286/1000) -> 0.022899778 | AX9: =IF(ISBLANK($D9),"",$Z9*0.000738514285714286/1000) -> 0.015232485 | AY9: =IF(ISBLANK($D9),"",$AB9*0.000738514285714286/1000) -> 0.0023178817 | AZ9: =IF(ISBLANK($D9),"",$AC9*0.000738514285714286/1000) -> 0.08063419 | BA9: =IF(ISBLANK($D9),"",AU9-AZ9) -> 0.045250206 | BB9: =IF(V9>0,J9*DATA!$C$4,0) -> 66085.5 | BC9: =IF(X9>0,N9*_xlfn.XLOOKUP(Budapest!O9,DATA!$B$5:$B$6,DATA!$C$5:$C$6,"error",0,1),0) -> 16809.6 | BD9: =IF(Z9>0,(L9-M9)*DATA!$C$7,"0,00 ") -> 41745 | BE9: =IF(G9="basement",D9*DATA!$C$8,IF(G9="ground",0,"error")) -> 13600 | BF9: =BB9+BC9+BD9+BE9 -> 138240.1 | BG9: 1.48 | BH9: 2.85 | BI9: =IF(G9="ground",0.57,IF(G9="basement",0.85,"error")) -> 0.85 | BJ9: 2.33 | BK9: =IF(K9="N",1/((1/BG9)+0.15/0.038),BG9) -> 0.21630769 | BL9: =IF(O9="sloped",1/(1/BJ9+0.15/0.04),IF(O9="flat",1/(1/BJ9+0.15/0.034),"error")) -> 0.23928113 | BM9: 1.1 | BN9: =IF(BI9=0.85,1/(1/BI9+0.05/0.038),BI9) -> 0.40124224 | BP9: =D9*BS9 -> 5950 | BQ9: =H9 -> 6 | BR9: =0.32*BP9 -> 1904 | BS9: =I9 -> 17.5 | BT9: =IF(BQ9<=3,0.76*BP9,0.8*BP9) -> 4760 | BU9: =(($D9*$BI9*($BU$1-$BX$1)+$J9*$BG9*($BU$1-$BW$1)+$L9*$BH9*($BU$1-$BW$1)+$N9*$BJ9*($BU$1-$BV$1))*1.05+$BT9*(5.95))/1000 -> 147.91416 | BV9: =(($D9*$BI9*($BU$1-$BX$1)+$J9*$BK9*($BU$1-$BW$1)+$L9*$BH9*($BU$1-$BW$1)+$N9*$BJ9*($BU$1-$BV$1))*1.05+$BT9*(5.95))/1000 -> 100.69791 | BW9: =(($D9*$BI9*($BU$1-$BX$1)+$J9*$BG9*($BU$1-$BW$1)+$L9*$BH9*($BU$1-$BW$1)+$N9*$BL9*($BU$1-$BV$1))*1.05+$BT9*(5.95))/1000 -> 121.00692 | BX9: =(($D9*$BI9*($BU$1-$BX$1)+$J9*$BG9*($BU$1-$BW$1)+$L9*$BM9*($BU$1-$BW$1)+$N9*$BJ9*($BU$1-$BV$1))*1.05+$BT9*(5.95))/1000 -> 130.01599 | BY9: =(($D9*$BN9*($BU$1-$BX$1)+$J9*$BG9*($BU$1-$BW$1)+$L9*$BH9*($BU$1-$BW$1)+$N9*$BJ9*($BU$1-$BV$1))*1.05+$BT9*(5.95))/1000 -> 145.19065 | BZ9: =BU9*1152.4 -> 170456.28 | CA9: =BV9*1152.4 -> 116044.27 | CB9: =BW9*1152.4 -> 139448.38 | CC9: =BX9*1152.4 -> 149830.43 | CD9: =BY9*1152.4 -> 167317.7
A10: 7 | B10: Budapest | C10: Baross utca 101 | D10: 212.5 | E10: =0.8*D10*H10 -> 2040 | F10: 59 | G10: Ground | H10: 12 | I10: 34.5 | J10: =F10*I10-L10 -> 1631.7 | K10: Y | L10: 403.8 | M10: 403.8 | N10: 212.5 | O10: Flat | P10: Y | Q10: District heating | R10: Natural gas | S10: =BZ10 -> 80683.74 | T10: =S10/E10 -> 39.550853 | U10: =CA10 -> 80683.74 | V10: =IF(ISBLANK(D10)," ",S10-U10) -> 0 | W10: =CB10 -> 79774.857 | X10: =IF(ISBLANK(D10)," ",S10-W10) -> 908.8832 | Y10: =CC10 -> 80683.74 | Z10: =IF(ISBLANK(D10)," ",S10-Y10) -> 0 | AA10: =CD10 -> 80683.74 | AB10: =IF(ISBLANK(D10)," ",S10-AA10) -> 0 | AC10: =V10+X10+Z10+AB10 -> 908.8832 | AD10: =IF(ISBLANK(D10)," ",S10-AC10) -> 79774.857 | AE10: =AD10/E10 -> 39.105322 | AF10: =1-AD10/S10 -> 0.011264763 | AG10: =IF(ISBLANK($D10),"",S10*_xlfn.XLOOKUP(Q10,DATA!$B$24:$B$25,DATA!$C$24:$C$25,"error",0,1)/1000) -> 32.13472 | AH10: =IF(ISBLANK($D10),"",V10*_xlfn.XLOOKUP(Q10,DATA!$B$24:$B$25,DATA!$C$24:$C$25,"error",0,1)/1000) -> 0 | AI10: =IF(ISBLANK($D10),"",X10*_xlfn.XLOOKUP(Q10,DATA!$B$24:$B$25,DATA!$C$24:$C$25,"error",0,1)/1000) -> 0.36199 | AJ10: =IF(ISBLANK($D10),"",Z10*_xlfn.XLOOKUP(Q10,DATA!$B$24:$B$25,DATA!$C$24:$C$25,"error",0,1)/1000) -> 0 | AK10: =IF(ISBLANK($D10),"",AB10*_xlfn.XLOOKUP(Q10,DATA!$B$24:$B$25,DATA!$C$24:$C$25,"error",0,1)/1000) -> 0 | AL10: =SUM(AH10:AK10) -> 0.36199 | AM10: =IF(ISBLANK($D10),"",AG10-AL10) -> 31.77273 | AN10: =IF(ISBLANK($D10),"",$S10*0.0135790158248428/1000) -> 1.0956058 | AO10: =IF(ISBLANK($D10),"",$V10*0.0135790158248428/1000) -> 0 | AP10: =IF(ISBLANK($D10),"",$X10*0.0135790158248428/1000) -> 0.012341739 | AQ10: =IF(ISBLANK($D10),"",$Z10*0.0135790158248428/1000) -> 0 | AR10: =IF(ISBLANK($D10),"",$AB10*0.0135790158248428/1000) -> 0 | AS10: =IF(ISBLANK($D10),"",$AC10*0.0135790158248428/1000) -> 0.012341739 | AT10: =IF(ISBLANK($D10),"",AN10-AS10) -> 1.083264 | AU10: =IF(ISBLANK($D10),"",$S10*0.000738514285714286/1000) -> 0.059586095 | AV10: =IF(ISBLANK($D10),"",$V10*0.000738514285714286/1000) -> 0 | AW10: =IF(ISBLANK($D10),"",$X10*0.000738514285714286/1000) -> 0.00067122323 | AX10: =IF(ISBLANK($D10),"",$Z10*0.000738514285714286/1000) -> 0 | AY10: =IF(ISBLANK($D10),"",$AB10*0.000738514285714286/1000) -> 0 | AZ10: =IF(ISBLANK($D10),"",$AC10*0.000738514285714286/1000) -> 0.00067122323 | BA10: =IF(ISBLANK($D10),"",AU10-AZ10) -> 0.058914872 | BB10: =IF(V10>0,J10*DATA!$C$4,0) -> 0 | BC10: =IF(X10>0,N10*_xlfn.XLOOKUP(Budapest!O10,DATA!$B$5:$B$6,DATA!$C$5:$C$6,"error",0,1),0) -> 18062.5 | BD10: =IF(Z10>0,(L10-M10)*DATA!$C$7,"0,00 ") -> 0,00 | BE10: =IF(G10="basement",D10*DATA!$C$8,IF(G10="ground",0,"error")) -> 0 | BF10: =BB10+BC10+BD10+BE10 -> 18062.5 | BG10: 0.25 | BH10: 1.1 | BI10: =IF(G10="ground",0.57,IF(G10="basement",0.85,"error")) -> 0.57 | BJ10: 0.21 | BK10: =IF(K10="N",1/((1/BG10)+0.15/0.038),BG10) -> 0.25 | BL10: =IF(O10="sloped",1/(1/BJ10+0.15/0.04),IF(O10="flat",1/(1/BJ10+0.15/0.034),"error")) -> 0.10900763 | BM10: 1.1 | BN10: =IF(BI10=0.85,1/(1/BI10+0.05/0.038),BI10) -> 0.57 | BP10: =D10*BS10 -> 7331.25 | BQ10: =H10 -> 12 | BR10: =0.32*BP10 -> 2346 | BS10: =I10 -> 34.5 | BT10: =IF(BQ10<=3,0.76*BP10,0.8*BP10) -> 5865 | BU10: =(($D10*$BI10*($BU$1-$BX$1)+$J10*$BG10*($BU$1-$BW$1)+$L10*$BH10*($BU$1-$BW$1)+$N10*$BJ10*($BU$1-$BV$1))*1.05+$BT10*(5.95))/1000 -> 70.013659 | BV10: =(($D10*$BI10*($BU$1-$BX$1)+$J10*$BK10*($BU$1-$BW$1)+$L10*$BH10*($BU$1-$BW$1)+$N10*$BJ10*($BU$1-$BV$1))*1.05+$BT10*(5.95))/1000 -> 70.013659 | BW10: =(($D10*$BI10*($BU$1-$BX$1)+$J10*$BG10*($BU$1-$BW$1)+$L10*$BH10*($BU$1-$BW$1)+$N10*$BL10*($BU$1-$BV$1))*1.05+$BT10*(5.95))/1000 -> 69.224971 | BX10: =(($D10*$BI10*($BU$1-$BX$1)+$J10*$BG10*($BU$1-$BW$1)+$L10*$BM10*($BU$1-$BW$1)+$N10*$BJ10*($BU$1-$BV$1))*1.05+$BT10*(5.95))/1000 -> 70.013659 | BY10: =(($D10*$BN10*($BU$1-$BX$1)+$J10*$BG10*($BU$1-$BW$1)+$L10*$BH10*($BU$1-$BW$1)+$N10*$BJ10*($BU$1-$BV$1))*1.05+$BT10*(5.95))/1000 -> 70.013659 | BZ10: =BU10*1152.4 -> 80683.74 | CA10: =BV10*1152.4 -> 80683.74 | CB10: =BW10*1152.4 -> 79774.857 | CC10: =BX10*1152.4 -> 80683.74 | CD10: =BY10*1152.4 -> 80683.74
A11: 8 | B11: Budapest | C11: Baross utca 101A | D11: 212.5 | E11: =0.8*D11*H11 -> 2040 | F11: 59 | G11: Ground | H11: 12 | I11: 34.5 | J11: =F11*I11-L11 -> 1628 | K11: Y | L11: 407.5 | M11: 407.5 | N11: 212.5 | O11: Flat | P11: Y | Q11: District heating | R11: Natural gas | S11: =BZ11 -> 80816.933 | T11: =S11/E11 -> 39.616144 | U11: =CA11 -> 80816.933 | V11: =IF(ISBLANK(D11)," ",S11-U11) -> 0 | W11: =CB11 -> 79908.05 | X11: =IF(ISBLANK(D11)," ",S11-W11) -> 908.8832 | Y11: =CC11 -> 80816.933 | Z11: =IF(ISBLANK(D11)," ",S11-Y11) -> 0 | AA11: =CD11 -> 80816.933 | AB11: =IF(ISBLANK(D11)," ",S11-AA11) -> 0 | AC11: =V11+X11+Z11+AB11 -> 908.8832 | AD11: =IF(ISBLANK(D11)," ",S11-AC11) -> 79908.05 | AE11: =AD11/E11 -> 39.170613 | AF11: =1-AD11/S11 -> 0.011246198 | AG11: =IF(ISBLANK($D11),"",S11*_xlfn.XLOOKUP(Q11,DATA!$B$24:$B$25,DATA!$C$24:$C$25,"error",0,1)/1000) -> 32.187768 | AH11: =IF(ISBLANK($D11),"",V11*_xlfn.XLOOKUP(Q11,DATA!$B$24:$B$25,DATA!$C$24:$C$25,"error",0,1)/1000) -> 0 | AI11: =IF(ISBLANK($D11),"",X11*_xlfn.XLOOKUP(Q11,DATA!$B$24:$B$25,DATA!$C$24:$C$25,"error",0,1)/1000) -> 0.36199 | AJ11: =IF(ISBLANK($D11),"",Z11*_xlfn.XLOOKUP(Q11,DATA!$B$24:$B$25,DATA!$C$24:$C$25,"error",0,1)/1000) -> 0 | AK11: =IF(ISBLANK($D11),"",AB11*_xlfn.XLOOKUP(Q11,DATA!$B$24:$B$25,DATA!$C$24:$C$25,"error",0,1)/1000) -> 0 | AL11: =SUM(AH11:AK11) -> 0.36199 | AM11: =IF(ISBLANK($D11),"",AG11-AL11) -> 31.825778 | AN11: =IF(ISBLANK($D11),"",$S11*0.0135790158248428/1000) -> 1.0974144 | AO11: =IF(ISBLANK($D11),"",$V11*0.0135790158248428/1000) -> 0 | AP11: =IF(ISBLANK($D11),"",$X11*0.0135790158248428/1000) -> 0.012341739 | AQ11: =IF(ISBLANK($D11),"",$Z11*0.0135790158248428/1000) -> 0 | AR11: =IF(ISBLANK($D11),"",$AB11*0.0135790158248428/1000) -> 0 | AS11: =IF(ISBLANK($D11),"",$AC11*0.0135790158248428/1000) -> 0.012341739 | AT11: =IF(ISBLANK($D11),"",AN11-AS11) -> 1.0850727 | AU11: =IF(ISBLANK($D11),"",$S11*0.000738514285714286/1000) -> 0.05968446 | AV11: =IF(ISBLANK($D11),"",$V11*0.000738514285714286/1000) -> 0 | AW11: =IF(ISBLANK($D11),"",$X11*0.000738514285714286/1000) -> 0.00067122323 | AX11: =IF(ISBLANK($D11),"",$Z11*0.000738514285714286/1000) -> 0 | AY11: =IF(ISBLANK($D11),"",$AB11*0.000738514285714286/1000) -> 0 | AZ11: =IF(ISBLANK($D11),"",$AC11*0.000738514285714286/1000) -> 0.00067122323 | BA11: =IF(ISBLANK($D11),"",AU11-AZ11) -> 0.059013237 | BB11: =IF(V11>0,J11*DATA!$C$4,0) -> 0 | BC11: =IF(X11>0,N11*_xlfn.XLOOKUP(Budapest!O11,DATA!$B$5:$B$6,DATA!$C$5:$C$6,"error",0,1),0) -> 18062.5 | BD11: =IF(Z11>0,(L11-M11)*DATA!$C$7,"0,00 ") -> 0,00 | BE11: =IF(G11="basement",D11*DATA!$C$8,IF(G11="ground",0,"error")) -> 0 | BF11: =BB11+BC11+BD11+BE11 -> 18062.5 | BG11: 0.25 | BH11: 1.1 | BI11: =IF(G11="ground",0.57,IF(G11="basement",0.85,"error")) -> 0.57 | BJ11: 0.21 | BK11: =IF(K11="N",1/((1/BG11)+0.15/0.038),BG11) -> 0.25 | BL11: =IF(O11="sloped",1/(1/BJ11+0.15/0.04),IF(O11="flat",1/(1/BJ11+0.15/0.034),"error")) -> 0.10900763 | BM11: 1.1 | BN11: =IF(BI11=0.85,1/(1/BI11+0.05/0.038),BI11) -> 0.57 | BP11: =D11*BS11 -> 7331.25 | BQ11: =H11 -> 12 | BR11: =0.32*BP11 -> 2346 | BS11: =I11 -> 34.5 | BT11: =IF(BQ11<=3,0.76*BP11,0.8*BP11) -> 5865 | BU11: =(($D11*$BI11*($BU$1-$BX$1)+$J11*$BG11*($BU$1-$BW$1)+$L11*$BH11*($BU$1-$BW$1)+$N11*$BJ11*($BU$1-$BV$1))*1.05+$BT11*(5.95))/1000 -> 70.129238 | BV11: =(($D11*$BI11*($BU$1-$BX$1)+$J11*$BK11*($BU$1-$BW$1)+$L11*$BH11*($BU$1-$BW$1)+$N11*$BJ11*($BU$1-$BV$1))*1.05+$BT11*(5.95))/1000 -> 70.129238 | BW11: =(($D11*$BI11*($BU$1-$BX$1)+$J11*$BG11*($BU$1-$BW$1)+$L11*$BH11*($BU$1-$BW$1)+$N11*$BL11*($BU$1-$BV$1))*1.05+$BT11*(5.95))/1000 -> 69.34055 | BX11: =(($D11*$BI11*($BU$1-$BX$1)+$J11*$BG11*($BU$1-$BW$1)+$L11*$BM11*($BU$1-$BW$1)+$N11*$BJ11*($BU$1-$BV$1))*1.05+$BT11*(5.95))/1000 -> 70.129238 | BY11: =(($D11*$BN11*($BU$1-$BX$1)+$J11*$BG11*($BU$1-$BW$1)+$L11*$BH11*($BU$1-$BW$1)+$N11*$BJ11*($BU$1-$BV$1))*1.05+$BT11*(5.95))/1000 -> 70.129238 | BZ11: =BU11*1152.4 -> 80816.933 | CA11: =BV11*1152.4 -> 80816.933 | CB11: =BW11*1152.4 -> 79908.05 | CC11: =BX11*1152.4 -> 80816.933 | CD11: =BY11*1152.4 -> 80816.933
A12: 9 | B12: Budapest | C12: Baross utca 103 | D12: 340 | E12: =0.8*D12*H12 -> 3264 | F12: 74 | G12: Ground | H12: 12 | I12: 34.5 | J12: =F12*I12-L12 -> 2012.2 | K12: Y | L12: 540.8 | M12: 540.8 | N12: 340 | O12: Flat | P12: Y | Q12: District heating | R12: Natural gas | S12: =BZ12 -> 117852.5 | T12: =S12/E12 -> 36.106771 | U12: =CA12 -> 117852.5 | V12: =IF(ISBLANK(D12)," ",S12-U12) -> 0 | W12: =CB12 -> 116398.29 | X12: =IF(ISBLANK(D12)," ",S12-W12) -> 1454.2131 | Y12: =CC12 -> 117852.5 | Z12: =IF(ISBLANK(D12)," ",S12-Y12) -> 0 | AA12: =CD12 -> 117852.5 | AB12: =IF(ISBLANK(D12)," ",S12-AA12) -> 0 | AC12: =V12+X12+Z12+AB12 -> 1454.2131 | AD12: =IF(ISBLANK(D12)," ",S12-AC12) -> 116398.29 | AE12: =AD12/E12 -> 35.66124 | AF12: =1-AD12/S12 -> 0.012339264 | AG12: =IF(ISBLANK($D12),"",S12*_xlfn.XLOOKUP(Q12,DATA!$B$24:$B$25,DATA!$C$24:$C$25,"error",0,1)/1000) -> 46.938293 | AH12: =IF(ISBLANK($D12),"",V12*_xlfn.XLOOKUP(Q12,DATA!$B$24:$B$25,DATA!$C$24:$C$25,"error",0,1)/1000) -> 0 | AI12: =IF(ISBLANK($D12),"",X12*_xlfn.XLOOKUP(Q12,DATA!$B$24:$B$25,DATA!$C$24:$C$25,"error",0,1)/1000) -> 0.579184 | AJ12: =IF(ISBLANK($D12),"",Z12*_xlfn.XLOOKUP(Q12,DATA!$B$24:$B$25,DATA!$C$24:$C$25,"error",0,1)/1000) -> 0 | AK12: =IF(ISBLANK($D12),"",AB12*_xlfn.XLOOKUP(Q12,DATA!$B$24:$B$25,DATA!$C$24:$C$25,"error",0,1)/1000) -> 0 | AL12: =SUM(AH12:AK12) -> 0.579184 | AM12: =IF(ISBLANK($D12),"",AG12-AL12) -> 46.359109 | AN12: =IF(ISBLANK($D12),"",$S12*0.0135790158248428/1000) -> 1.600321 | AO12: =IF(ISBLANK($D12),"",$V12*0.0135790158248428/1000) -> 0 | AP12: =IF(ISBLANK($D12),"",$X12*0.0135790158248428/1000) -> 0.019746783 | AQ12: =IF(ISBLANK($D12),"",$Z12*0.0135790158248428/1000) -> 0 | AR12: =IF(ISBLANK($D12),"",$AB12*0.0135790158248428/1000) -> 0 | AS12: =IF(ISBLANK($D12),"",$AC12*0.0135790158248428/1000) -> 0.019746783 | AT12: =IF(ISBLANK($D12),"",AN12-AS12) -> 1.5805742 | AU12: =IF(ISBLANK($D12),"",$S12*0.000738514285714286/1000) -> 0.087035754 | AV12: =IF(ISBLANK($D12),"",$V12*0.000738514285714286/1000) -> 0 | AW12: =IF(ISBLANK($D12),"",$X12*0.000738514285714286/1000) -> 0.0010739572 | AX12: =IF(ISBLANK($D12),"",$Z12*0.000738514285714286/1000) -> 0 | AY12: =IF(ISBLANK($D12),"",$AB12*0.000738514285714286/1000) -> 0 | AZ12: =IF(ISBLANK($D12),"",$AC12*0.000738514285714286/1000) -> 0.0010739572 | BA12: =IF(ISBLANK($D12),"",AU12-AZ12) -> 0.085961797 | BB12: =IF(V12>0,J12*DATA!$C$4,0) -> 0 | BC12: =IF(X12>0,N12*_xlfn.XLOOKUP(Budapest!O12,DATA!$B$5:$B$6,DATA!$C$5:$C$6,"error",0,1),0) -> 28900 | BD12: =IF(Z12>0,(L12-M12)*DATA!$C$7,"0,00 ") -> 0,00 | BE12: =IF(G12="basement",D12*DATA!$C$8,IF(G12="ground",0,"error")) -> 0 | BF12: =BB12+BC12+BD12+BE12 -> 28900 | BG12: 0.25 | BH12: 1.1 | BI12: =IF(G12="ground",0.57,IF(G12="basement",0.85,"error")) -> 0.57 | BJ12: 0.21 | BK12: =IF(K12="N",1/((1/BG12)+0.15/0.038),BG12) -> 0.25 | BL12: =IF(O12="sloped",1/(1/BJ12+0.15/0.04),IF(O12="flat",1/(1/BJ12+0.15/0.034),"error")) -> 0.10900763 | BM12: 1.1 | BN12: =IF(BI12=0.85,1/(1/BI12+0.05/0.038),BI12) -> 0.57 | BP12: =D12*BS12 -> 11730 | BQ12: =H12 -> 12 | BR12: =0.32*BP12 -> 3753.6 | BS12: =I12 -> 34.5 | BT12: =IF(BQ12<=3,0.76*BP12,0.8*BP12) -> 9384 | BU12: =(($D12*$BI12*($BU$1-$BX$1)+$J12*$BG12*($BU$1-$BW$1)+$L12*$BH12*($BU$1-$BW$1)+$N12*$BJ12*($BU$1-$BV$1))*1.05+$BT12*(5.95))/1000 -> 102.26701 | BV12: =(($D12*$BI12*($BU$1-$BX$1)+$J12*$BK12*($BU$1-$BW$1)+$L12*$BH12*($BU$1-$BW$1)+$N12*$BJ12*($BU$1-$BV$1))*1.05+$BT12*(5.95))/1000 -> 102.26701 | BW12: =(($D12*$BI12*($BU$1-$BX$1)+$J12*$BG12*($BU$1-$BW$1)+$L12*$BH12*($BU$1-$BW$1)+$N12*$BL12*($BU$1-$BV$1))*1.05+$BT12*(5.95))/1000 -> 101.00511 | BX12: =(($D12*$BI12*($BU$1-$BX$1)+$J12*$BG12*($BU$1-$BW$1)+$L12*$BM12*($BU$1-$BW$1)+$N12*$BJ12*($BU$1-$BV$1))*1.05+$BT12*(5.95))/1000 -> 102.26701 | BY12: =(($D12*$BN12*($BU$1-$BX$1)+$J12*$BG12*($BU$1-$BW$1)+$L12*$BH12*($BU$1-$BW$1)+$N12*$BJ12*($BU$1-$BV$1))*1.05+$BT12*(5.95))/1000 -> 102.26701 | BZ12: =BU12*1152.4 -> 117852.5 | CA12: =BV12*1152.4 -> 117852.5 | CB12: =BW12*1152.4 -> 116398.29 | CC12: =BX12*1152.4 -> 117852.5 | CD12: =BY12*1152.4 -> 117852.5
A13: 10 | B13: Budapest | C13: Baross utca 103A, 103B | D13: 300 | E13: =0.8*D13*H13 -> 2880 | F13: 70 | G13: Ground | H13: 12 | I13: 34.5 | J13: =F13*I13-L13 -> 1811.2 | K13: Y | L13: 603.8 | M13: 603.8 | N13: 340 | O13: Flat | P13: Y | Q13: District heating | R13: Natural gas | S13: =BZ13 -> 110620.39 | T13: =S13/E13 -> 38.409858 | U13: =CA13 -> 110620.39 | V13: =IF(ISBLANK(D13)," ",S13-U13) -> 0 | W13: =CB13 -> 109166.18 | X13: =IF(ISBLANK(D13)," ",S13-W13) -> 1454.2131 | Y13: =CC13 -> 110620.39 | Z13: =IF(ISBLANK(D13)," ",S13-Y13) -> 0 | AA13: =CD13 -> 110620.39 | AB13: =IF(ISBLANK(D13)," ",S13-AA13) -> 0 | AC13: =V13+X13+Z13+AB13 -> 1454.2131 | AD13: =IF(ISBLANK(D13)," ",S13-AC13) -> 109166.18 | AE13: =AD13/E13 -> 37.904923 | AF13: =1-AD13/S13 -> 0.013145977 | AG13: =IF(ISBLANK($D13),"",S13*_xlfn.XLOOKUP(Q13,DATA!$B$24:$B$25,DATA!$C$24:$C$25,"error",0,1)/1000) -> 44.057889 | AH13: =IF(ISBLANK($D13),"",V13*_xlfn.XLOOKUP(Q13,DATA!$B$24:$B$25,DATA!$C$24:$C$25,"error",0,1)/1000) -> 0 | AI13: =IF(ISBLANK($D13),"",X13*_xlfn.XLOOKUP(Q13,DATA!$B$24:$B$25,DATA!$C$24:$C$25,"error",0,1)/1000) -> 0.579184 | AJ13: =IF(ISBLANK($D13),"",Z13*_xlfn.XLOOKUP(Q13,DATA!$B$24:$B$25,DATA!$C$24:$C$25,"error",0,1)/1000) -> 0 | AK13: =IF(ISBLANK($D13),"",AB13*_xlfn.XLOOKUP(Q13,DATA!$B$24:$B$25,DATA!$C$24:$C$25,"error",0,1)/1000) -> 0 | AL13: =SUM(AH13:AK13) -> 0.579184 | AM13: =IF(ISBLANK($D13),"",AG13-AL13) -> 43.478705 | AN13: =IF(ISBLANK($D13),"",$S13*0.0135790158248428/1000) -> 1.502116 | AO13: =IF(ISBLANK($D13),"",$V13*0.0135790158248428/1000) -> 0 | AP13: =IF(ISBLANK($D13),"",$X13*0.0135790158248428/1000) -> 0.019746783 | AQ13: =IF(ISBLANK($D13),"",$Z13*0.0135790158248428/1000) -> 0 | AR13: =IF(ISBLANK($D13),"",$AB13*0.0135790158248428/1000) -> 0 | AS13: =IF(ISBLANK($D13),"",$AC13*0.0135790158248428/1000) -> 0.019746783 | AT13: =IF(ISBLANK($D13),"",AN13-AS13) -> 1.4823693 | AU13: =IF(ISBLANK($D13),"",$S13*0.000738514285714286/1000) -> 0.081694739 | AV13: =IF(ISBLANK($D13),"",$V13*0.000738514285714286/1000) -> 0 | AW13: =IF(ISBLANK($D13),"",$X13*0.000738514285714286/1000) -> 0.0010739572 | AX13: =IF(ISBLANK($D13),"",$Z13*0.000738514285714286/1000) -> 0 | AY13: =IF(ISBLANK($D13),"",$AB13*0.000738514285714286/1000) -> 0 | AZ13: =IF(ISBLANK($D13),"",$AC13*0.000738514285714286/1000) -> 0.0010739572 | BA13: =IF(ISBLANK($D13),"",AU13-AZ13) -> 0.080620782 | BB13: =IF(V13>0,J13*DATA!$C$4,0) -> 0 | BC13: =IF(X13>0,N13*_xlfn.XLOOKUP(Budapest!O13,DATA!$B$5:$B$6,DATA!$C$5:$C$6,"error",0,1),0) -> 28900 | BD13: =IF(Z13>0,(L13-M13)*DATA!$C$7,"0,00 ") -> 0,00 | BE13: =IF(G13="basement",D13*DATA!$C$8,IF(G13="ground",0,"error")) -> 0 | BF13: =BB13+BC13+BD13+BE13 -> 28900 | BG13: 0.25 | BH13: 1.1 | BI13: =IF(G13="ground",0.57,IF(G13="basement",0.85,"error")) -> 0.57 | BJ13: 0.21 | BK13: =IF(K13="N",1/((1/BG13)+0.15/0.038),BG13) -> 0.25 | BL13: =IF(O13="sloped",1/(1/BJ13+0.15/0.04),IF(O13="flat",1/(1/BJ13+0.15/0.034),"error")) -> 0.10900763 | BM13: 1.1 | BN13: =IF(BI13=0.85,1/(1/BI13+0.05/0.038),BI13) -> 0.57 | BP13: =D13*BS13 -> 10350 | BQ13: =H13 -> 12 | BR13: =0.32*BP13 -> 3312 | BS13: =I13 -> 34.5 | BT13: =IF(BQ13<=3,0.76*BP13,0.8*BP13) -> 8280 | BU13: =(($D13*$BI13*($BU$1-$BX$1)+$J13*$BG13*($BU$1-$BW$1)+$L13*$BH13*($BU$1-$BW$1)+$N13*$BJ13*($BU$1-$BV$1))*1.05+$BT13*(5.95))/1000 -> 95.991315 | BV13: =(($D13*$BI13*($BU$1-$BX$1)+$J13*$BK13*($BU$1-$BW$1)+$L13*$BH13*($BU$1-$BW$1)+$N13*$BJ13*($BU$1-$BV$1))*1.05+$BT13*(5.95))/1000 -> 95.991315 | BW13: =(($D13*$BI13*($BU$1-$BX$1)+$J13*$BG13*($BU$1-$BW$1)+$L13*$BH13*($BU$1-$BW$1)+$N13*$BL13*($BU$1-$BV$1))*1.05+$BT13*(5.95))/1000 -> 94.729415 | BX13: =(($D13*$BI13*($BU$1-$BX$1)+$J13*$BG13*($BU$1-$BW$1)+$L13*$BM13*($BU$1-$BW$1)+$N13*$BJ13*($BU$1-$BV$1))*1.05+$BT13*(5.95))/1000 -> 95.991315 | BY13: =(($D13*$BN13*($BU$1-$BX$1)+$J13*$BG13*($BU$1-$BW$1)+$L13*$BH13*($BU$1-$BW$1)+$N13*$BJ13*($BU$1-$BV$1))*1.05+$BT13*(5.95))/1000 -> 95.991315 | BZ13: =BU13*1152.4 -> 110620.39 | CA13: =BV13*1152.4 -> 110620.39 | CB13: =BW13*1152.4 -> 109166.18 | CC13: =BX13*1152.4 -> 110620.39 | CD13: =BY13*1152.4 -> 110620.39
A14: 11 | B14: Budapest | C14: Baross utca 105 | D14: 330.8 | E14: =0.8*D14*H14 -> 1058.56 | F14: 52 | G14: Ground | H14: 4 | I14: 14.5 | J14: =F14*I14-L14 -> 633.36 | K14: N | L14: 120.64 | M14: 0 | N14: 340.724 | O14: Sloped | P14: N | Q14: Individual | R14: Natural gas | S14: =BZ14 -> 118071.29 | T14: =S14/E14 -> 111.53954 | U14: =CA14 -> 84174.973 | V14: =IF(ISBLANK(D14)," ",S14-U14) -> 33896.321 | W14: =CB14 -> 87902.43 | X14: =IF(ISBLANK(D14)," ",S14-W14) -> 30168.864 | Y14: =CC14 -> 109130.21 | Z14: =IF(ISBLANK(D14)," ",S14-Y14) -> 8941.0798 | AA14: =CD14 -> 118071.29 | AB14: =IF(ISBLANK(D14)," ",S14-AA14) -> 0 | AC14: =V14+X14+Z14+AB14 -> 73006.265 | AD14: =IF(ISBLANK(D14)," ",S14-AC14) -> 45065.029 | AE14: =AD14/E14 -> 42.572012 | AF14: =1-AD14/S14 -> 0.61832358 | AG14: =IF(ISBLANK($D14),"",S14*_xlfn.XLOOKUP(Q14,DATA!$B$24:$B$25,DATA!$C$24:$C$25,"error",0,1)/1000) -> 23.726427 | AH14: =IF(ISBLANK($D14),"",V14*_xlfn.XLOOKUP(Q14,DATA!$B$24:$B$25,DATA!$C$24:$C$25,"error",0,1)/1000) -> 6.8114658 | AI14: =IF(ISBLANK($D14),"",X14*_xlfn.XLOOKUP(Q14,DATA!$B$24:$B$25,DATA!$C$24:$C$25,"error",0,1)/1000) -> 6.0624332 | AJ14: =IF(ISBLANK($D14),"",Z14*_xlfn.XLOOKUP(Q14,DATA!$B$24:$B$25,DATA!$C$24:$C$25,"error",0,1)/1000) -> 1.79671 | AK14: =IF(ISBLANK($D14),"",AB14*_xlfn.XLOOKUP(Q14,DATA!$B$24:$B$25,DATA!$C$24:$C$25,"error",0,1)/1000) -> 0 | AL14: =SUM(AH14:AK14) -> 14.670609 | AM14: =IF(ISBLANK($D14),"",AG14-AL14) -> 9.0558175 | AN14: =IF(ISBLANK($D14),"",$S14*0.0135790158248428/1000) -> 1.603292 | AO14: =IF(ISBLANK($D14),"",$V14*0.0135790158248428/1000) -> 0.46027868 | AP14: =IF(ISBLANK($D14),"",$X14*0.0135790158248428/1000) -> 0.40966348 | AQ14: =IF(ISBLANK($D14),"",$Z14*0.0135790158248428/1000) -> 0.12141106 | AR14: =IF(ISBLANK($D14),"",$AB14*0.0135790158248428/1000) -> 0 | AS14: =IF(ISBLANK($D14),"",$AC14*0.0135790158248428/1000) -> 0.99135323 | AT14: =IF(ISBLANK($D14),"",AN14-AS14) -> 0.61193874 | AU14: =IF(ISBLANK($D14),"",$S14*0.000738514285714286/1000) -> 0.087197337 | AV14: =IF(ISBLANK($D14),"",$V14*0.000738514285714286/1000) -> 0.025032917 | AW14: =IF(ISBLANK($D14),"",$X14*0.000738514285714286/1000) -> 0.022280137 | AX14: =IF(ISBLANK($D14),"",$Z14*0.000738514285714286/1000) -> 0.0066031152 | AY14: =IF(ISBLANK($D14),"",$AB14*0.000738514285714286/1000) -> 0 | AZ14: =IF(ISBLANK($D14),"",$AC14*0.000738514285714286/1000) -> 0.05391617 | BA14: =IF(ISBLANK($D14),"",AU14-AZ14) -> 0.033281168 | BB14: =IF(V14>0,J14*DATA!$C$4,0) -> 41168.4 | BC14: =IF(X14>0,N14*_xlfn.XLOOKUP(Budapest!O14,DATA!$B$5:$B$6,DATA!$C$5:$C$6,"error",0,1),0) -> 16354.752 | BD14: =IF(Z14>0,(L14-M14)*DATA!$C$7,"0,00 ") -> 18096 | BE14: =IF(G14="basement",D14*DATA!$C$8,IF(G14="ground",0,"error")) -> 0 | BF14: =BB14+BC14+BD14+BE14 -> 75619.152 | BG14: 1.48 | BH14: 2.85 | BI14: =IF(G14="ground",0.57,IF(G14="basement",0.85,"error")) -> 0.57 | BJ14: 2.33 | BK14: =IF(K14="N",1/((1/BG14)+0.15/0.038),BG14) -> 0.21630769 | BL14: =IF(O14="sloped",1/(1/BJ14+0.15/0.04),IF(O14="flat",1/(1/BJ14+0.15/0.034),"error")) -> 0.23928113 | BM14: 1.1 | BN14: =IF(BI14=0.85,1/(1/BI14+0.05/0.038),BI14) -> 0.57 | BP14: =D14*BS14 -> 4796.6 | BQ14: =H14 -> 4 | BR14: =0.32*BP14 -> 1534.912 | BS14: =I14 -> 14.5 | BT14: =IF(BQ14<=3,0.76*BP14,0.8*BP14) -> 3837.28 | BU14: =(($D14*$BI14*($BU$1-$BX$1)+$J14*$BG14*($BU$1-$BW$1)+$L14*$BH14*($BU$1-$BW$1)+$N14*$BJ14*($BU$1-$BV$1))*1.05+$BT14*(5.95))/1000 -> 102.45687 | BV14: =(($D14*$BI14*($BU$1-$BX$1)+$J14*$BK14*($BU$1-$BW$1)+$L14*$BH14*($BU$1-$BW$1)+$N14*$BJ14*($BU$1-$BV$1))*1.05+$BT14*(5.95))/1000 -> 73.04319 | BW14: =(($D14*$BI14*($BU$1-$BX$1)+$J14*$BG14*($BU$1-$BW$1)+$L14*$BH14*($BU$1-$BW$1)+$N14*$BL14*($BU$1-$BV$1))*1.05+$BT14*(5.95))/1000 -> 76.277707 | BX14: =(($D14*$BI14*($BU$1-$BX$1)+$J14*$BG14*($BU$1-$BW$1)+$L14*$BM14*($BU$1-$BW$1)+$N14*$BJ14*($BU$1-$BV$1))*1.05+$BT14*(5.95))/1000 -> 94.698207 | BY14: =(($D14*$BN14*($BU$1-$BX$1)+$J14*$BG14*($BU$1-$BW$1)+$L14*$BH14*($BU$1-$BW$1)+$N14*$BJ14*($BU$1-$BV$1))*1.05+$BT14*(5.95))/1000 -> 102.45687 | BZ14: =BU14*1152.4 -> 118071.29 | CA14: =BV14*1152.4 -> 84174.973 | CB14: =BW14*1152.4 -> 87902.43 | CC14: =BX14*1152.4 -> 109130.21 | CD14: =BY14*1152.4 -> 118071.29
A15: 12 | B15: Budapest | C15: Baross utca 107 | D15: 266.5 | E15: =0.8*D15*H15 -> 426.4 | F15: 66 | G15: Ground | H15: 2 | I15: 8.5 | J15: =F15*I15-L15 -> 460.1 | K15: N | L15: 100.9 | M15: 0 | N15: 274.495 | O15: Sloped | P15: N | Q15: Individual | R15: Natural gas | S15: =BZ15 -> 83032.884 | T15: =S15/E15 -> 194.73003 | U15: =CA15 -> 58409.135 | V15: =IF(ISBLANK(D15)," ",S15-U15) -> 24623.749 | W15: =CB15 -> 58728.161 | X15: =IF(ISBLANK(D15)," ",S15-W15) -> 24304.723 | Y15: =CC15 -> 75554.809 | Z15: =IF(ISBLANK(D15)," ",S15-Y15) -> 7478.0749 | AA15: =CD15 -> 83032.884 | AB15: =IF(ISBLANK(D15)," ",S15-AA15) -> 0 | AC15: =V15+X15+Z15+AB15 -> 56406.546 | AD15: =IF(ISBLANK(D15)," ",S15-AC15) -> 26626.338 | AE15: =AD15/E15 -> 62.444507 | AF15: =1-AD15/S15 -> 0.6793278 | AG15: =IF(ISBLANK($D15),"",S15*_xlfn.XLOOKUP(Q15,DATA!$B$24:$B$25,DATA!$C$24:$C$25,"error",0,1)/1000) -> 16.685458 | AH15: =IF(ISBLANK($D15),"",V15*_xlfn.XLOOKUP(Q15,DATA!$B$24:$B$25,DATA!$C$24:$C$25,"error",0,1)/1000) -> 4.9481423 | AI15: =IF(ISBLANK($D15),"",X15*_xlfn.XLOOKUP(Q15,DATA!$B$24:$B$25,DATA!$C$24:$C$25,"error",0,1)/1000) -> 4.884034 | AJ15: =IF(ISBLANK($D15),"",Z15*_xlfn.XLOOKUP(Q15,DATA!$B$24:$B$25,DATA!$C$24:$C$25,"error",0,1)/1000) -> 1.5027191 | AK15: =IF(ISBLANK($D15),"",AB15*_xlfn.XLOOKUP(Q15,DATA!$B$24:$B$25,DATA!$C$24:$C$25,"error",0,1)/1000) -> 0 | AL15: =SUM(AH15:AK15) -> 11.334895 | AM15: =IF(ISBLANK($D15),"",AG15-AL15) -> 5.3505626 | AN15: =IF(ISBLANK($D15),"",$S15*0.0135790158248428/1000) -> 1.1275048 | AO15: =IF(ISBLANK($D15),"",$V15*0.0135790158248428/1000) -> 0.33436627 | AP15: =IF(ISBLANK($D15),"",$X15*0.0135790158248428/1000) -> 0.33003421 | AQ15: =IF(ISBLANK($D15),"",$Z15*0.0135790158248428/1000) -> 0.1015449 | AR15: =IF(ISBLANK($D15),"",$AB15*0.0135790158248428/1000) -> 0 | AS15: =IF(ISBLANK($D15),"",$AC15*0.0135790158248428/1000) -> 0.76594538 | AT15: =IF(ISBLANK($D15),"",AN15-AS15) -> 0.36155946 | AU15: =IF(ISBLANK($D15),"",$S15*0.000738514285714286/1000) -> 0.061320971 | AV15: =IF(ISBLANK($D15),"",$V15*0.000738514285714286/1000) -> 0.01818499 | AW15: =IF(ISBLANK($D15),"",$X15*0.000738514285714286/1000) -> 0.017949385 | AX15: =IF(ISBLANK($D15),"",$Z15*0.000738514285714286/1000) -> 0.0055226651 | AY15: =IF(ISBLANK($D15),"",$AB15*0.000738514285714286/1000) -> 0 | AZ15: =IF(ISBLANK($D15),"",$AC15*0.000738514285714286/1000) -> 0.04165704 | BA15: =IF(ISBLANK($D15),"",AU15-AZ15) -> 0.019663931 | BB15: =IF(V15>0,J15*DATA!$C$4,0) -> 29906.5 | BC15: =IF(X15>0,N15*_xlfn.XLOOKUP(Budapest!O15,DATA!$B$5:$B$6,DATA!$C$5:$C$6,"error",0,1),0) -> 13175.76 | BD15: =IF(Z15>0,(L15-M15)*DATA!$C$7,"0,00 ") -> 15135 | BE15: =IF(G15="basement",D15*DATA!$C$8,IF(G15="ground",0,"error")) -> 0 | BF15: =BB15+BC15+BD15+BE15 -> 58217.26 | BG15: 1.48 | BH15: 2.85 | BI15: =IF(G15="ground",0.57,IF(G15="basement",0.85,"error")) -> 0.57 | BJ15: 2.33 | BK15: =IF(K15="N",1/((1/BG15)+0.15/0.038),BG15) -> 0.21630769 | BL15: =IF(O15="sloped",1/(1/BJ15+0.15/0.04),IF(O15="flat",1/(1/BJ15+0.15/0.034),"error")) -> 0.23928113 | BM15: 1.1 | BN15: =IF(BI15=0.85,1/(1/BI15+0.05/0.038),BI15) -> 0.57 | BP15: =D15*BS15 -> 2265.25 | BQ15: =H15 -> 2 | BR15: =0.32*BP15 -> 724.88 | BS15: =I15 -> 8.5 | BT15: =IF(BQ15<=3,0.76*BP15,0.8*BP15) -> 1721.59 | BU15: =(($D15*$BI15*($BU$1-$BX$1)+$J15*$BG15*($BU$1-$BW$1)+$L15*$BH15*($BU$1-$BW$1)+$N15*$BJ15*($BU$1-$BV$1))*1.05+$BT15*(5.95))/1000 -> 72.052138 | BV15: =(($D15*$BI15*($BU$1-$BX$1)+$J15*$BK15*($BU$1-$BW$1)+$L15*$BH15*($BU$1-$BW$1)+$N15*$BJ15*($BU$1-$BV$1))*1.05+$BT15*(5.95))/1000 -> 50.684776 | BW15: =(($D15*$BI15*($BU$1-$BX$1)+$J15*$BG15*($BU$1-$BW$1)+$L15*$BH15*($BU$1-$BW$1)+$N15*$BL15*($BU$1-$BV$1))*1.05+$BT15*(5.95))/1000 -> 50.961612 | BX15: =(($D15*$BI15*($BU$1-$BX$1)+$J15*$BG15*($BU$1-$BW$1)+$L15*$BM15*($BU$1-$BW$1)+$N15*$BJ15*($BU$1-$BV$1))*1.05+$BT15*(5.95))/1000 -> 65.563007 | BY15: =(($D15*$BN15*($BU$1-$BX$1)+$J15*$BG15*($BU$1-$BW$1)+$L15*$BH15*($BU$1-$BW$1)+$N15*$BJ15*($BU$1-$BV$1))*1.05+$BT15*(5.95))/1000 -> 72.052138 | BZ15: =BU15*1152.4 -> 83032.884 | CA15: =BV15*1152.4 -> 58409.135 | CB15: =BW15*1152.4 -> 58728.161 | CC15: =BX15*1152.4 -> 75554.809 | CD15: =BY15*1152.4 -> 83032.884
... A298: 295 | B298: Budapest | C298: Visi Imre utca 14 | D298: 1445.9 | E298: =0.8*D298*H298 -> 5783.6 | F298: 155.6 | G298: Basement | H298: 5 | I298: 17.5 | J298: =F298*I298-L298 -> 2231.2 | K298: N | L298: 491.8 | M298: 442.6 | N298: 1489.277 | O298: Sloped | P298: N | Q298: Individual | R298: Natural gas | S298: =BZ298 -> 477444.63 | T298: =S298/E298 -> 82.551462 | U298: =CA298 -> 358034.71 | V298: =IF(ISBLANK(D298)," ",S298-U298) -> 119409.93 | W298: =CB298 -> 345578.97 | X298: =IF(ISBLANK(D298)," ",S298-W298) -> 131865.66 | Y298: =CC298 -> 473798.24 | Z298: =IF(ISBLANK(D298)," ",S298-Y298) -> 3646.3953 | AA298: =CD298 -> 464097.39 | AB298: =IF(ISBLANK(D298)," ",S298-AA298) -> 13347.247 | AC298: =V298+X298+Z298+AB298 -> 268269.23 | AD298: =IF(ISBLANK(D298)," ",S298-AC298) -> 209175.4 | AE298: =AD298/E298 -> 36.16699 | AF298: =1-AD298/S298 -> 0.56188553 | AG298: =IF(ISBLANK($D298),"",S298*_xlfn.XLOOKUP(Q298,DATA!$B$24:$B$25,DATA!$C$24:$C$25,"error",0,1)/1000) -> 95.942499 | AH298: =IF(ISBLANK($D298),"",V298*_xlfn.XLOOKUP(Q298,DATA!$B$24:$B$25,DATA!$C$24:$C$25,"error",0,1)/1000) -> 23.995425 | AI298: =IF(ISBLANK($D298),"",X298*_xlfn.XLOOKUP(Q298,DATA!$B$24:$B$25,DATA!$C$24:$C$25,"error",0,1)/1000) -> 26.498404 | AJ298: =IF(ISBLANK($D298),"",Z298*_xlfn.XLOOKUP(Q298,DATA!$B$24:$B$25,DATA!$C$24:$C$25,"error",0,1)/1000) -> 0.73274313 | AK298: =IF(ISBLANK($D298),"",AB298*_xlfn.XLOOKUP(Q298,DATA!$B$24:$B$25,DATA!$C$24:$C$25,"error",0,1)/1000) -> 2.6821293 | AL298: =SUM(AH298:AK298) -> 53.908702 | AM298: =IF(ISBLANK($D298),"",AG298-AL298) -> 42.033797 | AN298: =IF(ISBLANK($D298),"",$S298*0.0135790158248428/1000) -> 6.4832283 | AO298: =IF(ISBLANK($D298),"",$V298*0.0135790158248428/1000) -> 1.6214693 | AP298: =IF(ISBLANK($D298),"",$X298*0.0135790158248428/1000) -> 1.7906059 | AQ298: =IF(ISBLANK($D298),"",$Z298*0.0135790158248428/1000) -> 0.049514459 | AR298: =IF(ISBLANK($D298),"",$AB298*0.0135790158248428/1000) -> 0.18124248 | AS298: =IF(ISBLANK($D298),"",$AC298*0.0135790158248428/1000) -> 3.6428321 | AT298: =IF(ISBLANK($D298),"",AN298-AS298) -> 2.8403961 | AU298: =IF(ISBLANK($D298),"",$S298*0.000738514285714286/1000) -> 0.35259968 | AV298: =IF(ISBLANK($D298),"",$V298*0.000738514285714286/1000) -> 0.088185938 | AW298: =IF(ISBLANK($D298),"",$X298*0.000738514285714286/1000) -> 0.097384674 | AX298: =IF(ISBLANK($D298),"",$Z298*0.000738514285714286/1000) -> 0.002692915 | AY298: =IF(ISBLANK($D298),"",$AB298*0.000738514285714286/1000) -> 0.0098571327 | AZ298: =IF(ISBLANK($D298),"",$AC298*0.000738514285714286/1000) -> 0.19812066 | BA298: =IF(ISBLANK($D298),"",AU298-AZ298) -> 0.15447902 | BB298: =IF(V298>0,J298*DATA!$C$4,0) -> 145028 | BC298: =IF(X298>0,N298*_xlfn.XLOOKUP(Budapest!O298,DATA!$B$5:$B$6,DATA!$C$5:$C$6,"error",0,1),0) -> 71485.296 | BD298: =IF(Z298>0,(L298-M298)*DATA!$C$7,"0,00 ") -> 7380 | BE298: =IF(G298="basement",D298*DATA!$C$8,IF(G298="ground",0,"error")) -> 57836 | BF298: =BB298+BC298+BD298+BE298 -> 281729.3 | BG298: 1.48 | BH298: 1.2750712 | BI298: =IF(G298="ground",0.57,IF(G298="basement",0.85,"error")) -> 0.85 | BJ298: 2.33 | BK298: =IF(K298="N",1/((1/BG298)+0.15/0.038),BG298) -> 0.21630769 | BL298: =IF(O298="sloped",1/(1/BJ298+0.15/0.04),IF(O298="flat",1/(1/BJ298+0.15/0.034),"error")) -> 0.23928113 | BM298: 1.1 | BN298: =IF(BI298=0.85,1/(1/BI298+0.05/0.038),BI298) -> 0.40124224 | BP298: =D298*BS298 -> 25303.25 | BQ298: =H298 -> 5 | BR298: =0.32*BP298 -> 8097.04 | BS298: =I298 -> 17.5 | BT298: =IF(BQ298<=3,0.76*BP298,0.8*BP298) -> 20242.6 | BU298: =(($D298*$BI298*($BU$1-$BX$1)+$J298*$BG298*($BU$1-$BW$1)+$L298*$BH298*($BU$1-$BW$1)+$N298*$BJ298*($BU$1-$BV$1))*1.05+$BT298*(5.95))/1000 -> 414.30461 | BV298: =(($D298*$BI298*($BU$1-$BX$1)+$J298*$BK298*($BU$1-$BW$1)+$L298*$BH298*($BU$1-$BW$1)+$N298*$BJ298*($BU$1-$BV$1))*1.05+$BT298*(5.95))/1000 -> 310.68614 | BW298: =(($D298*$BI298*($BU$1-$BX$1)+$J298*$BG298*($BU$1-$BW$1)+$L298*$BH298*($BU$1-$BW$1)+$N298*$BL298*($BU$1-$BV$1))*1.05+$BT298*(5.95))/1000 -> 299.87762 | BX298: =(($D298*$BI298*($BU$1-$BX$1)+$J298*$BG298*($BU$1-$BW$1)+$L298*$BM298*($BU$1-$BW$1)+$N298*$BJ298*($BU$1-$BV$1))*1.05+$BT298*(5.95))/1000 -> 411.14044 | BY298: =(($D298*$BN298*($BU$1-$BX$1)+$J298*$BG298*($BU$1-$BW$1)+$L298*$BH298*($BU$1-$BW$1)+$N298*$BJ298*($BU$1-$BV$1))*1.05+$BT298*(5.95))/1000 -> 402.72248 | BZ298: =BU298*1152.4 -> 477444.63 | CA298: =BV298*1152.4 -> 358034.71 | CB298: =BW298*1152.4 -> 345578.97 | CC298: =BX298*1152.4 -> 473798.24 | CD298: =BY298*1152.4 -> 464097.39

Sheet DATA
B2: Unit prices for EE measures
B3: Measure | C3: Price | D3: Unit
B4: Outer walls | C4: 65 | D4: EUR/m2
B5: Sloped | C5: 48 | D5: EUR/m2
B6: Flat | C6: 85 | D6: EUR/m2
B7: Replacement of windows | C7: 150 | D7: EUR/m2
B8: Insulation of the unheated basement ceiling | C8: 40 | D8: EUR/m2
B10: Energy prices
B11: Energy source | C11: Price per kWh | E11: Price per unit | G11: Lower heating value
B12: District heating | C12: =0.14*1.17 -> 0.1638 | D12: EUR/kWh | E12: 2.5 | F12: EUR/m2 | G12: - | H12: -
B13: Firewood | C13: =E13/G13 -> 0.057142857 | D13: EUR/kWh | E13: 80 | F13: EUR/m | G13: 1400 | H13: kWh/m
B14: Coal | C14: =E14/G14 -> 0.020117657 | D14: EUR/kWh | E14: 95 | F14: EUR/t | G14: 4722.22 | H14: kWh/t
B15: Pellets | C15: =E15/G15 -> 0.037777778 | D15: EUR/kWh | E15: 170 | F15: EUR/t | G15: 4500 | H15: kWh/t
B16: Natural gas | C16: =E16/G16 -> 0.10564794 | D16: EUR/kWh | E16: 1 | F16: EUR/Sm3 | G16: 9.4654 | H16: kWh/Sm3
B17: LNG | C17: =E17/G17 -> 0.13669065 | D17: EUR/kWh | E17: 0.95 | F17: EUR/l | G17: 6.95 | H17: kWh/l
B18: Fuel oil | C18: =E18/G18 -> 0.19668737 | D18: EUR/kWh | E18: 1.9 | F18: EUR/l | G18: 9.66 | H18: kWh/l
B19: Woodchips | C19: =E19/G19 -> 0.074285714 | D19: EUR/kWh | E19: 260 | F19: EUR/t | G19: 3500 | H19: kWh/kg
B20: Electricity | C20: 0.21 | D20: EUR/kWh | E20: 0.21 | F20: EUR/kWh | G20: - | H20: -
B22: CO2 EMISSION
B23: Energy source | C23: Emission coefficient
B24: Individual | C24: 0.20095 | D24: kgCO2/kWh
B25: District heating | C25: 0.39828 | D25: kgCO2/kWh
