Workbook

Sheet Burgas
A1: Number | B1: LOCATION DATA | D1: BUILDING GEOMETRY | Q1: ENERGY NEEDS AND SAVINGS | AG1: CO2 EMISSION | AN1: SO2 EMISSION | AU1: NOx EMISSION | BB1: Investements | BG1: U-values, current condition | BK1: U-values, after insulation | BP1: MFAB volume Ve | BQ1: No of storeys | BR1: Akuk | BS1: H | BT1: Volume V | BU1: 20 | BV1: -5 | BW1: -5 | BX1: 3
B2: City | C2: Address | D2: Ground area | E2: Heated area | F2: Ground circumference | G2: Type of floor construction | H2: Total number of storeys | I2: Height | J2: Area of outer walls | K2: Outer walls insulation | L2: Total area of windows and doors | M2: Total area of PVC windows and doorsa | N2: Roof/ceiling area | O2: Type of roof | P2: Roof insulation | Q2: Heating system | R2: Primarly energy source | S2: Heat required in current state of building | T2: Specific heat required in current condition of building | U2: Heat required in after insulation of outer walls | V2: Potential saving after insulation of outer walls | W2: Heat required in after insulation of roof/ceiling | X2: Potential saving after insulation of roof/ceiling | Y2: Heat required in after replacement of windows and doors | Z2: Potential saving after replacement of widows and doors | AA2: Heat required in after insulation of floors | AB2: Potential saving after insulation of floors | AC2: Potential saving after all architectural measures | AD2: Heat required after all architectural measures | AE2: Specific heat required after all architectural measures | AF2: Total savings by architectural measures | AG2: Emission in current state of building | AH2: Reduction after insulation of outer walls | AI2: Reduction after insulation of roof/ceiling | AJ2: Reduction after replacement of widows and doors | AK2: Reduction after insulation of floors | AL2: Reduction after all measures | AM2: Emission after all measures | AN2: Emission in current state of building | AO2: Reduction after insulation of outer walls | AP2: Reduction after insulation of roof/ceiling | AQ2: Reduction after replacement of widows and doors | AR2: Reduction after insulation of floors | AS2: Reduction after all measures | AT2: Emission after all measures | AU2: Emission in current state of building | AV2: Reduction after insulation of outer walls | AW2: Reduction after insulation of roof/ceiling | AX2: Reduction after replacement of widows and doors | AY2: Reduction after insulation of floors | AZ2: Reduction after all measures | BA2: Emission after all measures | BB2: Wall insulation | BC2: Roof/ceiling insulation | BD2: Windows replacement | BE2: Floor insulation | BF2: Total investment | BG2: U-wall | BH2: U-windows | BI2: U-floor | BJ2: U-roof | BK2: U-wall | BL2: U-roof | BM2: U-windows | BN2: U-floor | BU2: Qtr.req | BV2: Qtr. Ins wall | BW2: Qtr. Ins roof | BX2: Qtr. Ins win | BY2: Qtr. Ins floor | BZ2: Qtr.potr | CA2: Qtr. Iz zid | CB2: Qtr. Iz tav | CC2: Qtr. Iz proz | CD2: Qtr. Iz pod
D3: m2 | E3: m2 | F3: m | I3: m | J3: m2 | L3: m2 | M3: m2 | N3: m2 | S3: kWh/year | T3: kWh/m2year | U3: kWh/year | V3: kWh/year | W3: kWh/year | X3: kWh/year | Y3: kWh/year | Z3: kWh/year | AA3: kWh/year | AB3: kWh/year | AC3: kWh/year | AD3: kWh/year | AE3: kWh/m2year | AF3: % | AG3: t/year | AH3: t/year | AI3: t/year | AJ3: t/year | AK3: t/year | AL3: t/year | AM3: t/year | AN3: t/year | AO3: t/year | AP3: t/year | AQ3: t/year | AR3: t/year | AS3: t/year | AT3: t/year | AU3: t/year | AV3: t/year | AW3: t/year | AX3: t/year | AY3: t/year | AZ3: t/year | BA3: t/year | BB3: EUR | BC3: EUR | BD3: EUR | BE3: EUR | BF3: EUR | BG3: W/m2K | BH3: W/m2K | BI3: W/m2K | BJ3: W/m2K | BK3: W/m2K | BL3: W/m2K | BM3: W/m2K | BN3: W/m2K | BP3: m3 | BR3: m2 | BS3: m | BT3: m3 | BU3: kWh/god | BV3: kWh/god | BW3: kWh/god | BX3: kWh/god | BY3: kWh/god | BZ3: kWh/god | CA3: kWh/god | CB3: kWh/god | CC3: kWh/god | CD3: kWh/god
A4: 1 | B4: Burgas | C4: Aleksander Stamboliyski 26 | D4: 299.5 | E4: =0.8*D4*H4 -> 1677.2 | F4: 70 | G4: Ground | H4: 7 | I4: 22.25 | J4: =F4*I4-L4 -> 1246.1 | K4: Y | L4: 311.4 | M4: 311.4 | N4: 314.475 | O4: Sloped | P4: Y | Q4: Individual | R4: Electricity, natural gas | S4: =BZ4 -> 61944.504 | T4: =S4/E4 -> 36.933284 | U4: =CA4 -> 61944.504 | V4: =IF(ISBLANK(D4)," ",S4-U4) -> 0 | W4: =CB4 -> 60998.414 | X4: =IF(ISBLANK(D4)," ",S4-W4) -> 946.08998 | Y4: =CC4 -> 61944.504 | Z4: =IF(ISBLANK(D4)," ",S4-Y4) -> 0 | AA4: =CD4 -> 61944.504 | AB4: =IF(ISBLANK(D4)," ",S4-AA4) -> 0 | AC4: =V4+X4+Z4+AB4 -> 946.08998 | AD4: =IF(ISBLANK(D4)," ",S4-AC4) -> 60998.414 | AE4: =AD4/E4 -> 36.369195 | AF4: =1-AD4/S4 -> 0.015273187 | AG4: =IF(ISBLANK($D4),"",S4*_xlfn.XLOOKUP(Q4,DATA!$B$24:$B$25,DATA!$C$24:$C$25,"error",0,1)/1000) -> 8.2984905 | AH4: =IF(ISBLANK($D4),"",V4*_xlfn.XLOOKUP(Q4,DATA!$B$24:$B$25,DATA!$C$24:$C$25,"error",0,1)/1000) -> 0 | AI4: =IF(ISBLANK($D4),"",X4*_xlfn.XLOOKUP(Q4,DATA!$B$24:$B$25,DATA!$C$24:$C$25,"error",0,1)/1000) -> 0.12674439 | AJ4: =IF(ISBLANK($D4),"",Z4*_xlfn.XLOOKUP(Q4,DATA!$B$24:$B$25,DATA!$C$24:$C$25,"error",0,1)/1000) -> 0 | AK4: =IF(ISBLANK($D4),"",AB4*_xlfn.XLOOKUP(Q4,DATA!$B$24:$B$25,DATA!$C$24:$C$25,"error",0,1)/1000) -> 0 | AL4: =SUM(AH4:AK4) -> 0.12674439 | AM4: =IF(ISBLANK($D4),"",AG4-AL4) -> 8.1717461 | AN4: =IF(ISBLANK($D4),"",$S4*0.0135790158248428/1000) -> 0.84114541 | AO4: =IF(ISBLANK($D4),"",$V4*0.0135790158248428/1000) -> 0 | AP4: =IF(ISBLANK($D4),"",$X4*0.0135790158248428/1000) -> 0.012846971 | AQ4: =IF(ISBLANK($D4),"",$Z4*0.0135790158248428/1000) -> 0 | AR4: =IF(ISBLANK($D4),"",$AB4*0.0135790158248428/1000) -> 0 | AS4: =IF(ISBLANK($D4),"",$AC4*0.0135790158248428/1000) -> 0.012846971 | AT4: =IF(ISBLANK($D4),"",AN4-AS4) -> 0.82829844 | AU4: =IF(ISBLANK($D4),"",$S4*0.000738514285714286/1000) -> 0.045746901 | AV4: =IF(ISBLANK($D4),"",$V4*0.000738514285714286/1000) -> 0 | AW4: =IF(ISBLANK($D4),"",$X4*0.000738514285714286/1000) -> 0.00069870097 | AX4: =IF(ISBLANK($D4),"",$Z4*0.000738514285714286/1000) -> 0 | AY4: =IF(ISBLANK($D4),"",$AB4*0.000738514285714286/1000) -> 0 | AZ4: =IF(ISBLANK($D4),"",$AC4*0.000738514285714286/1000) -> 0.00069870097 | BA4: =IF(ISBLANK($D4),"",AU4-AZ4) -> 0.0450482 | BB4: =IF(V4>0,J4*DATA!$C$4,0) -> 0 | BC4: =IF(X4>0,N4*_xlfn.XLOOKUP(Burgas!O4,DATA!$B$5:$B$6,DATA!$C$5:$C$6,"error",0,1),0) -> 15094.8 | BD4: =IF(Z4>0,(L4-M4)*DATA!$C$7,"0,00 ") -> 0,00 | BE4: =IF(G4="basement",D4*DATA!$C$8,IF(G4="ground",0,"error")) -> 0 | BF4: =BB4+BC4+BD4+BE4 -> 15094.8 | BG4: 0.25 | BH4: 1.1 | BI4: =IF(G4="ground",0.57,IF(G4="basement",0.85,"error")) -> 0.57 | BJ4: 0.22 | BK4: =IF(K4="N",1/((1/BG4)+0.15/0.038),BG4) -> 0.25 | BL4: =IF(O4="sloped",1/(1/BJ4+0.15/0.04),IF(O4="flat",1/(1/BJ4+0.15/0.034),"error")) -> 0.12054795 | BM4: 1.1 | BN4: =IF(BI4=0.85,1/(1/BI4+0.05/0.038),BI4) -> 0.57 | BP4: =D4*BS4 -> 6663.875 | BQ4: =H4 -> 7 | BR4: =0.32*BP4 -> 2132.44 | BS4: =I4 -> 22.25 | BT4: =IF(BQ4<=3,0.76*BP4,0.8*BP4) -> 5331.1 | BU4: =(($D4*$BI4*($BU$1-$BX$1)+$J4*$BG4*($BU$1-$BW$1)+$L4*$BH4*($BU$1-$BW$1)+$N4*$BJ4*($BU$1-$BV$1))*1.05+$BT4*(5.95))/1000 -> 53.752607 | BV4: =(($D4*$BI4*($BU$1-$BX$1)+$J4*$BK4*($BU$1-$BW$1)+$L4*$BH4*($BU$1-$BW$1)+$N4*$BJ4*($BU$1-$BV$1))*1.05+$BT4*(5.95))/1000 -> 53.752607 | BW4: =(($D4*$BI4*($BU$1-$BX$1)+$J4*$BG4*($BU$1-$BW$1)+$L4*$BH4*($BU$1-$BW$1)+$N4*$BL4*($BU$1-$BV$1))*1.05+$BT4*(5.95))/1000 -> 52.931634 | BX4: =(($D4*$BI4*($BU$1-$BX$1)+$J4*$BG4*($BU$1-$BW$1)+$L4*$BM4*($BU$1-$BW$1)+$N4*$BJ4*($BU$1-$BV$1))*1.05+$BT4*(5.95))/1000 -> 53.752607 | BY4: =(($D4*$BN4*($BU$1-$BX$1)+$J4*$BG4*($BU$1-$BW$1)+$L4*$BH4*($BU$1-$BW$1)+$N4*$BJ4*($BU$1-$BV$1))*1.05+$BT4*(5.95))/1000 -> 53.752607 | BZ4: =BU4*1152.4 -> 61944.504 | CA4: =BV4*1152.4 -> 61944.504 | CB4: =BW4*1152.4 -> 60998.414 | CC4: =BX4*1152.4 -> 61944.504 | CD4: =BY4*1152.4 -> 61944.504
A5: 2 | B5: Burgas | C5: Aleksander Stamboliyski 28 | D5: 138.6 | E5: =0.8*D5*H5 -> 776.16 | F5: 50.2 | G5: Ground | H5: 7 | I5: 22.25 | J5: =F5*I5-L5 -> 893.56 | K5: Y | L5: 223.39 | M5: 0 | N5: 145.53 | O5: Sloped | P5: Y | Q5: Individual | R5: Electricity, natural gas | S5: =BZ5 -> 45526.829 | T5: =S5/E5 -> 58.6565 | U5: =CA5 -> 45526.829 | V5: =IF(ISBLANK(D5)," ",S5-U5) -> 0 | W5: =CB5 -> 45089.006 | X5: =IF(ISBLANK(D5)," ",S5-W5) -> 437.82328 | Y5: =CC5 -> 33700.925 | Z5: =IF(ISBLANK(D5)," ",S5-Y5) -> 11825.904 | AA5: =CD5 -> 45526.829 | AB5: =IF(ISBLANK(D5)," ",S5-AA5) -> 0 | AC5: =V5+X5+Z5+AB5 -> 12263.727 | AD5: =IF(ISBLANK(D5)," ",S5-AC5) -> 33263.102 | AE5: =AD5/E5 -> 42.855986 | AF5: =1-AD5/S5 -> 0.26937362 | AG5: =IF(ISBLANK($D5),"",S5*_xlfn.XLOOKUP(Q5,DATA!$B$24:$B$25,DATA!$C$24:$C$25,"error",0,1)/1000) -> 6.0990714 | AH5: =IF(ISBLANK($D5),"",V5*_xlfn.XLOOKUP(Q5,DATA!$B$24:$B$25,DATA!$C$24:$C$25,"error",0,1)/1000) -> 0 | AI5: =IF(ISBLANK($D5),"",X5*_xlfn.XLOOKUP(Q5,DATA!$B$24:$B$25,DATA!$C$24:$C$25,"error",0,1)/1000) -> 0.058653666 | AJ5: =IF(ISBLANK($D5),"",Z5*_xlfn.XLOOKUP(Q5,DATA!$B$24:$B$25,DATA!$C$24:$C$25,"error",0,1)/1000) -> 1.5842753 | AK5: =IF(ISBLANK($D5),"",AB5*_xlfn.XLOOKUP(Q5,DATA!$B$24:$B$25,DATA!$C$24:$C$25,"error",0,1)/1000) -> 0 | AL5: =SUM(AH5:AK5) -> 1.642929 | AM5: =IF(ISBLANK($D5),"",AG5-AL5) -> 4.4561424 | AN5: =IF(ISBLANK($D5),"",$S5*0.0135790158248428/1000) -> 0.61820953 | AO5: =IF(ISBLANK($D5),"",$V5*0.0135790158248428/1000) -> 0 | AP5: =IF(ISBLANK($D5),"",$X5*0.0135790158248428/1000) -> 0.0059452092 | AQ5: =IF(ISBLANK($D5),"",$Z5*0.0135790158248428/1000) -> 0.16058413 | AR5: =IF(ISBLANK($D5),"",$AB5*0.0135790158248428/1000) -> 0 | AS5: =IF(ISBLANK($D5),"",$AC5*0.0135790158248428/1000) -> 0.16652934 | AT5: =IF(ISBLANK($D5),"",AN5-AS5) -> 0.45168019 | AU5: =IF(ISBLANK($D5),"",$S5*0.000738514285714286/1000) -> 0.033622213 | AV5: =IF(ISBLANK($D5),"",$V5*0.000738514285714286/1000) -> 0 | AW5: =IF(ISBLANK($D5),"",$X5*0.000738514285714286/1000) -> 0.00032333874 | AX5: =IF(ISBLANK($D5),"",$Z5*0.000738514285714286/1000) -> 0.0087335987 | AY5: =IF(ISBLANK($D5),"",$AB5*0.000738514285714286/1000) -> 0 | AZ5: =IF(ISBLANK($D5),"",$AC5*0.000738514285714286/1000) -> 0.0090569375 | BA5: =IF(ISBLANK($D5),"",AU5-AZ5) -> 0.024565276 | BB5: =IF(V5>0,J5*DATA!$C$4,0) -> 0 | BC5: =IF(X5>0,N5*_xlfn.XLOOKUP(Burgas!O5,DATA!$B$5:$B$6,DATA!$C$5:$C$6,"error",0,1),0) -> 6985.44 | BD5: =IF(Z5>0,(L5-M5)*DATA!$C$7,"0,00 ") -> 33508.5 | BE5: =IF(G5="basement",D5*DATA!$C$8,IF(G5="ground",0,"error")) -> 0 | BF5: =BB5+BC5+BD5+BE5 -> 40493.94 | BG5: 0.25 | BH5: 2.85 | BI5: =IF(G5="ground",0.57,IF(G5="basement",0.85,"error")) -> 0.57 | BJ5: 0.22 | BK5: =IF(K5="N",1/((1/BG5)+0.15/0.038),BG5) -> 0.25 | BL5: =IF(O5="sloped",1/(1/BJ5+0.15/0.04),IF(O5="flat",1/(1/BJ5+0.15/0.034),"error")) -> 0.12054795 | BM5: 1.1 | BN5: =IF(BI5=0.85,1/(1/BI5+0.05/0.038),BI5) -> 0.57 | BP5: =D5*BS5 -> 3083.85 | BQ5: =H5 -> 7 | BR5: =0.32*BP5 -> 986.832 | BS5: =I5 -> 22.25 | BT5: =IF(BQ5<=3,0.76*BP5,0.8*BP5) -> 2467.08 | BU5: =(($D5*$BI5*($BU$1-$BX$1)+$J5*$BG5*($BU$1-$BW$1)+$L5*$BH5*($BU$1-$BW$1)+$N5*$BJ5*($BU$1-$BV$1))*1.05+$BT5*(5.95))/1000 -> 39.506099 | BV5: =(($D5*$BI5*($BU$1-$BX$1)+$J5*$BK5*($BU$1-$BW$1)+$L5*$BH5*($BU$1-$BW$1)+$N5*$BJ5*($BU$1-$BV$1))*1.05+$BT5*(5.95))/1000 -> 39.506099 | BW5: =(($D5*$BI5*($BU$1-$BX$1)+$J5*$BG5*($BU$1-$BW$1)+$L5*$BH5*($BU$1-$BW$1)+$N5*$BL5*($BU$1-$BV$1))*1.05+$BT5*(5.95))/1000 -> 39.126176 | BX5: =(($D5*$BI5*($BU$1-$BX$1)+$J5*$BG5*($BU$1-$BW$1)+$L5*$BM5*($BU$1-$BW$1)+$N5*$BJ5*($BU$1-$BV$1))*1.05+$BT5*(5.95))/1000 -> 29.244121 | BY5: =(($D5*$BN5*($BU$1-$BX$1)+$J5*$BG5*($BU$1-$BW$1)+$L5*$BH5*($BU$1-$BW$1)+$N5*$BJ5*($BU$1-$BV$1))*1.05+$BT5*(5.95))/1000 -> 39.506099 | BZ5: =BU5*1152.4 -> 45526.829 | CA5: =BV5*1152.4 -> 45526.829 | CB5: =BW5*1152.4 -> 45089.006 | CC5: =BX5*1152.4 -> 33700.925 | CD5: =BY5*1152.4 -> 45526.829
A6: 3 | B6: Burgas | C6: Aleksander Stamboliyski 30 | D6: 180.8 | E6: =0.8*D6*H6 -> 1012.48 | F6: 55.8 | G6: Ground | H6: 7 | I6: 22.25 | J6: =F6*I6-L6 -> 993.24 | K6: Y | L6: 248.31 | M6: 248.31 | N6: 189.84 | O6: Sloped | P6: Y | Q6: Individual | R6: Electricity, natural gas | S6: =BZ6 -> 41224.22 | T6: =S6/E6 -> 40.716083 | U6: =CA6 -> 41224.22 | V6: =IF(ISBLANK(D6)," ",S6-U6) -> 0 | W6: =CB6 -> 40653.091 | X6: =IF(ISBLANK(D6)," ",S6-W6) -> 571.12878 | Y6: =CC6 -> 41224.22 | Z6: =IF(ISBLANK(D6)," ",S6-Y6) -> 0 | AA6: =CD6 -> 41224.22 | AB6: =IF(ISBLANK(D6)," ",S6-AA6) -> 0 | AC6: =V6+X6+Z6+AB6 -> 571.12878 | AD6: =IF(ISBLANK(D6)," ",S6-AC6) -> 40653.091 | AE6: =AD6/E6 -> 40.151995 | AF6: =1-AD6/S6 -> 0.013854205 | AG6: =IF(ISBLANK($D6),"",S6*_xlfn.XLOOKUP(Q6,DATA!$B$24:$B$25,DATA!$C$24:$C$25,"error",0,1)/1000) -> 5.5226658 | AH6: =IF(ISBLANK($D6),"",V6*_xlfn.XLOOKUP(Q6,DATA!$B$24:$B$25,DATA!$C$24:$C$25,"error",0,1)/1000) -> 0 | AI6: =IF(ISBLANK($D6),"",X6*_xlfn.XLOOKUP(Q6,DATA!$B$24:$B$25,DATA!$C$24:$C$25,"error",0,1)/1000) -> 0.076512142 | AJ6: =IF(ISBLANK($D6),"",Z6*_xlfn.XLOOKUP(Q6,DATA!$B$24:$B$25,DATA!$C$24:$C$25,"error",0,1)/1000) -> 0 | AK6: =IF(ISBLANK($D6),"",AB6*_xlfn.XLOOKUP(Q6,DATA!$B$24:$B$25,DATA!$C$24:$C$25,"error",0,1)/1000) -> 0 | AL6: =SUM(AH6:AK6) -> 0.076512142 | AM6: =IF(ISBLANK($D6),"",AG6-AL6) -> 5.4461537 | AN6: =IF(ISBLANK($D6),"",$S6*0.0135790158248428/1000) -> 0.55978434 | AO6: =IF(ISBLANK($D6),"",$V6*0.0135790158248428/1000) -> 0 | AP6: =IF(ISBLANK($D6),"",$X6*0.0135790158248428/1000) -> 0.0077553667 | AQ6: =IF(ISBLANK($D6),"",$Z6*0.0135790158248428/1000) -> 0 | AR6: =IF(ISBLANK($D6),"",$AB6*0.0135790158248428/1000) -> 0 | AS6: =IF(ISBLANK($D6),"",$AC6*0.0135790158248428/1000) -> 0.0077553667 | AT6: =IF(ISBLANK($D6),"",AN6-AS6) -> 0.55202897 | AU6: =IF(ISBLANK($D6),"",$S6*0.000738514285714286/1000) -> 0.030444676 | AV6: =IF(ISBLANK($D6),"",$V6*0.000738514285714286/1000) -> 0 | AW6: =IF(ISBLANK($D6),"",$X6*0.000738514285714286/1000) -> 0.00042178676 | AX6: =IF(ISBLANK($D6),"",$Z6*0.000738514285714286/1000) -> 0 | AY6: =IF(ISBLANK($D6),"",$AB6*0.000738514285714286/1000) -> 0 | AZ6: =IF(ISBLANK($D6),"",$AC6*0.000738514285714286/1000) -> 0.00042178676 | BA6: =IF(ISBLANK($D6),"",AU6-AZ6) -> 0.030022889 | BB6: =IF(V6>0,J6*DATA!$C$4,0) -> 0 | BC6: =IF(X6>0,N6*_xlfn.XLOOKUP(Burgas!O6,DATA!$B$5:$B$6,DATA!$C$5:$C$6,"error",0,1),0) -> 9112.32 | BD6: =IF(Z6>0,(L6-M6)*DATA!$C$7,"0,00 ") -> 0,00 | BE6: =IF(G6="basement",D6*DATA!$C$8,IF(G6="ground",0,"error")) -> 0 | BF6: =BB6+BC6+BD6+BE6 -> 9112.32 | BG6: 0.25 | BH6: 1.1 | BI6: =IF(G6="ground",0.57,IF(G6="basement",0.85,"error")) -> 0.57 | BJ6: 0.22 | BK6: =IF(K6="N",1/((1/BG6)+0.15/0.038),BG6) -> 0.25 | BL6: =IF(O6="sloped",1/(1/BJ6+0.15/0.04),IF(O6="flat",1/(1/BJ6+0.15/0.034),"error")) -> 0.12054795 | BM6: 1.1 | BN6: =IF(BI6=0.85,1/(1/BI6+0.05/0.038),BI6) -> 0.57 | BP6: =D6*BS6 -> 4022.8 | BQ6: =H6 -> 7 | BR6: =0.32*BP6 -> 1287.296 | BS6: =I6 -> 22.25 | BT6: =IF(BQ6<=3,0.76*BP6,0.8*BP6) -> 3218.24 | BU6: =(($D6*$BI6*($BU$1-$BX$1)+$J6*$BG6*($BU$1-$BW$1)+$L6*$BH6*($BU$1-$BW$1)+$N6*$BJ6*($BU$1-$BV$1))*1.05+$BT6*(5.95))/1000 -> 35.772492 | BV6: =(($D6*$BI6*($BU$1-$BX$1)+$J6*$BK6*($BU$1-$BW$1)+$L6*$BH6*($BU$1-$BW$1)+$N6*$BJ6*($BU$1-$BV$1))*1.05+$BT6*(5.95))/1000 -> 35.772492 | BW6: =(($D6*$BI6*($BU$1-$BX$1)+$J6*$BG6*($BU$1-$BW$1)+$L6*$BH6*($BU$1-$BW$1)+$N6*$BL6*($BU$1-$BV$1))*1.05+$BT6*(5.95))/1000 -> 35.276893 | BX6: =(($D6*$BI6*($BU$1-$BX$1)+$J6*$BG6*($BU$1-$BW$1)+$L6*$BM6*($BU$1-$BW$1)+$N6*$BJ6*($BU$1-$BV$1))*1.05+$BT6*(5.95))/1000 -> 35.772492 | BY6: =(($D6*$BN6*($BU$1-$BX$1)+$J6*$BG6*($BU$1-$BW$1)+$L6*$BH6*($BU$1-$BW$1)+$N6*$BJ6*($BU$1-$BV$1))*1.05+$BT6*(5.95))/1000 -> 35.772492 | BZ6: =BU6*1152.4 -> 41224.22 | CA6: =BV6*1152.4 -> 41224.22 | CB6: =BW6*1152.4 -> 40653.091 | CC6: =BX6*1152.4 -> 41224.22 | CD6: =BY6*1152.4 -> 41224.22
A7: 4 | B7: Burgas | C7: Aleksander Stamboliyski 32 | D7: 145.1 | E7: =0.8*D7*H7 -> 928.64 | F7: 49.2 | G7: Ground | H7: 8 | I7: 25.5 | J7: =F7*I7-L7 -> 1003.68 | K7: N | L7: 250.92 | M7: 225.8 | N7: 152.355 | O7: Sloped | P7: N | Q7: Individual | R7: Electricity, natural gas | S7: =BZ7 -> 87351.002 | T7: =S7/E7 -> 94.063364 | U7: =CA7 -> 48983.002 | V7: =IF(ISBLANK(D7)," ",S7-U7) -> 38368.001 | W7: =CB7 -> 77715.266 | X7: =IF(ISBLANK(D7)," ",S7-W7) -> 9635.7363 | Y7: =CC7 -> 86021.19 | Z7: =IF(ISBLANK(D7)," ",S7-Y7) -> 1329.812 | AA7: =CD7 -> 87351.002 | AB7: =IF(ISBLANK(D7)," ",S7-AA7) -> 0 | AC7: =V7+X7+Z7+AB7 -> 49333.549 | AD7: =IF(ISBLANK(D7)," ",S7-AC7) -> 38017.453 | AE7: =AD7/E7 -> 40.93885 | AF7: =1-AD7/S7 -> 0.5647737 | AG7: =IF(ISBLANK($D7),"",S7*_xlfn.XLOOKUP(Q7,DATA!$B$24:$B$25,DATA!$C$24:$C$25,"error",0,1)/1000) -> 11.702111 | AH7: =IF(ISBLANK($D7),"",V7*_xlfn.XLOOKUP(Q7,DATA!$B$24:$B$25,DATA!$C$24:$C$25,"error",0,1)/1000) -> 5.140028 | AI7: =IF(ISBLANK($D7),"",X7*_xlfn.XLOOKUP(Q7,DATA!$B$24:$B$25,DATA!$C$24:$C$25,"error",0,1)/1000) -> 1.2908662 | AJ7: =IF(ISBLANK($D7),"",Z7*_xlfn.XLOOKUP(Q7,DATA!$B$24:$B$25,DATA!$C$24:$C$25,"error",0,1)/1000) -> 0.1781503 | AK7: =IF(ISBLANK($D7),"",AB7*_xlfn.XLOOKUP(Q7,DATA!$B$24:$B$25,DATA!$C$24:$C$25,"error",0,1)/1000) -> 0 | AL7: =SUM(AH7:AK7) -> 6.6090445 | AM7: =IF(ISBLANK($D7),"",AG7-AL7) -> 5.0930664 | AN7: =IF(ISBLANK($D7),"",$S7*0.0135790158248428/1000) -> 1.1861406 | AO7: =IF(ISBLANK($D7),"",$V7*0.0135790158248428/1000) -> 0.52099969 | AP7: =IF(ISBLANK($D7),"",$X7*0.0135790158248428/1000) -> 0.13084382 | AQ7: =IF(ISBLANK($D7),"",$Z7*0.0135790158248428/1000) -> 0.018057538 | AR7: =IF(ISBLANK($D7),"",$AB7*0.0135790158248428/1000) -> 0 | AS7: =IF(ISBLANK($D7),"",$AC7*0.0135790158248428/1000) -> 0.66990104 | AT7: =IF(ISBLANK($D7),"",AN7-AS7) -> 0.5162396 | AU7: =IF(ISBLANK($D7),"",$S7*0.000738514285714286/1000) -> 0.064509963 | AV7: =IF(ISBLANK($D7),"",$V7*0.000738514285714286/1000) -> 0.028335317 | AW7: =IF(ISBLANK($D7),"",$X7*0.000738514285714286/1000) -> 0.0071161289 | AX7: =IF(ISBLANK($D7),"",$Z7*0.000738514285714286/1000) -> 0.00098208514 | AY7: =IF(ISBLANK($D7),"",$AB7*0.000738514285714286/1000) -> 0 | AZ7: =IF(ISBLANK($D7),"",$AC7*0.000738514285714286/1000) -> 0.036433531 | BA7: =IF(ISBLANK($D7),"",AU7-AZ7) -> 0.028076432 | BB7: =IF(V7>0,J7*DATA!$C$4,0) -> 65239.2 | BC7: =IF(X7>0,N7*_xlfn.XLOOKUP(Burgas!O7,DATA!$B$5:$B$6,DATA!$C$5:$C$6,"error",0,1),0) -> 7313.04 | BD7: =IF(Z7>0,(L7-M7)*DATA!$C$7,"0,00 ") -> 3768 | BE7: =IF(G7="basement",D7*DATA!$C$8,IF(G7="ground",0,"error")) -> 0 | BF7: =BB7+BC7+BD7+BE7 -> 76320.24 | BG7: 1.48 | BH7: 1.2751953 | BI7: =IF(G7="ground",0.57,IF(G7="basement",0.85,"error")) -> 0.57 | BJ7: 2.33 | BK7: =IF(K7="N",1/((1/BG7)+0.15/0.038),BG7) -> 0.21630769 | BL7: =IF(O7="sloped",1/(1/BJ7+0.15/0.04),IF(O7="flat",1/(1/BJ7+0.15/0.034),"error")) -> 0.23928113 | BM7: 1.1 | BN7: =IF(BI7=0.85,1/(1/BI7+0.05/0.038),BI7) -> 0.57 | BP7: =D7*BS7 -> 3700.05 | BQ7: =H7 -> 8 | BR7: =0.32*BP7 -> 1184.016 | BS7: =I7 -> 25.5 | BT7: =IF(BQ7<=3,0.76*BP7,0.8*BP7) -> 2960.04 | BU7: =(($D7*$BI7*($BU$1-$BX$1)+$J7*$BG7*($BU$1-$BW$1)+$L7*$BH7*($BU$1-$BW$1)+$N7*$BJ7*($BU$1-$BV$1))*1.05+$BT7*(5.95))/1000 -> 75.799204 | BV7: =(($D7*$BI7*($BU$1-$BX$1)+$J7*$BK7*($BU$1-$BW$1)+$L7*$BH7*($BU$1-$BW$1)+$N7*$BJ7*($BU$1-$BV$1))*1.05+$BT7*(5.95))/1000 -> 42.505208 | BW7: =(($D7*$BI7*($BU$1-$BX$1)+$J7*$BG7*($BU$1-$BW$1)+$L7*$BH7*($BU$1-$BW$1)+$N7*$BL7*($BU$1-$BV$1))*1.05+$BT7*(5.95))/1000 -> 67.437752 | BX7: =(($D7*$BI7*($BU$1-$BX$1)+$J7*$BG7*($BU$1-$BW$1)+$L7*$BM7*($BU$1-$BW$1)+$N7*$BJ7*($BU$1-$BV$1))*1.05+$BT7*(5.95))/1000 -> 74.645254 | BY7: =(($D7*$BN7*($BU$1-$BX$1)+$J7*$BG7*($BU$1-$BW$1)+$L7*$BH7*($BU$1-$BW$1)+$N7*$BJ7*($BU$1-$BV$1))*1.05+$BT7*(5.95))/1000 -> 75.799204 | BZ7: =BU7*1152.4 -> 87351.002 | CA7: =BV7*1152.4 -> 48983.002 | CB7: =BW7*1152.4 -> 77715.266 | CC7: =BX7*1152.4 -> 86021.19 | CD7: =BY7*1152.4 -> 87351.002
A8: 5 | B8: Burgas | C8: Aleksander Stamboliyski 34 | D8: 97.7 | E8: =0.8*D8*H8 -> 625.28 | F8: 42.8 | G8: Ground | H8: 8 | I8: 25.5 | J8: =F8*I8-L8 -> 873.12 | K8: N | L8: 218.28 | M8: 152.8 | N8: 102.585 | O8: Sloped | P8: N | Q8: Individual | R8: Electricity, natural gas | S8: =BZ8 -> 71862.24 | T8: =S8/E8 -> 114.9281 | U8: =CA8 -> 38485.199 | V8: =IF(ISBLANK(D8)," ",S8-U8) -> 33377.041 | W8: =CB8 -> 65374.222 | X8: =IF(ISBLANK(D8)," ",S8-W8) -> 6488.0182 | Y8: =CC8 -> 68395.835 | Z8: =IF(ISBLANK(D8)," ",S8-Y8) -> 3466.4048 | AA8: =CD8 -> 71862.24 | AB8: =IF(ISBLANK(D8)," ",S8-AA8) -> 0 | AC8: =V8+X8+Z8+AB8 -> 43331.464 | AD8: =IF(ISBLANK(D8)," ",S8-AC8) -> 28530.776 | AE8: =AD8/E8 -> 45.628799 | AF8: =1-AD8/S8 -> 0.60297959 | AG8: =IF(ISBLANK($D8),"",S8*_xlfn.XLOOKUP(Q8,DATA!$B$24:$B$25,DATA!$C$24:$C$25,"error",0,1)/1000) -> 9.6271351 | AH8: =IF(ISBLANK($D8),"",V8*_xlfn.XLOOKUP(Q8,DATA!$B$24:$B$25,DATA!$C$24:$C$25,"error",0,1)/1000) -> 4.4714065 | AI8: =IF(ISBLANK($D8),"",X8*_xlfn.XLOOKUP(Q8,DATA!$B$24:$B$25,DATA!$C$24:$C$25,"error",0,1)/1000) -> 0.8691773 | AJ8: =IF(ISBLANK($D8),"",Z8*_xlfn.XLOOKUP(Q8,DATA!$B$24:$B$25,DATA!$C$24:$C$25,"error",0,1)/1000) -> 0.46438223 | AK8: =IF(ISBLANK($D8),"",AB8*_xlfn.XLOOKUP(Q8,DATA!$B$24:$B$25,DATA!$C$24:$C$25,"error",0,1)/1000) -> 0 | AL8: =SUM(AH8:AK8) -> 5.804966 | AM8: =IF(ISBLANK($D8),"",AG8-AL8) -> 3.8221691 | AN8: =IF(ISBLANK($D8),"",$S8*0.0135790158248428/1000) -> 0.97581849 | AO8: =IF(ISBLANK($D8),"",$V8*0.0135790158248428/1000) -> 0.45322737 | AP8: =IF(ISBLANK($D8),"",$X8*0.0135790158248428/1000) -> 0.088100902 | AQ8: =IF(ISBLANK($D8),"",$Z8*0.0135790158248428/1000) -> 0.047070366 | AR8: =IF(ISBLANK($D8),"",$AB8*0.0135790158248428/1000) -> 0 | AS8: =IF(ISBLANK($D8),"",$AC8*0.0135790158248428/1000) -> 0.58839864 | AT8: =IF(ISBLANK($D8),"",AN8-AS8) -> 0.38741985 | AU8: =IF(ISBLANK($D8),"",$S8*0.000738514285714286/1000) -> 0.053071291 | AV8: =IF(ISBLANK($D8),"",$V8*0.000738514285714286/1000) -> 0.024649422 | AW8: =IF(ISBLANK($D8),"",$X8*0.000738514285714286/1000) -> 0.0047914941 | AX8: =IF(ISBLANK($D8),"",$Z8*0.000738514285714286/1000) -> 0.0025599895 | AY8: =IF(ISBLANK($D8),"",$AB8*0.000738514285714286/1000) -> 0 | AZ8: =IF(ISBLANK($D8),"",$AC8*0.000738514285714286/1000) -> 0.032000905 | BA8: =IF(ISBLANK($D8),"",AU8-AZ8) -> 0.021070385 | BB8: =IF(V8>0,J8*DATA!$C$4,0) -> 56752.8 | BC8: =IF(X8>0,N8*_xlfn.XLOOKUP(Burgas!O8,DATA!$B$5:$B$6,DATA!$C$5:$C$6,"error",0,1),0) -> 4924.08 | BD8: =IF(Z8>0,(L8-M8)*DATA!$C$7,"0,00 ") -> 9822 | BE8: =IF(G8="basement",D8*DATA!$C$8,IF(G8="ground",0,"error")) -> 0 | BF8: =BB8+BC8+BD8+BE8 -> 71498.88 | BG8: 1.48 | BH8: 1.6249679 | BI8: =IF(G8="ground",0.57,IF(G8="basement",0.85,"error")) -> 0.57 | BJ8: 2.33 | BK8: =IF(K8="N",1/((1/BG8)+0.15/0.038),BG8) -> 0.21630769 | BL8: =IF(O8="sloped",1/(1/BJ8+0.15/0.04),IF(O8="flat",1/(1/BJ8+0.15/0.034),"error")) -> 0.23928113 | BM8: 1.1 | BN8: =IF(BI8=0.85,1/(1/BI8+0.05/0.038),BI8) -> 0.57 | BP8: =D8*BS8 -> 2491.35 | BQ8: =H8 -> 8 | BR8: =0.32*BP8 -> 797.232 | BS8: =I8 -> 25.5 | BT8: =IF(BQ8<=3,0.76*BP8,0.8*BP8) -> 1993.08 | BU8: =(($D8*$BI8*($BU$1-$BX$1)+$J8*$BG8*($BU$1-$BW$1)+$L8*$BH8*($BU$1-$BW$1)+$N8*$BJ8*($BU$1-$BV$1))*1.05+$BT8*(5.95))/1000 -> 62.358764 | BV8: =(($D8*$BI8*($BU$1-$BX$1)+$J8*$BK8*($BU$1-$BW$1)+$L8*$BH8*($BU$1-$BW$1)+$N8*$BJ8*($BU$1-$BV$1))*1.05+$BT8*(5.95))/1000 -> 33.395695 | BW8: =(($D8*$BI8*($BU$1-$BX$1)+$J8*$BG8*($BU$1-$BW$1)+$L8*$BH8*($BU$1-$BW$1)+$N8*$BL8*($BU$1-$BV$1))*1.05+$BT8*(5.95))/1000 -> 56.728759 | BX8: =(($D8*$BI8*($BU$1-$BX$1)+$J8*$BG8*($BU$1-$BW$1)+$L8*$BM8*($BU$1-$BW$1)+$N8*$BJ8*($BU$1-$BV$1))*1.05+$BT8*(5.95))/1000 -> 59.350777 | BY8: =(($D8*$BN8*($BU$1-$BX$1)+$J8*$BG8*($BU$1-$BW$1)+$L8*$BH8*($BU$1-$BW$1)+$N8*$BJ8*($BU$1-$BV$1))*1.05+$BT8*(5.95))/1000 -> 62.358764 | BZ8: =BU8*1152.4 -> 71862.24 | CA8: =BV8*1152.4 -> 38485.199 | CB8: =BW8*1152.4 -> 65374.222 | CC8: =BX8*1152.4 -> 68395.835 | CD8: =BY8*1152.4 -> 71862.24
A9: 6 | B9: Burgas | C9: Aleksander Stamboliyski 36 | D9: 88.6 | E9: =0.8*D9*H9 -> 496.16 | F9: 37.8 | G9: Ground | H9: 7 | I9: 22.25 | J9: =F9*I9-L9 -> 672.84 | K9: N | L9: 168.21 | M9: 58.9 | N9: 93.03 | O9: Sloped | P9: N | Q9: Individual | R9: Electricity, natural gas | S9: =BZ9 -> 59917.148 | T9: =S9/E9 -> 120.76175 | U9: =CA9 -> 34196.275 | V9: =IF(ISBLANK(D9)," ",S9-U9) -> 25720.873 | W9: =CB9 -> 54033.439 | X9: =IF(ISBLANK(D9)," ",S9-W9) -> 5883.7094 | Y9: =CC9 -> 54130.454 | Z9: =IF(ISBLANK(D9)," ",S9-Y9) -> 5786.6938 | AA9: =CD9 -> 59917.148 | AB9: =IF(ISBLANK(D9)," ",S9-AA9) -> 0 | AC9: =V9+X9+Z9+AB9 -> 37391.276 | AD9: =IF(ISBLANK(D9)," ",S9-AC9) -> 22525.872 | AE9: =AD9/E9 -> 45.400419 | AF9: =1-AD9/S9 -> 0.62404966 | AG9: =IF(ISBLANK($D9),"",S9*_xlfn.XLOOKUP(Q9,DATA!$B$24:$B$25,DATA!$C$24:$C$25,"error",0,1)/1000) -> 8.0268926 | AH9: =IF(ISBLANK($D9),"",V9*_xlfn.XLOOKUP(Q9,DATA!$B$24:$B$25,DATA!$C$24:$C$25,"error",0,1)/1000) -> 3.4457361 | AI9: =IF(ISBLANK($D9),"",X9*_xlfn.XLOOKUP(Q9,DATA!$B$24:$B$25,DATA!$C$24:$C$25,"error",0,1)/1000) -> 0.78822015 | AJ9: =IF(ISBLANK($D9),"",Z9*_xlfn.XLOOKUP(Q9,DATA!$B$24:$B$25,DATA!$C$24:$C$25,"error",0,1)/1000) -> 0.7752233 | AK9: =IF(ISBLANK($D9),"",AB9*_xlfn.XLOOKUP(Q9,DATA!$B$24:$B$25,DATA!$C$24:$C$25,"error",0,1)/1000) -> 0 | AL9: =SUM(AH9:AK9) -> 5.0091796 | AM9: =IF(ISBLANK($D9),"",AG9-AL9) -> 3.017713 | AN9: =IF(ISBLANK($D9),"",$S9*0.0135790158248428/1000) -> 0.8136159 | AO9: =IF(ISBLANK($D9),"",$V9*0.0135790158248428/1000) -> 0.34926414 | AP9: =IF(ISBLANK($D9),"",$X9*0.0135790158248428/1000) -> 0.079894984 | AQ9: =IF(ISBLANK($D9),"",$Z9*0.0135790158248428/1000) -> 0.078577606 | AR9: =IF(ISBLANK($D9),"",$AB9*0.0135790158248428/1000) -> 0 | AS9: =IF(ISBLANK($D9),"",$AC9*0.0135790158248428/1000) -> 0.50773673 | AT9: =IF(ISBLANK($D9),"",AN9-AS9) -> 0.30587917 | AU9: =IF(ISBLANK($D9),"",$S9*0.000738514285714286/1000) -> 0.04424967 | AV9: =IF(ISBLANK($D9),"",$V9*0.000738514285714286/1000) -> 0.018995232 | AW9: =IF(ISBLANK($D9),"",$X9*0.000738514285714286/1000) -> 0.0043452035 | AX9: =IF(ISBLANK($D9),"",$Z9*0.000738514285714286/1000) -> 0.004273556 | AY9: =IF(ISBLANK($D9),"",$AB9*0.000738514285714286/1000) -> 0 | AZ9: =IF(ISBLANK($D9),"",$AC9*0.000738514285714286/1000) -> 0.027613991 | BA9: =IF(ISBLANK($D9),"",AU9-AZ9) -> 0.016635678 | BB9: =IF(V9>0,J9*DATA!$C$4,0) -> 43734.6 | BC9: =IF(X9>0,N9*_xlfn.XLOOKUP(Burgas!O9,DATA!$B$5:$B$6,DATA!$C$5:$C$6,"error",0,1),0) -> 4465.44 | BD9: =IF(Z9>0,(L9-M9)*DATA!$C$7,"0,00 ") -> 16396.5 | BE9: =IF(G9="basement",D9*DATA!$C$8,IF(G9="ground",0,"error")) -> 0 | BF9: =BB9+BC9+BD9+BE9 -> 64596.54 | BG9: 1.48 | BH9: 2.2372243 | BI9: =IF(G9="ground",0.57,IF(G9="basement",0.85,"error")) -> 0.57 | BJ9: 2.33 | BK9: =IF(K9="N",1/((1/BG9)+0.15/0.038),BG9) -> 0.21630769 | BL9: =IF(O9="sloped",1/(1/BJ9+0.15/0.04),IF(O9="flat",1/(1/BJ9+0.15/0.034),"error")) -> 0.23928113 | BM9: 1.1 | BN9: =IF(BI9=0.85,1/(1/BI9+0.05/0.038),BI9) -> 0.57 | BP9: =D9*BS9 -> 1971.35 | BQ9: =H9 -> 7 | BR9: =0.32*BP9 -> 630.832 | BS9: =I9 -> 22.25 | BT9: =IF(BQ9<=3,0.76*BP9,0.8*BP9) -> 1577.08 | BU9: =(($D9*$BI9*($BU$1-$BX$1)+$J9*$BG9*($BU$1-$BW$1)+$L9*$BH9*($BU$1-$BW$1)+$N9*$BJ9*($BU$1-$BV$1))*1.05+$BT9*(5.95))/1000 -> 51.99336 | BV9: =(($D9*$BI9*($BU$1-$BX$1)+$J9*$BK9*($BU$1-$BW$1)+$L9*$BH9*($BU$1-$BW$1)+$N9*$BJ9*($BU$1-$BV$1))*1.05+$BT9*(5.95))/1000 -> 29.673963 | BW9: =(($D9*$BI9*($BU$1-$BX$1)+$J9*$BG9*($BU$1-$BW$1)+$L9*$BH9*($BU$1-$BW$1)+$N9*$BL9*($BU$1-$BV$1))*1.05+$BT9*(5.95))/1000 -> 46.887746 | BX9: =(($D9*$BI9*($BU$1-$BX$1)+$J9*$BG9*($BU$1-$BW$1)+$L9*$BM9*($BU$1-$BW$1)+$N9*$BJ9*($BU$1-$BV$1))*1.05+$BT9*(5.95))/1000 -> 46.971932 | BY9: =(($D9*$BN9*($BU$1-$BX$1)+$J9*$BG9*($BU$1-$BW$1)+$L9*$BH9*($BU$1-$BW$1)+$N9*$BJ9*($BU$1-$BV$1))*1.05+$BT9*(5.95))/1000 -> 51.99336 | BZ9: =BU9*1152.4 -> 59917.148 | CA9: =BV9*1152.4 -> 34196.275 | CB9: =BW9*1152.4 -> 54033.439 | CC9: =BX9*1152.4 -> 54130.454 | CD9: =BY9*1152.4 -> 59917.148
A10: 7 | B10: Burgas | C10: Aleksander Stamboliyski 38; Ivaylo 56 | D10: 288.8 | E10: =0.8*D10*H10 -> 1617.28 | F10: 85.7 | G10: Ground | H10: 7 | I10: 22.25 | J10: =F10*I10-L10 -> 1525.455 | K10: N | L10: 381.37 | M10: 113.6 | N10: 303.24 | O10: Sloped | P10: N | Q10: Individual | R10: Electricity, natural gas | S10: =BZ10 -> 155169.27 | T10: =S10/E10 -> 95.944589 | U10: =CA10 -> 96855.203 | V10: =IF(ISBLANK(D10)," ",S10-U10) -> 58314.063 | W10: =CB10 -> 135990.76 | X10: =IF(ISBLANK(D10)," ",S10-W10) -> 19178.502 | Y10: =CC10 -> 140993.96 | Z10: =IF(ISBLANK(D10)," ",S10-Y10) -> 14175.309 | AA10: =CD10 -> 155169.27 | AB10: =IF(ISBLANK(D10)," ",S10-AA10) -> 0 | AC10: =V10+X10+Z10+AB10 -> 91667.874 | AD10: =IF(ISBLANK(D10)," ",S10-AC10) -> 63501.392 | AE10: =AD10/E10 -> 39.264315 | AF10: =1-AD10/S10 -> 0.5907605 | AG10: =IF(ISBLANK($D10),"",S10*_xlfn.XLOOKUP(Q10,DATA!$B$24:$B$25,DATA!$C$24:$C$25,"error",0,1)/1000) -> 20.787488 | AH10: =IF(ISBLANK($D10),"",V10*_xlfn.XLOOKUP(Q10,DATA!$B$24:$B$25,DATA!$C$24:$C$25,"error",0,1)/1000) -> 7.8121328 | AI10: =IF(ISBLANK($D10),"",X10*_xlfn.XLOOKUP(Q10,DATA!$B$24:$B$25,DATA!$C$24:$C$25,"error",0,1)/1000) -> 2.5692774 | AJ10: =IF(ISBLANK($D10),"",Z10*_xlfn.XLOOKUP(Q10,DATA!$B$24:$B$25,DATA!$C$24:$C$25,"error",0,1)/1000) -> 1.899017 | AK10: =IF(ISBLANK($D10),"",AB10*_xlfn.XLOOKUP(Q10,DATA!$B$24:$B$25,DATA!$C$24:$C$25,"error",0,1)/1000) -> 0 | AL10: =SUM(AH10:AK10) -> 12.280427 | AM10: =IF(ISBLANK($D10),"",AG10-AL10) -> 8.5070613 | AN10: =IF(ISBLANK($D10),"",$S10*0.0135790158248428/1000) -> 2.1070459 | AO10: =IF(ISBLANK($D10),"",$V10*0.0135790158248428/1000) -> 0.79184758 | AP10: =IF(ISBLANK($D10),"",$X10*0.0135790158248428/1000) -> 0.26042518 | AQ10: =IF(ISBLANK($D10),"",$Z10*0.0135790158248428/1000) -> 0.19248674 | AR10: =IF(ISBLANK($D10),"",$AB10*0.0135790158248428/1000) -> 0 | AS10: =IF(ISBLANK($D10),"",$AC10*0.0135790158248428/1000) -> 1.2447595 | AT10: =IF(ISBLANK($D10),"",AN10-AS10) -> 0.86228641 | AU10: =IF(ISBLANK($D10),"",$S10*0.000738514285714286/1000) -> 0.11459472 | AV10: =IF(ISBLANK($D10),"",$V10*0.000738514285714286/1000) -> 0.043065768 | AW10: =IF(ISBLANK($D10),"",$X10*0.000738514285714286/1000) -> 0.014163598 | AX10: =IF(ISBLANK($D10),"",$Z10*0.000738514285714286/1000) -> 0.010468668 | AY10: =IF(ISBLANK($D10),"",$AB10*0.000738514285714286/1000) -> 0 | AZ10: =IF(ISBLANK($D10),"",$AC10*0.000738514285714286/1000) -> 0.067698034 | BA10: =IF(ISBLANK($D10),"",AU10-AZ10) -> 0.046896685 | BB10: =IF(V10>0,J10*DATA!$C$4,0) -> 99154.575 | BC10: =IF(X10>0,N10*_xlfn.XLOOKUP(Burgas!O10,DATA!$B$5:$B$6,DATA!$C$5:$C$6,"error",0,1),0) -> 14555.52 | BD10: =IF(Z10>0,(L10-M10)*DATA!$C$7,"0,00 ") -> 40165.5 | BE10: =IF(G10="basement",D10*DATA!$C$8,IF(G10="ground",0,"error")) -> 0 | BF10: =BB10+BC10+BD10+BE10 -> 153875.6 | BG10: 1.48 | BH10: 2.3287215 | BI10: =IF(G10="ground",0.57,IF(G10="basement",0.85,"error")) -> 0.57 | BJ10: 2.33 | BK10: =IF(K10="N",1/((1/BG10)+0.15/0.038),BG10) -> 0.21630769 | BL10: =IF(O10="sloped",1/(1/BJ10+0.15/0.04),IF(O10="flat",1/(1/BJ10+0.15/0.034),"error")) -> 0.23928113 | BM10: 1.1 | BN10: =IF(BI10=0.85,1/(1/BI10+0.05/0.038),BI10) -> 0.57 | BP10: =D10*BS10 -> 6425.8 | BQ10: =H10 -> 7 | BR10: =0.32*BP10 -> 2056.256 | BS10: =I10 -> 22.25 | BT10: =IF(BQ10<=3,0.76*BP10,0.8*BP10) -> 5140.64 | BU10: =(($D10*$BI10*($BU$1-$BX$1)+$J10*$BG10*($BU$1-$BW$1)+$L10*$BH10*($BU$1-$BW$1)+$N10*$BJ10*($BU$1-$BV$1))*1.05+$BT10*(5.95))/1000 -> 134.64879 | BV10: =(($D10*$BI10*($BU$1-$BX$1)+$J10*$BK10*($BU$1-$BW$1)+$L10*$BH10*($BU$1-$BW$1)+$N10*$BJ10*($BU$1-$BV$1))*1.05+$BT10*(5.95))/1000 -> 84.046514 | BW10: =(($D10*$BI10*($BU$1-$BX$1)+$J10*$BG10*($BU$1-$BW$1)+$L10*$BH10*($BU$1-$BW$1)+$N10*$BL10*($BU$1-$BV$1))*1.05+$BT10*(5.95))/1000 -> 118.00656 | BX10: =(($D10*$BI10*($BU$1-$BX$1)+$J10*$BG10*($BU$1-$BW$1)+$L10*$BM10*($BU$1-$BW$1)+$N10*$BJ10*($BU$1-$BV$1))*1.05+$BT10*(5.95))/1000 -> 122.34811 | BY10: =(($D10*$BN10*($BU$1-$BX$1)+$J10*$BG10*($BU$1-$BW$1)+$L10*$BH10*($BU$1-$BW$1)+$N10*$BJ10*($BU$1-$BV$1))*1.05+$BT10*(5.95))/1000 -> 134.64879 | BZ10: =BU10*1152.4 -> 155169.27 | CA10: =BV10*1152.4 -> 96855.203 | CB10: =BW10*1152.4 -> 135990.76 | CC10: =BX10*1152.4 -> 140993.96 | CD10: =BY10*1152.4 -> 155169.27
A11: 8 | B11: Burgas | C11: Aleksander Stamboliyski 38A | D11: 82.9 | E11: =0.8*D11*H11 -> 464.24 | F11: 36.8 | G11: Ground | H11: 7 | I11: 22.25 | J11: =F11*I11-L11 -> 655.04 | K11: Y | L11: 163.76 | M11: 163.76 | N11: 87.045 | O11: Sloped | P11: Y | Q11: Individual | R11: Electricity, natural gas | S11: =BZ11 -> 22072.332 | T11: =S11/E11 -> 47.545089 | U11: =CA11 -> 22072.332 | V11: =IF(ISBLANK(D11)," ",S11-U11) -> 0 | W11: =CB11 -> 21810.459 | X11: =IF(ISBLANK(D11)," ",S11-W11) -> 261.87265 | Y11: =CC11 -> 22072.332 | Z11: =IF(ISBLANK(D11)," ",S11-Y11) -> 0 | AA11: =CD11 -> 22072.332 | AB11: =IF(ISBLANK(D11)," ",S11-AA11) -> 0 | AC11: =V11+X11+Z11+AB11 -> 261.87265 | AD11: =IF(ISBLANK(D11)," ",S11-AC11) -> 21810.459 | AE11: =AD11/E11 -> 46.981 | AF11: =1-AD11/S11 -> 0.011864295 | AG11: =IF(ISBLANK($D11),"",S11*_xlfn.XLOOKUP(Q11,DATA!$B$24:$B$25,DATA!$C$24:$C$25,"error",0,1)/1000) -> 2.9569538 | AH11: =IF(ISBLANK($D11),"",V11*_xlfn.XLOOKUP(Q11,DATA!$B$24:$B$25,DATA!$C$24:$C$25,"error",0,1)/1000) -> 0 | AI11: =IF(ISBLANK($D11),"",X11*_xlfn.XLOOKUP(Q11,DATA!$B$24:$B$25,DATA!$C$24:$C$25,"error",0,1)/1000) -> 0.035082171 | AJ11: =IF(ISBLANK($D11),"",Z11*_xlfn.XLOOKUP(Q11,DATA!$B$24:$B$25,DATA!$C$24:$C$25,"error",0,1)/1000) -> 0 | AK11: =IF(ISBLANK($D11),"",AB11*_xlfn.XLOOKUP(Q11,DATA!$B$24:$B$25,DATA!$C$24:$C$25,"error",0,1)/1000) -> 0 | AL11: =SUM(AH11:AK11) -> 0.035082171 | AM11: =IF(ISBLANK($D11),"",AG11-AL11) -> 2.9218716 | AN11: =IF(ISBLANK($D11),"",$S11*0.0135790158248428/1000) -> 0.29972055 | AO11: =IF(ISBLANK($D11),"",$V11*0.0135790158248428/1000) -> 0 | AP11: =IF(ISBLANK($D11),"",$X11*0.0135790158248428/1000) -> 0.0035559729 | AQ11: =IF(ISBLANK($D11),"",$Z11*0.0135790158248428/1000) -> 0 | AR11: =IF(ISBLANK($D11),"",$AB11*0.0135790158248428/1000) -> 0 | AS11: =IF(ISBLANK($D11),"",$AC11*0.0135790158248428/1000) -> 0.0035559729 | AT11: =IF(ISBLANK($D11),"",AN11-AS11) -> 0.29616457 | AU11: =IF(ISBLANK($D11),"",$S11*0.000738514285714286/1000) -> 0.016300732 | AV11: =IF(ISBLANK($D11),"",$V11*0.000738514285714286/1000) -> 0 | AW11: =IF(ISBLANK($D11),"",$X11*0.000738514285714286/1000) -> 0.0001933967 | AX11: =IF(ISBLANK($D11),"",$Z11*0.000738514285714286/1000) -> 0 | AY11: =IF(ISBLANK($D11),"",$AB11*0.000738514285714286/1000) -> 0 | AZ11: =IF(ISBLANK($D11),"",$AC11*0.000738514285714286/1000) -> 0.0001933967 | BA11: =IF(ISBLANK($D11),"",AU11-AZ11) -> 0.016107336 | BB11: =IF(V11>0,J11*DATA!$C$4,0) -> 0 | BC11: =IF(X11>0,N11*_xlfn.XLOOKUP(Burgas!O11,DATA!$B$5:$B$6,DATA!$C$5:$C$6,"error",0,1),0) -> 4178.16 | BD11: =IF(Z11>0,(L11-M11)*DATA!$C$7,"0,00 ") -> 0,00 | BE11: =IF(G11="basement",D11*DATA!$C$8,IF(G11="ground",0,"error")) -> 0 | BF11: =BB11+BC11+BD11+BE11 -> 4178.16 | BG11: 0.25 | BH11: 1.1 | BI11: =IF(G11="ground",0.57,IF(G11="basement",0.85,"error")) -> 0.57 | BJ11: 0.22 | BK11: =IF(K11="N",1/((1/BG11)+0.15/0.038),BG11) -> 0.25 | BL11: =IF(O11="sloped",1/(1/BJ11+0.15/0.04),IF(O11="flat",1/(1/BJ11+0.15/0.034),"error")) -> 0.12054795 | BM11: 1.1 | BN11: =IF(BI11=0.85,1/(1/BI11+0.05/0.038),BI11) -> 0.57 | BP11: =D11*BS11 -> 1844.525 | BQ11: =H11 -> 7 | BR11: =0.32*BP11 -> 590.248 | BS11: =I11 -> 22.25 | BT11: =IF(BQ11<=3,0.76*BP11,0.8*BP11) -> 1475.62 | BU11: =(($D11*$BI11*($BU$1-$BX$1)+$J11*$BG11*($BU$1-$BW$1)+$L11*$BH11*($BU$1-$BW$1)+$N11*$BJ11*($BU$1-$BV$1))*1.05+$BT11*(5.95))/1000 -> 19.15336 | BV11: =(($D11*$BI11*($BU$1-$BX$1)+$J11*$BK11*($BU$1-$BW$1)+$L11*$BH11*($BU$1-$BW$1)+$N11*$BJ11*($BU$1-$BV$1))*1.05+$BT11*(5.95))/1000 -> 19.15336 | BW11: =(($D11*$BI11*($BU$1-$BX$1)+$J11*$BG11*($BU$1-$BW$1)+$L11*$BH11*($BU$1-$BW$1)+$N11*$BL11*($BU$1-$BV$1))*1.05+$BT11*(5.95))/1000 -> 18.926119 | BX11: =(($D11*$BI11*($BU$1-$BX$1)+$J11*$BG11*($BU$1-$BW$1)+$L11*$BM11*($BU$1-$BW$1)+$N11*$BJ11*($BU$1-$BV$1))*1.05+$BT11*(5.95))/1000 -> 19.15336 | BY11: =(($D11*$BN11*($BU$1-$BX$1)+$J11*$BG11*($BU$1-$BW$1)+$L11*$BH11*($BU$1-$BW$1)+$N11*$BJ11*($BU$1-$BV$1))*1.05+$BT11*(5.95))/1000 -> 19.15336 | BZ11: =BU11*1152.4 -> 22072.332 | CA11: =BV11*1152.4 -> 22072.332 | CB11: =BW11*1152.4 -> 21810.459 | CC11: =BX11*1152.4 -> 22072.332 | CD11: =BY11*1152.4 -> 22072.332
A12: 9 | B12: Burgas | C12: Aleksander Stamboliyski 39 | D12: 296.9 | E12: =0.8*D12*H12 -> 1425.12 | F12: 69 | G12: Ground | H12: 6 | I12: 20.5 | J12: =F12*I12-L12 -> 1131.6 | K12: Y | L12: 282.9 | M12: 226.32 | N12: 311.745 | O12: Sloped | P12: N | Q12: Individual | R12: Electricity, natural gas | S12: =BZ12 -> 79807.642 | T12: =S12/E12 -> 56.000647 | U12: =CA12 -> 79807.642 | V12: =IF(ISBLANK(D12)," ",S12-U12) -> 0 | W12: =CB12 -> 60091.239 | X12: =IF(ISBLANK(D12)," ",S12-W12) -> 19716.403 | Y12: =CC12 -> 76812.389 | Z12: =IF(ISBLANK(D12)," ",S12-Y12) -> 2995.2533 | AA12: =CD12 -> 79807.642 | AB12: =IF(ISBLANK(D12)," ",S12-AA12) -> 0 | AC12: =V12+X12+Z12+AB12 -> 22711.657 | AD12: =IF(ISBLANK(D12)," ",S12-AC12) -> 57095.986 | AE12: =AD12/E12 -> 40.063985 | AF12: =1-AD12/S12 -> 0.28457997 | AG12: =IF(ISBLANK($D12),"",S12*_xlfn.XLOOKUP(Q12,DATA!$B$24:$B$25,DATA!$C$24:$C$25,"error",0,1)/1000) -> 10.691553 | AH12: =IF(ISBLANK($D12),"",V12*_xlfn.XLOOKUP(Q12,DATA!$B$24:$B$25,DATA!$C$24:$C$25,"error",0,1)/1000) -> 0 | AI12: =IF(ISBLANK($D12),"",X12*_xlfn.XLOOKUP(Q12,DATA!$B$24:$B$25,DATA!$C$24:$C$25,"error",0,1)/1000) -> 2.6413382 | AJ12: =IF(ISBLANK($D12),"",Z12*_xlfn.XLOOKUP(Q12,DATA!$B$24:$B$25,DATA!$C$24:$C$25,"error",0,1)/1000) -> 0.40126369 | AK12: =IF(ISBLANK($D12),"",AB12*_xlfn.XLOOKUP(Q12,DATA!$B$24:$B$25,DATA!$C$24:$C$25,"error",0,1)/1000) -> 0 | AL12: =SUM(AH12:AK12) -> 3.0426019 | AM12: =IF(ISBLANK($D12),"",AG12-AL12) -> 7.6489512 | AN12: =IF(ISBLANK($D12),"",$S12*0.0135790158248428/1000) -> 1.0837092 | AO12: =IF(ISBLANK($D12),"",$V12*0.0135790158248428/1000) -> 0 | AP12: =IF(ISBLANK($D12),"",$X12*0.0135790158248428/1000) -> 0.26772935 | AQ12: =IF(ISBLANK($D12),"",$Z12*0.0135790158248428/1000) -> 0.040672591 | AR12: =IF(ISBLANK($D12),"",$AB12*0.0135790158248428/1000) -> 0 | AS12: =IF(ISBLANK($D12),"",$AC12*0.0135790158248428/1000) -> 0.30840194 | AT12: =IF(ISBLANK($D12),"",AN12-AS12) -> 0.77530729 | AU12: =IF(ISBLANK($D12),"",$S12*0.000738514285714286/1000) -> 0.058939084 | AV12: =IF(ISBLANK($D12),"",$V12*0.000738514285714286/1000) -> 0 | AW12: =IF(ISBLANK($D12),"",$X12*0.000738514285714286/1000) -> 0.014560846 | AX12: =IF(ISBLANK($D12),"",$Z12*0.000738514285714286/1000) -> 0.0022120373 | AY12: =IF(ISBLANK($D12),"",$AB12*0.000738514285714286/1000) -> 0 | AZ12: =IF(ISBLANK($D12),"",$AC12*0.000738514285714286/1000) -> 0.016772883 | BA12: =IF(ISBLANK($D12),"",AU12-AZ12) -> 0.042166201 | BB12: =IF(V12>0,J12*DATA!$C$4,0) -> 0 | BC12: =IF(X12>0,N12*_xlfn.XLOOKUP(Burgas!O12,DATA!$B$5:$B$6,DATA!$C$5:$C$6,"error",0,1),0) -> 14963.76 | BD12: =IF(Z12>0,(L12-M12)*DATA!$C$7,"0,00 ") -> 8487 | BE12: =IF(G12="basement",D12*DATA!$C$8,IF(G12="ground",0,"error")) -> 0 | BF12: =BB12+BC12+BD12+BE12 -> 23450.76 | BG12: 0.25 | BH12: 1.45 | BI12: =IF(G12="ground",0.57,IF(G12="basement",0.85,"error")) -> 0.57 | BJ12: 2.33 | BK12: =IF(K12="N",1/((1/BG12)+0.15/0.038),BG12) -> 0.25 | BL12: =IF(O12="sloped",1/(1/BJ12+0.15/0.04),IF(O12="flat",1/(1/BJ12+0.15/0.034),"error")) -> 0.23928113 | BM12: 1.1 | BN12: =IF(BI12=0.85,1/(1/BI12+0.05/0.038),BI12) -> 0.57 | BP12: =D12*BS12 -> 6086.45 | BQ12: =H12 -> 6 | BR12: =0.32*BP12 -> 1947.664 | BS12: =I12 -> 20.5 | BT12: =IF(BQ12<=3,0.76*BP12,0.8*BP12) -> 4869.16 | BU12: =(($D12*$BI12*($BU$1-$BX$1)+$J12*$BG12*($BU$1-$BW$1)+$L12*$BH12*($BU$1-$BW$1)+$N12*$BJ12*($BU$1-$BV$1))*1.05+$BT12*(5.95))/1000 -> 69.253421 | BV12: =(($D12*$BI12*($BU$1-$BX$1)+$J12*$BK12*($BU$1-$BW$1)+$L12*$BH12*($BU$1-$BW$1)+$N12*$BJ12*($BU$1-$BV$1))*1.05+$BT12*(5.95))/1000 -> 69.253421 | BW12: =(($D12*$BI12*($BU$1-$BX$1)+$J12*$BG12*($BU$1-$BW$1)+$L12*$BH12*($BU$1-$BW$1)+$N12*$BL12*($BU$1-$BV$1))*1.05+$BT12*(5.95))/1000 -> 52.144428 | BX12: =(($D12*$BI12*($BU$1-$BX$1)+$J12*$BG12*($BU$1-$BW$1)+$L12*$BM12*($BU$1-$BW$1)+$N12*$BJ12*($BU$1-$BV$1))*1.05+$BT12*(5.95))/1000 -> 66.654277 | BY12: =(($D12*$BN12*($BU$1-$BX$1)+$J12*$BG12*($BU$1-$BW$1)+$L12*$BH12*($BU$1-$BW$1)+$N12*$BJ12*($BU$1-$BV$1))*1.05+$BT12*(5.95))/1000 -> 69.253421 | BZ12: =BU12*1152.4 -> 79807.642 | CA12: =BV12*1152.4 -> 79807.642 | CB12: =BW12*1152.4 -> 60091.239 | CC12: =BX12*1152.4 -> 76812.389 | CD12: =BY12*1152.4 -> 79807.642
A13: 10 | B13: Burgas | C13: Aleksander Stamboliyski 40 | D13: 172.1 | E13: =0.8*D13*H13 -> 550.72 | F13: 52.6 | G13: Basement | H13: 4 | I13: 14.5 | J13: =F13*I13-L13 -> 610.16 | K13: N | L13: 152.54 | M13: 76.27 | N13: 180.705 | O13: Sloped | P13: N | Q13: Individual | R13: Electricity, natural gas | S13: =BZ13 -> 65865.261 | T13: =S13/E13 -> 119.59846 | U13: =CA13 -> 42540.477 | V13: =IF(ISBLANK(D13)," ",S13-U13) -> 23324.784 | W13: =CB13 -> 54436.521 | X13: =IF(ISBLANK(D13)," ",S13-W13) -> 11428.74 | Y13: =CC13 -> 61827.651 | Z13: =IF(ISBLANK(D13)," ",S13-Y13) -> 4037.6099 | AA13: =CD13 -> 64276.589 | AB13: =IF(ISBLANK(D13)," ",S13-AA13) -> 1588.6723 | AC13: =V13+X13+Z13+AB13 -> 40379.807 | AD13: =IF(ISBLANK(D13)," ",S13-AC13) -> 25485.455 | AE13: =AD13/E13 -> 46.27661 | AF13: =1-AD13/S13 -> 0.61306683 | AG13: =IF(ISBLANK($D13),"",S13*_xlfn.XLOOKUP(Q13,DATA!$B$24:$B$25,DATA!$C$24:$C$25,"error",0,1)/1000) -> 8.8237407 | AH13: =IF(ISBLANK($D13),"",V13*_xlfn.XLOOKUP(Q13,DATA!$B$24:$B$25,DATA!$C$24:$C$25,"error",0,1)/1000) -> 3.1247405 | AI13: =IF(ISBLANK($D13),"",X13*_xlfn.XLOOKUP(Q13,DATA!$B$24:$B$25,DATA!$C$24:$C$25,"error",0,1)/1000) -> 1.5310687 | AJ13: =IF(ISBLANK($D13),"",Z13*_xlfn.XLOOKUP(Q13,DATA!$B$24:$B$25,DATA!$C$24:$C$25,"error",0,1)/1000) -> 0.54090459 | AK13: =IF(ISBLANK($D13),"",AB13*_xlfn.XLOOKUP(Q13,DATA!$B$24:$B$25,DATA!$C$24:$C$25,"error",0,1)/1000) -> 0.21282892 | AL13: =SUM(AH13:AK13) -> 5.4095427 | AM13: =IF(ISBLANK($D13),"",AG13-AL13) -> 3.414198 | AN13: =IF(ISBLANK($D13),"",$S13*0.0135790158248428/1000) -> 0.89438542 | AO13: =IF(ISBLANK($D13),"",$V13*0.0135790158248428/1000) -> 0.31672761 | AP13: =IF(ISBLANK($D13),"",$X13*0.0135790158248428/1000) -> 0.15519105 | AQ13: =IF(ISBLANK($D13),"",$Z13*0.0135790158248428/1000) -> 0.054826768 | AR13: =IF(ISBLANK($D13),"",$AB13*0.0135790158248428/1000) -> 0.021572606 | AS13: =IF(ISBLANK($D13),"",$AC13*0.0135790158248428/1000) -> 0.54831803 | AT13: =IF(ISBLANK($D13),"",AN13-AS13) -> 0.34606739 | AU13: =IF(ISBLANK($D13),"",$S13*0.000738514285714286/1000) -> 0.048642436 | AV13: =IF(ISBLANK($D13),"",$V13*0.000738514285714286/1000) -> 0.017225686 | AW13: =IF(ISBLANK($D13),"",$X13*0.000738514285714286/1000) -> 0.008440288 | AX13: =IF(ISBLANK($D13),"",$Z13*0.000738514285714286/1000) -> 0.0029818326 | AY13: =IF(ISBLANK($D13),"",$AB13*0.000738514285714286/1000) -> 0.0011732572 | AZ13: =IF(ISBLANK($D13),"",$AC13*0.000738514285714286/1000) -> 0.029821064 | BA13: =IF(ISBLANK($D13),"",AU13-AZ13) -> 0.018821372 | BB13: =IF(V13>0,J13*DATA!$C$4,0) -> 39660.4 | BC13: =IF(X13>0,N13*_xlfn.XLOOKUP(Burgas!O13,DATA!$B$5:$B$6,DATA!$C$5:$C$6,"error",0,1),0) -> 8673.84 | BD13: =IF(Z13>0,(L13-M13)*DATA!$C$7,"0,00 ") -> 11440.5 | BE13: =IF(G13="basement",D13*DATA!$C$8,IF(G13="ground",0,"error")) -> 6884 | BF13: =BB13+BC13+BD13+BE13 -> 66658.74 | BG13: 1.48 | BH13: 1.975 | BI13: =IF(G13="ground",0.57,IF(G13="basement",0.85,"error")) -> 0.85 | BJ13: 2.33 | BK13: =IF(K13="N",1/((1/BG13)+0.15/0.038),BG13) -> 0.21630769 | BL13: =IF(O13="sloped",1/(1/BJ13+0.15/0.04),IF(O13="flat",1/(1/BJ13+0.15/0.034),"error")) -> 0.23928113 | BM13: 1.1 | BN13: =IF(BI13=0.85,1/(1/BI13+0.05/0.038),BI13) -> 0.40124224 | BP13: =D13*BS13 -> 2495.45 | BQ13: =H13 -> 4 | BR13: =0.32*BP13 -> 798.544 | BS13: =I13 -> 14.5 | BT13: =IF(BQ13<=3,0.76*BP13,0.8*BP13) -> 1996.36 | BU13: =(($D13*$BI13*($BU$1-$BX$1)+$J13*$BG13*($BU$1-$BW$1)+$L13*$BH13*($BU$1-$BW$1)+$N13*$BJ13*($BU$1-$BV$1))*1.05+$BT13*(5.95))/1000 -> 57.15486 | BV13: =(($D13*$BI13*($BU$1-$BX$1)+$J13*$BK13*($BU$1-$BW$1)+$L13*$BH13*($BU$1-$BW$1)+$N13*$BJ13*($BU$1-$BV$1))*1.05+$BT13*(5.95))/1000 -> 36.91468 | BW13: =(($D13*$BI13*($BU$1-$BX$1)+$J13*$BG13*($BU$1-$BW$1)+$L13*$BH13*($BU$1-$BW$1)+$N13*$BL13*($BU$1-$BV$1))*1.05+$BT13*(5.95))/1000 -> 47.237522 | BX13: =(($D13*$BI13*($BU$1-$BX$1)+$J13*$BG13*($BU$1-$BW$1)+$L13*$BM13*($BU$1-$BW$1)+$N13*$BJ13*($BU$1-$BV$1))*1.05+$BT13*(5.95))/1000 -> 53.651207 | BY13: =(($D13*$BN13*($BU$1-$BX$1)+$J13*$BG13*($BU$1-$BW$1)+$L13*$BH13*($BU$1-$BW$1)+$N13*$BJ13*($BU$1-$BV$1))*1.05+$BT13*(5.95))/1000 -> 55.776283 | BZ13: =BU13*1152.4 -> 65865.261 | CA13: =BV13*1152.4 -> 42540.477 | CB13: =BW13*1152.4 -> 54436.521 | CC13: =BX13*1152.4 -> 61827.651 | CD13: =BY13*1152.4 -> 64276.589
A14: 11 | B14: Burgas | C14: Aleksander Stamboliyski 41 | D14: 97.8 | E14: =0.8*D14*H14 -> 469.44 | F14: 48 | G14: Ground | H14: 6 | I14: 20.5 | J14: =F14*I14-L14 -> 787.2 | K14: N | L14: 196.8 | M14: 64.9 | N14: 102.69 | O14: Sloped | P14: N | Q14: Individual | R14: Electricity, natural gas | S14: =BZ14 -> 68157.135 | T14: =S14/E14 -> 145.18817 | U14: =CA14 -> 38064.585 | V14: =IF(ISBLANK(D14)," ",S14-U14) -> 30092.55 | W14: =CB14 -> 61662.476 | X14: =IF(ISBLANK(D14)," ",S14-W14) -> 6494.659 | Y14: =CC14 -> 61174.563 | Z14: =IF(ISBLANK(D14)," ",S14-Y14) -> 6982.5717 | AA14: =CD14 -> 68157.135 | AB14: =IF(ISBLANK(D14)," ",S14-AA14) -> 0 | AC14: =V14+X14+Z14+AB14 -> 43569.78 | AD14: =IF(ISBLANK(D14)," ",S14-AC14) -> 24587.355 | AE14: =AD14/E14 -> 52.375926 | AF14: =1-AD14/S14 -> 0.63925487 | AG14: =IF(ISBLANK($D14),"",S14*_xlfn.XLOOKUP(Q14,DATA!$B$24:$B$25,DATA!$C$24:$C$25,"error",0,1)/1000) -> 9.130775 | AH14: =IF(ISBLANK($D14),"",V14*_xlfn.XLOOKUP(Q14,DATA!$B$24:$B$25,DATA!$C$24:$C$25,"error",0,1)/1000) -> 4.0313945 | AI14: =IF(ISBLANK($D14),"",X14*_xlfn.XLOOKUP(Q14,DATA!$B$24:$B$25,DATA!$C$24:$C$25,"error",0,1)/1000) -> 0.87006694 | AJ14: =IF(ISBLANK($D14),"",Z14*_xlfn.XLOOKUP(Q14,DATA!$B$24:$B$25,DATA!$C$24:$C$25,"error",0,1)/1000) -> 0.93543091 | AK14: =IF(ISBLANK($D14),"",AB14*_xlfn.XLOOKUP(Q14,DATA!$B$24:$B$25,DATA!$C$24:$C$25,"error",0,1)/1000) -> 0 | AL14: =SUM(AH14:AK14) -> 5.8368924 | AM14: =IF(ISBLANK($D14),"",AG14-AL14) -> 3.2938826 | AN14: =IF(ISBLANK($D14),"",$S14*0.0135790158248428/1000) -> 0.92550681 | AO14: =IF(ISBLANK($D14),"",$V14*0.0135790158248428/1000) -> 0.40862721 | AP14: =IF(ISBLANK($D14),"",$X14*0.0135790158248428/1000) -> 0.088191077 | AQ14: =IF(ISBLANK($D14),"",$Z14*0.0135790158248428/1000) -> 0.094816451 | AR14: =IF(ISBLANK($D14),"",$AB14*0.0135790158248428/1000) -> 0 | AS14: =IF(ISBLANK($D14),"",$AC14*0.0135790158248428/1000) -> 0.59163473 | AT14: =IF(ISBLANK($D14),"",AN14-AS14) -> 0.33387208 | AU14: =IF(ISBLANK($D14),"",$S14*0.000738514285714286/1000) -> 0.050335018 | AV14: =IF(ISBLANK($D14),"",$V14*0.000738514285714286/1000) -> 0.022223778 | AW14: =IF(ISBLANK($D14),"",$X14*0.000738514285714286/1000) -> 0.0047963984 | AX14: =IF(ISBLANK($D14),"",$Z14*0.000738514285714286/1000) -> 0.0051567289 | AY14: =IF(ISBLANK($D14),"",$AB14*0.000738514285714286/1000) -> 0 | AZ14: =IF(ISBLANK($D14),"",$AC14*0.000738514285714286/1000) -> 0.032176905 | BA14: =IF(ISBLANK($D14),"",AU14-AZ14) -> 0.018158113 | BB14: =IF(V14>0,J14*DATA!$C$4,0) -> 51168 | BC14: =IF(X14>0,N14*_xlfn.XLOOKUP(Burgas!O14,DATA!$B$5:$B$6,DATA!$C$5:$C$6,"error",0,1),0) -> 4929.12 | BD14: =IF(Z14>0,(L14-M14)*DATA!$C$7,"0,00 ") -> 19785 | BE14: =IF(G14="basement",D14*DATA!$C$8,IF(G14="ground",0,"error")) -> 0 | BF14: =BB14+BC14+BD14+BE14 -> 75882.12 | BG14: 1.48 | BH14: 2.2728913 | BI14: =IF(G14="ground",0.57,IF(G14="basement",0.85,"error")) -> 0.57 | BJ14: 2.33 | BK14: =IF(K14="N",1/((1/BG14)+0.15/0.038),BG14) -> 0.21630769 | BL14: =IF(O14="sloped",1/(1/BJ14+0.15/0.04),IF(O14="flat",1/(1/BJ14+0.15/0.034),"error")) -> 0.23928113 | BM14: 1.1 | BN14: =IF(BI14=0.85,1/(1/BI14+0.05/0.038),BI14) -> 0.57 | BP14: =D14*BS14 -> 2004.9 | BQ14: =H14 -> 6 | BR14: =0.32*BP14 -> 641.568 | BS14: =I14 -> 20.5 | BT14: =IF(BQ14<=3,0.76*BP14,0.8*BP14) -> 1603.92 | BU14: =(($D14*$BI14*($BU$1-$BX$1)+$J14*$BG14*($BU$1-$BW$1)+$L14*$BH14*($BU$1-$BW$1)+$N14*$BJ14*($BU$1-$BV$1))*1.05+$BT14*(5.95))/1000 -> 59.143643 | BV14: =(($D14*$BI14*($BU$1-$BX$1)+$J14*$BK14*($BU$1-$BW$1)+$L14*$BH14*($BU$1-$BW$1)+$N14*$BJ14*($BU$1-$BV$1))*1.05+$BT14*(5.95))/1000 -> 33.030706 | BW14: =(($D14*$BI14*($BU$1-$BX$1)+$J14*$BG14*($BU$1-$BW$1)+$L14*$BH14*($BU$1-$BW$1)+$N14*$BL14*($BU$1-$BV$1))*1.05+$BT14*(5.95))/1000 -> 53.507876 | BX14: =(($D14*$BI14*($BU$1-$BX$1)+$J14*$BG14*($BU$1-$BW$1)+$L14*$BM14*($BU$1-$BW$1)+$N14*$BJ14*($BU$1-$BV$1))*1.05+$BT14*(5.95))/1000 -> 53.084487 | BY14: =(($D14*$BN14*($BU$1-$BX$1)+$J14*$BG14*($BU$1-$BW$1)+$L14*$BH14*($BU$1-$BW$1)+$N14*$BJ14*($BU$1-$BV$1))*1.05+$BT14*(5.95))/1000 -> 59.143643 | BZ14: =BU14*1152.4 -> 68157.135 | CA14: =BV14*1152.4 -> 38064.585 | CB14: =BW14*1152.4 -> 61662.476 | CC14: =BX14*1152.4 -> 61174.563 | CD14: =BY14*1152.4 -> 68157.135
A15: 12 | B15: Burgas | C15: Aleksander Stamboliyski 42 | D15: 270.3 | E15: =0.8*D15*H15 -> 1297.44 | F15: 69.6 | G15: Ground | H15: 6 | I15: 20.5 | J15: =F15*I15-L15 -> 1141.44 | K15: N | L15: 285.36 | M15: 285.36 | N15: 283.815 | O15: Sloped | P15: Y | Q15: Individual | R15: Electricity, natural gas | S15: =BZ15 -> 96052.295 | T15: =S15/E15 -> 74.032167 | U15: =CA15 -> 52418.098 | V15: =IF(ISBLANK(D15)," ",S15-U15) -> 43634.197 | W15: =CB15 -> 95198.444 | X15: =IF(ISBLANK(D15)," ",S15-W15) -> 853.85016 | Y15: =CC15 -> 96052.295 | Z15: =IF(ISBLANK(D15)," ",S15-Y15) -> 0 | AA15: =CD15 -> 96052.295 | AB15: =IF(ISBLANK(D15)," ",S15-AA15) -> 0 | AC15: =V15+X15+Z15+AB15 -> 44488.047 | AD15: =IF(ISBLANK(D15)," ",S15-AC15) -> 51564.247 | AE15: =AD15/E15 -> 39.743069 | AF15: =1-AD15/S15 -> 0.46316485 | AG15: =IF(ISBLANK($D15),"",S15*_xlfn.XLOOKUP(Q15,DATA!$B$24:$B$25,DATA!$C$24:$C$25,"error",0,1)/1000) -> 12.867793 | AH15: =IF(ISBLANK($D15),"",V15*_xlfn.XLOOKUP(Q15,DATA!$B$24:$B$25,DATA!$C$24:$C$25,"error",0,1)/1000) -> 5.8455221 | AI15: =IF(ISBLANK($D15),"",X15*_xlfn.XLOOKUP(Q15,DATA!$B$24:$B$25,DATA!$C$24:$C$25,"error",0,1)/1000) -> 0.11438735 | AJ15: =IF(ISBLANK($D15),"",Z15*_xlfn.XLOOKUP(Q15,DATA!$B$24:$B$25,DATA!$C$24:$C$25,"error",0,1)/1000) -> 0 | AK15: =IF(ISBLANK($D15),"",AB15*_xlfn.XLOOKUP(Q15,DATA!$B$24:$B$25,DATA!$C$24:$C$25,"error",0,1)/1000) -> 0 | AL15: =SUM(AH15:AK15) -> 5.9599094 | AM15: =IF(ISBLANK($D15),"",AG15-AL15) -> 6.9078834 | AN15: =IF(ISBLANK($D15),"",$S15*0.0135790158248428/1000) -> 1.3042956 | AO15: =IF(ISBLANK($D15),"",$V15*0.0135790158248428/1000) -> 0.59250945 | AP15: =IF(ISBLANK($D15),"",$X15*0.0135790158248428/1000) -> 0.011594445 | AQ15: =IF(ISBLANK($D15),"",$Z15*0.0135790158248428/1000) -> 0 | AR15: =IF(ISBLANK($D15),"",$AB15*0.0135790158248428/1000) -> 0 | AS15: =IF(ISBLANK($D15),"",$AC15*0.0135790158248428/1000) -> 0.60410389 | AT15: =IF(ISBLANK($D15),"",AN15-AS15) -> 0.70019173 | AU15: =IF(ISBLANK($D15),"",$S15*0.000738514285714286/1000) -> 0.070935992 | AV15: =IF(ISBLANK($D15),"",$V15*0.000738514285714286/1000) -> 0.032224478 | AW15: =IF(ISBLANK($D15),"",$X15*0.000738514285714286/1000) -> 0.00063058054 | AX15: =IF(ISBLANK($D15),"",$Z15*0.000738514285714286/1000) -> 0 | AY15: =IF(ISBLANK($D15),"",$AB15*0.000738514285714286/1000) -> 0 | AZ15: =IF(ISBLANK($D15),"",$AC15*0.000738514285714286/1000) -> 0.032855058 | BA15: =IF(ISBLANK($D15),"",AU15-AZ15) -> 0.038080933 | BB15: =IF(V15>0,J15*DATA!$C$4,0) -> 74193.6 | BC15: =IF(X15>0,N15*_xlfn.XLOOKUP(Burgas!O15,DATA!$B$5:$B$6,DATA!$C$5:$C$6,"error",0,1),0) -> 13623.12 | BD15: =IF(Z15>0,(L15-M15)*DATA!$C$7,"0,00 ") -> 0,00 | BE15: =IF(G15="basement",D15*DATA!$C$8,IF(G15="ground",0,"error")) -> 0 | BF15: =BB15+BC15+BD15+BE15 -> 87816.72 | BG15: 1.48 | BH15: 1.1 | BI15: =IF(G15="ground",0.57,IF(G15="basement",0.85,"error")) -> 0.57 | BJ15: 0.22 | BK15: =IF(K15="N",1/((1/BG15)+0.15/0.038),BG15) -> 0.21630769 | BL15: =IF(O15="sloped",1/(1/BJ15+0.15/0.04),IF(O15="flat",1/(1/BJ15+0.15/0.034),"error")) -> 0.12054795 | BM15: 1.1 | BN15: =IF(BI15=0.85,1/(1/BI15+0.05/0.038),BI15) -> 0.57 | BP15: =D15*BS15 -> 5541.15 | BQ15: =H15 -> 6 | BR15: =0.32*BP15 -> 1773.168 | BS15: =I15 -> 20.5 | BT15: =IF(BQ15<=3,0.76*BP15,0.8*BP15) -> 4432.92 | BU15: =(($D15*$BI15*($BU$1-$BX$1)+$J15*$BG15*($BU$1-$BW$1)+$L15*$BH15*($BU$1-$BW$1)+$N15*$BJ15*($BU$1-$BV$1))*1.05+$BT15*(5.95))/1000 -> 83.349787 | BV15: =(($D15*$BI15*($BU$1-$BX$1)+$J15*$BK15*($BU$1-$BW$1)+$L15*$BH15*($BU$1-$BW$1)+$N15*$BJ15*($BU$1-$BV$1))*1.05+$BT15*(5.95))/1000 -> 45.486027 | BW15: =(($D15*$BI15*($BU$1-$BX$1)+$J15*$BG15*($BU$1-$BW$1)+$L15*$BH15*($BU$1-$BW$1)+$N15*$BL15*($BU$1-$BV$1))*1.05+$BT15*(5.95))/1000 -> 82.608855 | BX15: =(($D15*$BI15*($BU$1-$BX$1)+$J15*$BG15*($BU$1-$BW$1)+$L15*$BM15*($BU$1-$BW$1)+$N15*$BJ15*($BU$1-$BV$1))*1.05+$BT15*(5.95))/1000 -> 83.349787 | BY15: =(($D15*$BN15*($BU$1-$BX$1)+$J15*$BG15*($BU$1-$BW$1)+$L15*$BH15*($BU$1-$BW$1)+$N15*$BJ15*($BU$1-$BV$1))*1.05+$BT15*(5.95))/1000 -> 83.349787 | BZ15: =BU15*1152.4 -> 96052.295 | CA15: =BV15*1152.4 -> 52418.098 | CB15: =BW15*1152.4 -> 95198.444 | CC15: =BX15*1152.4 -> 96052.295 | CD15: =BY15*1152.4 -> 96052.295
... A121: 118 | B121: Burgas | C121: Boulevard San Stefano 47, 49 | D121: 538.6 | E121: =0.8*D121*H121 -> 3016.16 | F121: 94.6 | G121: Basement | H121: 7 | I121: 22.25 | J121: =F121*I121-L121 -> 1705.05 | K121: N | L121: 399.8 | M121: 339.8 | N121: 565.53 | O121: Sloped | P121: N | Q121: Individual | R121: Electricity, natural gas | S121: =BZ121 -> 207830.65 | T121: =S121/E121 -> 68.905711 | U121: =CA121 -> 142651.15 | V121: =IF(ISBLANK(D121)," ",S121-U121) -> 65179.499 | W121: =CB121 -> 172063.54 | X121: =IF(ISBLANK(D121)," ",S121-W121) -> 35767.11 | Y121: =CC121 -> 204654.35 | Z121: =IF(ISBLANK(D121)," ",S121-Y121) -> 3176.3025 | AA121: =CD121 -> 202858.78 | AB121: =IF(ISBLANK(D121)," ",S121-AA121) -> 4971.8703 | AC121: =V121+X121+Z121+AB121 -> 109094.78 | AD121: =IF(ISBLANK(D121)," ",S121-AC121) -> 98735.869 | AE121: =AD121/E121 -> 32.73562 | AF121: =1-AD121/S121 -> 0.52492152 | AG121: =IF(ISBLANK($D121),"",S121*_xlfn.XLOOKUP(Q121,DATA!$B$24:$B$25,DATA!$C$24:$C$25,"error",0,1)/1000) -> 27.842352 | AH121: =IF(ISBLANK($D121),"",V121*_xlfn.XLOOKUP(Q121,DATA!$B$24:$B$25,DATA!$C$24:$C$25,"error",0,1)/1000) -> 8.7318715 | AI121: =IF(ISBLANK($D121),"",X121*_xlfn.XLOOKUP(Q121,DATA!$B$24:$B$25,DATA!$C$24:$C$25,"error",0,1)/1000) -> 4.7915956 | AJ121: =IF(ISBLANK($D121),"",Z121*_xlfn.XLOOKUP(Q121,DATA!$B$24:$B$25,DATA!$C$24:$C$25,"error",0,1)/1000) -> 0.42551823 | AK121: =IF(ISBLANK($D121),"",AB121*_xlfn.XLOOKUP(Q121,DATA!$B$24:$B$25,DATA!$C$24:$C$25,"error",0,1)/1000) -> 0.66606423 | AL121: =SUM(AH121:AK121) -> 14.61505 | AM121: =IF(ISBLANK($D121),"",AG121-AL121) -> 13.227302 | AN121: =IF(ISBLANK($D121),"",$S121*0.0135790158248428/1000) -> 2.8221357 | AO121: =IF(ISBLANK($D121),"",$V121*0.0135790158248428/1000) -> 0.88507345 | AP121: =IF(ISBLANK($D121),"",$X121*0.0135790158248428/1000) -> 0.48568215 | AQ121: =IF(ISBLANK($D121),"",$Z121*0.0135790158248428/1000) -> 0.043131062 | AR121: =IF(ISBLANK($D121),"",$AB121*0.0135790158248428/1000) -> 0.067513106 | AS121: =IF(ISBLANK($D121),"",$AC121*0.0135790158248428/1000) -> 1.4813998 | AT121: =IF(ISBLANK($D121),"",AN121-AS121) -> 1.3407359 | AU121: =IF(ISBLANK($D121),"",$S121*0.000738514285714286/1000) -> 0.1534859 | AV121: =IF(ISBLANK($D121),"",$V121*0.000738514285714286/1000) -> 0.048135991 | AW121: =IF(ISBLANK($D121),"",$X121*0.000738514285714286/1000) -> 0.026414521 | AX121: =IF(ISBLANK($D121),"",$Z121*0.000738514285714286/1000) -> 0.0023457448 | AY121: =IF(ISBLANK($D121),"",$AB121*0.000738514285714286/1000) -> 0.0036717973 | AZ121: =IF(ISBLANK($D121),"",$AC121*0.000738514285714286/1000) -> 0.080568055 | BA121: =IF(ISBLANK($D121),"",AU121-AZ121) -> 0.07291785 | BB121: =IF(V121>0,J121*DATA!$C$4,0) -> 110828.25 | BC121: =IF(X121>0,N121*_xlfn.XLOOKUP(Burgas!O121,DATA!$B$5:$B$6,DATA!$C$5:$C$6,"error",0,1),0) -> 27145.44 | BD121: =IF(Z121>0,(L121-M121)*DATA!$C$7,"0,00 ") -> 9000 | BE121: =IF(G121="basement",D121*DATA!$C$8,IF(G121="ground",0,"error")) -> 21544 | BF121: =BB121+BC121+BD121+BE121 -> 168517.69 | BG121: 1.48 | BH121: 1.3626313 | BI121: =IF(G121="ground",0.57,IF(G121="basement",0.85,"error")) -> 0.85 | BJ121: 2.33 | BK121: =IF(K121="N",1/((1/BG121)+0.15/0.038),BG121) -> 0.21630769 | BL121: =IF(O121="sloped",1/(1/BJ121+0.15/0.04),IF(O121="flat",1/(1/BJ121+0.15/0.034),"error")) -> 0.23928113 | BM121: 1.1 | BN121: =IF(BI121=0.85,1/(1/BI121+0.05/0.038),BI121) -> 0.40124224 | BP121: =D121*BS121 -> 11983.85 | BQ121: =H121 -> 7 | BR121: =0.32*BP121 -> 3834.832 | BS121: =I121 -> 22.25 | BT121: =IF(BQ121<=3,0.76*BP121,0.8*BP121) -> 9587.08 | BU121: =(($D121*$BI121*($BU$1-$BX$1)+$J121*$BG121*($BU$1-$BW$1)+$L121*$BH121*($BU$1-$BW$1)+$N121*$BJ121*($BU$1-$BV$1))*1.05+$BT121*(5.95))/1000 -> 180.34593 | BV121: =(($D121*$BI121*($BU$1-$BX$1)+$J121*$BK121*($BU$1-$BW$1)+$L121*$BH121*($BU$1-$BW$1)+$N121*$BJ121*($BU$1-$BV$1))*1.05+$BT121*(5.95))/1000 -> 123.78614 | BW121: =(($D121*$BI121*($BU$1-$BX$1)+$J121*$BG121*($BU$1-$BW$1)+$L121*$BH121*($BU$1-$BW$1)+$N121*$BL121*($BU$1-$BV$1))*1.05+$BT121*(5.95))/1000 -> 149.30887 | BX121: =(($D121*$BI121*($BU$1-$BX$1)+$J121*$BG121*($BU$1-$BW$1)+$L121*$BM121*($BU$1-$BW$1)+$N121*$BJ121*($BU$1-$BV$1))*1.05+$BT121*(5.95))/1000 -> 177.58968 | BY121: =(($D121*$BN121*($BU$1-$BX$1)+$J121*$BG121*($BU$1-$BW$1)+$L121*$BH121*($BU$1-$BW$1)+$N121*$BJ121*($BU$1-$BV$1))*1.05+$BT121*(5.95))/1000 -> 176.03157 | BZ121: =BU121*1152.4 -> 207830.65 | CA121: =BV121*1152.4 -> 142651.15 | CB121: =BW121*1152.4 -> 172063.54 | CC121: =BX121*1152.4 -> 204654.35 | CD121: =BY121*1152.4 -> 202858.78
A122: 119 | B122: Burgas | C122: Debelt 11 | D122: 51 | E122: =0.8*D122*H122 -> 244.8 | F122: 29 | G122: Basement | H122: 6 | I122: 20.5 | J122: =F122*I122-L122 -> 475.6 | K122: Y | L122: 118.9 | M122: 118.9 | N122: 53.55 | O122: Flat | P122: Y | Q122: District heating | R122: Natural gas | S122: =BZ122 -> 14520.164 | T122: =S122/E122 -> 59.314397 | U122: =CA122 -> 14520.164 | V122: =IF(ISBLANK(D122)," ",S122-U122) -> 0 | W122: =CB122 -> 14356.565 | X122: =IF(ISBLANK(D122)," ",S122-W122) -> 163.59898 | Y122: =CC122 -> 14520.164 | Z122: =IF(ISBLANK(D122)," ",S122-Y122) -> 0 | AA122: =CD122 -> 14049.378 | AB122: =IF(ISBLANK(D122)," ",S122-AA122) -> 470.78609 | AC122: =V122+X122+Z122+AB122 -> 634.38506 | AD122: =IF(ISBLANK(D122)," ",S122-AC122) -> 13885.779 | AE122: =(S122-AD122)/E122 -> 2.5914423 | AF122: =1-AD122/S122 -> 0.043689937 | AG122: =IF(ISBLANK($D122),"",S122*_xlfn.XLOOKUP(Q122,DATA!$B$24:$B$25,DATA!$C$24:$C$25,"error",0,1)/1000) -> 5.7830911 | AH122: =IF(ISBLANK($D122),"",V122*_xlfn.XLOOKUP(Q122,DATA!$B$24:$B$25,DATA!$C$24:$C$25,"error",0,1)/1000) -> 0 | AI122: =IF(ISBLANK($D122),"",X122*_xlfn.XLOOKUP(Q122,DATA!$B$24:$B$25,DATA!$C$24:$C$25,"error",0,1)/1000) -> 0.0651582 | AJ122: =IF(ISBLANK($D122),"",Z122*_xlfn.XLOOKUP(Q122,DATA!$B$24:$B$25,DATA!$C$24:$C$25,"error",0,1)/1000) -> 0 | AK122: =IF(ISBLANK($D122),"",AB122*_xlfn.XLOOKUP(Q122,DATA!$B$24:$B$25,DATA!$C$24:$C$25,"error",0,1)/1000) -> 0.18750468 | AL122: =SUM(AH122:AK122) -> 0.25266288 | AM122: =IF(ISBLANK($D122),"",AG122-AL122) -> 5.5304282 | AN122: =IF(ISBLANK($D122),"",$S122*0.0135790158248428/1000) -> 0.19716954 | AO122: =IF(ISBLANK($D122),"",$V122*0.0135790158248428/1000) -> 0 | AP122: =IF(ISBLANK($D122),"",$X122*0.0135790158248428/1000) -> 0.0022215131 | AQ122: =IF(ISBLANK($D122),"",$Z122*0.0135790158248428/1000) -> 0 | AR122: =IF(ISBLANK($D122),"",$AB122*0.0135790158248428/1000) -> 0.0063928118 | AS122: =IF(ISBLANK($D122),"",$AC122*0.0135790158248428/1000) -> 0.0086143248 | AT122: =IF(ISBLANK($D122),"",AN122-AS122) -> 0.18855522 | AU122: =IF(ISBLANK($D122),"",$S122*0.000738514285714286/1000) -> 0.010723349 | AV122: =IF(ISBLANK($D122),"",$V122*0.000738514285714286/1000) -> 0 | AW122: =IF(ISBLANK($D122),"",$X122*0.000738514285714286/1000) -> 0.00012082018 | AX122: =IF(ISBLANK($D122),"",$Z122*0.000738514285714286/1000) -> 0 | AY122: =IF(ISBLANK($D122),"",$AB122*0.000738514285714286/1000) -> 0.00034768225 | AZ122: =IF(ISBLANK($D122),"",$AC122*0.000738514285714286/1000) -> 0.00046850243 | BA122: =IF(ISBLANK($D122),"",AU122-AZ122) -> 0.010254846 | BB122: =IF(V122>0,J122*DATA!$C$4,0) -> 0 | BC122: =IF(X122>0,N122*_xlfn.XLOOKUP(Burgas!O122,DATA!$B$5:$B$6,DATA!$C$5:$C$6,"error",0,1),0) -> 4551.75 | BD122: =IF(Z122>0,(L122-M122)*DATA!$C$7,"0,00 ") -> 0,00 | BE122: =IF(G122="basement",D122*DATA!$C$8,IF(G122="ground",0,"error")) -> 2040 | BF122: =BB122+BC122+BD122+BE122 -> 6591.75 | BG122: 0.25 | BH122: 1.1 | BI122: =IF(G122="ground",0.57,IF(G122="basement",0.85,"error")) -> 0.85 | BJ122: 0.21 | BK122: =IF(K122="N",1/((1/BG122)+0.15/0.038),BG122) -> 0.25 | BL122: =IF(O122="sloped",1/(1/BJ122+0.15/0.04),IF(O122="flat",1/(1/BJ122+0.15/0.034),"error")) -> 0.10900763 | BM122: 1.1 | BN122: =IF(BI122=0.85,1/(1/BI122+0.05/0.038),BI122) -> 0.40124224 | BP122: =D122*BS122 -> 1045.5 | BQ122: =H122 -> 6 | BR122: =0.32*BP122 -> 334.56 | BS122: =I122 -> 20.5 | BT122: =IF(BQ122<=3,0.76*BP122,0.8*BP122) -> 836.4 | BU122: =(($D122*$BI122*($BU$1-$BX$1)+$J122*$BG122*($BU$1-$BW$1)+$L122*$BH122*($BU$1-$BW$1)+$N122*$BJ122*($BU$1-$BV$1))*1.05+$BT122*(5.95))/1000 -> 12.599934 | BV122: =(($D122*$BI122*($BU$1-$BX$1)+$J122*$BK122*($BU$1-$BW$1)+$L122*$BH122*($BU$1-$BW$1)+$N122*$BJ122*($BU$1-$BV$1))*1.05+$BT122*(5.95))/1000 -> 12.599934 | BW122: =(($D122*$BI122*($BU$1-$BX$1)+$J122*$BG122*($BU$1-$BW$1)+$L122*$BH122*($BU$1-$BW$1)+$N122*$BL122*($BU$1-$BV$1))*1.05+$BT122*(5.95))/1000 -> 12.457971 | BX122: =(($D122*$BI122*($BU$1-$BX$1)+$J122*$BG122*($BU$1-$BW$1)+$L122*$BM122*($BU$1-$BW$1)+$N122*$BJ122*($BU$1-$BV$1))*1.05+$BT122*(5.95))/1000 -> 12.599934 | BY122: =(($D122*$BN122*($BU$1-$BX$1)+$J122*$BG122*($BU$1-$BW$1)+$L122*$BH122*($BU$1-$BW$1)+$N122*$BJ122*($BU$1-$BV$1))*1.05+$BT122*(5.95))/1000 -> 12.191408 | BZ122: =BU122*1152.4 -> 14520.164 | CA122: =BV122*1152.4 -> 14520.164 | CB122: =BW122*1152.4 -> 14356.565 | CC122: =BX122*1152.4 -> 14520.164 | CD122: =BY122*1152.4 -> 14049.378
A123: 120 | B123: Burgas | C123: Debelt 16 | D123: 152.1 | E123: =0.8*D123*H123 -> 1338.48 | F123: 51.8 | G123: Basement | H123: 11 | I123: 34.1 | J123: =F123*I123-L123 -> 1413.1 | K123: Y | L123: 353.28 | M123: 353.28 | N123: 159.705 | O123: Flat | P123: Y | Q123: District heating | R123: Natural gas | S123: =BZ123 -> 54567.066 | T123: =S123/E123 -> 40.767935 | U123: =CA123 -> 54567.066 | V123: =IF(ISBLANK(D123)," ",S123-U123) -> 0 | W123: =CB123 -> 54079.156 | X123: =IF(ISBLANK(D123)," ",S123-W123) -> 487.90989 | Y123: =CC123 -> 54567.066 | Z123: =IF(ISBLANK(D123)," ",S123-Y123) -> 0 | AA123: =CD123 -> 53163.016 | AB123: =IF(ISBLANK(D123)," ",S123-AA123) -> 1404.0503 | AC123: =V123+X123+Z123+AB123 -> 1891.9602 | AD123: =IF(ISBLANK(D123)," ",S123-AC123) -> 52675.106 | AE123: =(S123-AD123)/E123 -> 1.413514 | AF123: =1-AD123/S123 -> 0.034672199 | AG123: =IF(ISBLANK($D123),"",S123*_xlfn.XLOOKUP(Q123,DATA!$B$24:$B$25,DATA!$C$24:$C$25,"error",0,1)/1000) -> 21.732971 | AH123: =IF(ISBLANK($D123),"",V123*_xlfn.XLOOKUP(Q123,DATA!$B$24:$B$25,DATA!$C$24:$C$25,"error",0,1)/1000) -> 0 | AI123: =IF(ISBLANK($D123),"",X123*_xlfn.XLOOKUP(Q123,DATA!$B$24:$B$25,DATA!$C$24:$C$25,"error",0,1)/1000) -> 0.19432475 | AJ123: =IF(ISBLANK($D123),"",Z123*_xlfn.XLOOKUP(Q123,DATA!$B$24:$B$25,DATA!$C$24:$C$25,"error",0,1)/1000) -> 0 | AK123: =IF(ISBLANK($D123),"",AB123*_xlfn.XLOOKUP(Q123,DATA!$B$24:$B$25,DATA!$C$24:$C$25,"error",0,1)/1000) -> 0.55920514 | AL123: =SUM(AH123:AK123) -> 0.75352989 | AM123: =IF(ISBLANK($D123),"",AG123-AL123) -> 20.979441 | AN123: =IF(ISBLANK($D123),"",$S123*0.0135790158248428/1000) -> 0.74096705 | AO123: =IF(ISBLANK($D123),"",$V123*0.0135790158248428/1000) -> 0 | AP123: =IF(ISBLANK($D123),"",$X123*0.0135790158248428/1000) -> 0.0066253361 | AQ123: =IF(ISBLANK($D123),"",$Z123*0.0135790158248428/1000) -> 0 | AR123: =IF(ISBLANK($D123),"",$AB123*0.0135790158248428/1000) -> 0.019065621 | AS123: =IF(ISBLANK($D123),"",$AC123*0.0135790158248428/1000) -> 0.025690957 | AT123: =IF(ISBLANK($D123),"",AN123-AS123) -> 0.71527609 | AU123: =IF(ISBLANK($D123),"",$S123*0.000738514285714286/1000) -> 0.040298558 | AV123: =IF(ISBLANK($D123),"",$V123*0.000738514285714286/1000) -> 0 | AW123: =IF(ISBLANK($D123),"",$X123*0.000738514285714286/1000) -> 0.00036032842 | AX123: =IF(ISBLANK($D123),"",$Z123*0.000738514285714286/1000) -> 0 | AY123: =IF(ISBLANK($D123),"",$AB123*0.000738514285714286/1000) -> 0.0010369112 | AZ123: =IF(ISBLANK($D123),"",$AC123*0.000738514285714286/1000) -> 0.0013972396 | BA123: =IF(ISBLANK($D123),"",AU123-AZ123) -> 0.038901318 | BB123: =IF(V123>0,J123*DATA!$C$4,0) -> 0 | BC123: =IF(X123>0,N123*_xlfn.XLOOKUP(Burgas!O123,DATA!$B$5:$B$6,DATA!$C$5:$C$6,"error",0,1),0) -> 13574.925 | BD123: =IF(Z123>0,(L123-M123)*DATA!$C$7,"0,00 ") -> 0,00 | BE123: =IF(G123="basement",D123*DATA!$C$8,IF(G123="ground",0,"error")) -> 6084 | BF123: =BB123+BC123+BD123+BE123 -> 19658.925 | BG123: 0.25 | BH123: 1.1 | BI123: =IF(G123="ground",0.57,IF(G123="basement",0.85,"error")) -> 0.85 | BJ123: 0.21 | BK123: =IF(K123="N",1/((1/BG123)+0.15/0.038),BG123) -> 0.25 | BL123: =IF(O123="sloped",1/(1/BJ123+0.15/0.04),IF(O123="flat",1/(1/BJ123+0.15/0.034),"error")) -> 0.10900763 | BM123: 1.1 | BN123: =IF(BI123=0.85,1/(1/BI123+0.05/0.038),BI123) -> 0.40124224 | BP123: =D123*BS123 -> 5186.61 | BQ123: =H123 -> 11 | BR123: =0.32*BP123 -> 1659.7152 | BS123: =I123 -> 34.1 | BT123: =IF(BQ123<=3,0.76*BP123,0.8*BP123) -> 4149.288 | BU123: =(($D123*$BI123*($BU$1-$BX$1)+$J123*$BG123*($BU$1-$BW$1)+$L123*$BH123*($BU$1-$BW$1)+$N123*$BJ123*($BU$1-$BV$1))*1.05+$BT123*(5.95))/1000 -> 47.350803 | BV123: =(($D123*$BI123*($BU$1-$BX$1)+$J123*$BK123*($BU$1-$BW$1)+$L123*$BH123*($BU$1-$BW$1)+$N123*$BJ123*($BU$1-$BV$1))*1.05+$BT123*(5.95))/1000 -> 47.350803 | BW123: =(($D123*$BI123*($BU$1-$BX$1)+$J123*$BG123*($BU$1-$BW$1)+$L123*$BH123*($BU$1-$BW$1)+$N123*$BL123*($BU$1-$BV$1))*1.05+$BT123*(5.95))/1000 -> 46.927418 | BX123: =(($D123*$BI123*($BU$1-$BX$1)+$J123*$BG123*($BU$1-$BW$1)+$L123*$BM123*($BU$1-$BW$1)+$N123*$BJ123*($BU$1-$BV$1))*1.05+$BT123*(5.95))/1000 -> 47.350803 | BY123: =(($D123*$BN123*($BU$1-$BX$1)+$J123*$BG123*($BU$1-$BW$1)+$L123*$BH123*($BU$1-$BW$1)+$N123*$BJ123*($BU$1-$BV$1))*1.05+$BT123*(5.95))/1000 -> 46.132433 | BZ123: =BU123*1152.4 -> 54567.066 | CA123: =BV123*1152.4 -> 54567.066 | CB123: =BW123*1152.4 -> 54079.156 | CC123: =BX123*1152.4 -> 54567.066 | CD123: =BY123*1152.4 -> 53163.016
A124: 121 | B124: Burgas | C124: Debelt 23, 23A | D124: 182.3 | E124: =0.8*D124*H124 -> 2625.12 | F124: 54 | G124: Basement | H124: 18 | I124: 56.2 | J124: =F124*I124-L124 -> 2428.11 | K124: N | L124: 606.69 | M124: 91.1 | N124: 191.415 | O124: Flat | P124: N | Q124: Individual | R124: Electricity, natural gas | S124: =BZ124 -> 231675.1 | T124: =S124/E124 -> 88.253148 | U124: =CA124 -> 138854.96 | V124: =IF(ISBLANK(D124)," ",S124-U124) -> 92820.148 | W124: =CB124 -> 216791.34 | X124: =IF(ISBLANK(D124)," ",S124-W124) -> 14883.766 | Y124: =CC124 -> 204380.61 | Z124: =IF(ISBLANK(D124)," ",S124-Y124) -> 27294.497 | AA124: =CD124 -> 229992.27 | AB124: =IF(ISBLANK(D124)," ",S124-AA124) -> 1682.8295 | AC124: =V124+X124+Z124+AB124 -> 136681.24 | AD124: =IF(ISBLANK(D124)," ",S124-AC124) -> 94993.864 | AE124: =AD124/E124 -> 36.186484 | AF124: =1-AD124/S124 -> 0.58996948 | AG124: =IF(ISBLANK($D124),"",S124*_xlfn.XLOOKUP(Q124,DATA!$B$24:$B$25,DATA!$C$24:$C$25,"error",0,1)/1000) -> 31.03671 | AH124: =IF(ISBLANK($D124),"",V124*_xlfn.XLOOKUP(Q124,DATA!$B$24:$B$25,DATA!$C$24:$C$25,"error",0,1)/1000) -> 12.434793 | AI124: =IF(ISBLANK($D124),"",X124*_xlfn.XLOOKUP(Q124,DATA!$B$24:$B$25,DATA!$C$24:$C$25,"error",0,1)/1000) -> 1.9939265 | AJ124: =IF(ISBLANK($D124),"",Z124*_xlfn.XLOOKUP(Q124,DATA!$B$24:$B$25,DATA!$C$24:$C$25,"error",0,1)/1000) -> 3.6565491 | AK124: =IF(ISBLANK($D124),"",AB124*_xlfn.XLOOKUP(Q124,DATA!$B$24:$B$25,DATA!$C$24:$C$25,"error",0,1)/1000) -> 0.22544283 | AL124: =SUM(AH124:AK124) -> 18.310712 | AM124: =IF(ISBLANK($D124),"",AG124-AL124) -> 12.725999 | AN124: =IF(ISBLANK($D124),"",$S124*0.0135790158248428/1000) -> 3.1459199 | AO124: =IF(ISBLANK($D124),"",$V124*0.0135790158248428/1000) -> 1.2604063 | AP124: =IF(ISBLANK($D124),"",$X124*0.0135790158248428/1000) -> 0.20210689 | AQ124: =IF(ISBLANK($D124),"",$Z124*0.0135790158248428/1000) -> 0.3706324 | AR124: =IF(ISBLANK($D124),"",$AB124*0.0135790158248428/1000) -> 0.022851168 | AS124: =IF(ISBLANK($D124),"",$AC124*0.0135790158248428/1000) -> 1.8559967 | AT124: =IF(ISBLANK($D124),"",AN124-AS124) -> 1.2899232 | AU124: =IF(ISBLANK($D124),"",$S124*0.000738514285714286/1000) -> 0.17109537 | AV124: =IF(ISBLANK($D124),"",$V124*0.000738514285714286/1000) -> 0.068549005 | AW124: =IF(ISBLANK($D124),"",$X124*0.000738514285714286/1000) -> 0.010991874 | AX124: =IF(ISBLANK($D124),"",$Z124*0.000738514285714286/1000) -> 0.020157376 | AY124: =IF(ISBLANK($D124),"",$AB124*0.000738514285714286/1000) -> 0.0012427936 | AZ124: =IF(ISBLANK($D124),"",$AC124*0.000738514285714286/1000) -> 0.10094105 | BA124: =IF(ISBLANK($D124),"",AU124-AZ124) -> 0.070154326 | BB124: =IF(V124>0,J124*DATA!$C$4,0) -> 157827.15 | BC124: =IF(X124>0,N124*_xlfn.XLOOKUP(Burgas!O124,DATA!$B$5:$B$6,DATA!$C$5:$C$6,"error",0,1),0) -> 16270.275 | BD124: =IF(Z124>0,(L124-M124)*DATA!$C$7,"0,00 ") -> 77338.5 | BE124: =IF(G124="basement",D124*DATA!$C$8,IF(G124="ground",0,"error")) -> 7292 | BF124: =BB124+BC124+BD124+BE124 -> 258727.92 | BG124: 1.48 | BH124: 2.5872216 | BI124: =IF(G124="ground",0.57,IF(G124="basement",0.85,"error")) -> 0.85 | BJ124: 2.78 | BK124: =IF(K124="N",1/((1/BG124)+0.15/0.038),BG124) -> 0.21630769 | BL124: =IF(O124="sloped",1/(1/BJ124+0.15/0.04),IF(O124="flat",1/(1/BJ124+0.15/0.034),"error")) -> 0.20957871 | BM124: 1.1 | BN124: =IF(BI124=0.85,1/(1/BI124+0.05/0.038),BI124) -> 0.40124224 | BP124: =D124*BS124 -> 10245.26 | BQ124: =H124 -> 18 | BR124: =0.32*BP124 -> 3278.4832 | BS124: =I124 -> 56.2 | BT124: =IF(BQ124<=3,0.76*BP124,0.8*BP124) -> 8196.208 | BU124: =(($D124*$BI124*($BU$1-$BX$1)+$J124*$BG124*($BU$1-$BW$1)+$L124*$BH124*($BU$1-$BW$1)+$N124*$BJ124*($BU$1-$BV$1))*1.05+$BT124*(5.95))/1000 -> 201.03706 | BV124: =(($D124*$BI124*($BU$1-$BX$1)+$J124*$BK124*($BU$1-$BW$1)+$L124*$BH124*($BU$1-$BW$1)+$N124*$BJ124*($BU$1-$BV$1))*1.05+$BT124*(5.95))/1000 -> 120.49198 | BW124: =(($D124*$BI124*($BU$1-$BX$1)+$J124*$BG124*($BU$1-$BW$1)+$L124*$BH124*($BU$1-$BW$1)+$N124*$BL124*($BU$1-$BV$1))*1.05+$BT124*(5.95))/1000 -> 188.12161 | BX124: =(($D124*$BI124*($BU$1-$BX$1)+$J124*$BG124*($BU$1-$BW$1)+$L124*$BM124*($BU$1-$BW$1)+$N124*$BJ124*($BU$1-$BV$1))*1.05+$BT124*(5.95))/1000 -> 177.35214 | BY124: =(($D124*$BN124*($BU$1-$BX$1)+$J124*$BG124*($BU$1-$BW$1)+$L124*$BH124*($BU$1-$BW$1)+$N124*$BJ124*($BU$1-$BV$1))*1.05+$BT124*(5.95))/1000 -> 199.57677 | BZ124: =BU124*1152.4 -> 231675.1 | CA124: =BV124*1152.4 -> 138854.96 | CB124: =BW124*1152.4 -> 216791.34 | CC124: =BX124*1152.4 -> 204380.61 | CD124: =BY124*1152.4 -> 229992.27
A125: 122 | B125: Burgas | C125: Debelt 25 | D125: 224.5 | E125: =0.8*D125*H125 -> 1077.6 | F125: 62.2 | G125: Ground | H125: 6 | I125: 20.5 | J125: =F125*I125-L125 -> 1020.08 | K125: N | L125: 255.02 | M125: 89.3 | N125: 235.725 | O125: Sloped | P125: N | Q125: Individual | R125: Electricity, natural gas | S125: =BZ125 -> 107420.95 | T125: =S125/E125 -> 99.685368 | U125: =CA125 -> 68426.024 | V125: =IF(ISBLANK(D125)," ",S125-U125) -> 38994.929 | W125: =CB125 -> 92512.457 | X125: =IF(ISBLANK(D125)," ",S125-W125) -> 14908.496 | Y125: =CC125 -> 98648.005 | Z125: =IF(ISBLANK(D125)," ",S125-Y125) -> 8772.9475 | AA125: =CD125 -> 107420.95 | AB125: =IF(ISBLANK(D125)," ",S125-AA125) -> 0 | AC125: =V125+X125+Z125+AB125 -> 62676.373 | AD125: =IF(ISBLANK(D125)," ",S125-AC125) -> 44744.58 | AE125: =AD125/E125 -> 41.522439 | AF125: =1-AD125/S125 -> 0.58346506 | AG125: =IF(ISBLANK($D125),"",S125*_xlfn.XLOOKUP(Q125,DATA!$B$24:$B$25,DATA!$C$24:$C$25,"error",0,1)/1000) -> 14.390813 | AH125: =IF(ISBLANK($D125),"",V125*_xlfn.XLOOKUP(Q125,DATA!$B$24:$B$25,DATA!$C$24:$C$25,"error",0,1)/1000) -> 5.2240154 | AI125: =IF(ISBLANK($D125),"",X125*_xlfn.XLOOKUP(Q125,DATA!$B$24:$B$25,DATA!$C$24:$C$25,"error",0,1)/1000) -> 1.9972396 | AJ125: =IF(ISBLANK($D125),"",Z125*_xlfn.XLOOKUP(Q125,DATA!$B$24:$B$25,DATA!$C$24:$C$25,"error",0,1)/1000) -> 1.1752814 | AK125: =IF(ISBLANK($D125),"",AB125*_xlfn.XLOOKUP(Q125,DATA!$B$24:$B$25,DATA!$C$24:$C$25,"error",0,1)/1000) -> 0 | AL125: =SUM(AH125:AK125) -> 8.3965363 | AM125: =IF(ISBLANK($D125),"",AG125-AL125) -> 5.9942763 | AN125: =IF(ISBLANK($D125),"",$S125*0.0135790158248428/1000) -> 1.4586708 | AO125: =IF(ISBLANK($D125),"",$V125*0.0135790158248428/1000) -> 0.52951276 | AP125: =IF(ISBLANK($D125),"",$X125*0.0135790158248428/1000) -> 0.20244271 | AQ125: =IF(ISBLANK($D125),"",$Z125*0.0135790158248428/1000) -> 0.11912799 | AR125: =IF(ISBLANK($D125),"",$AB125*0.0135790158248428/1000) -> 0 | AS125: =IF(ISBLANK($D125),"",$AC125*0.0135790158248428/1000) -> 0.85108346 | AT125: =IF(ISBLANK($D125),"",AN125-AS125) -> 0.60758736 | AU125: =IF(ISBLANK($D125),"",$S125*0.000738514285714286/1000) -> 0.079331908 | AV125: =IF(ISBLANK($D125),"",$V125*0.000738514285714286/1000) -> 0.028798312 | AW125: =IF(ISBLANK($D125),"",$X125*0.000738514285714286/1000) -> 0.011010137 | AX125: =IF(ISBLANK($D125),"",$Z125*0.000738514285714286/1000) -> 0.0064789471 | AY125: =IF(ISBLANK($D125),"",$AB125*0.000738514285714286/1000) -> 0 | AZ125: =IF(ISBLANK($D125),"",$AC125*0.000738514285714286/1000) -> 0.046287397 | BA125: =IF(ISBLANK($D125),"",AU125-AZ125) -> 0.033044512 | BB125: =IF(V125>0,J125*DATA!$C$4,0) -> 66305.2 | BC125: =IF(X125>0,N125*_xlfn.XLOOKUP(Burgas!O125,DATA!$B$5:$B$6,DATA!$C$5:$C$6,"error",0,1),0) -> 11314.8 | BD125: =IF(Z125>0,(L125-M125)*DATA!$C$7,"0,00 ") -> 24858 | BE125: =IF(G125="basement",D125*DATA!$C$8,IF(G125="ground",0,"error")) -> 0 | BF125: =BB125+BC125+BD125+BE125 -> 102478 | BG125: 1.48 | BH125: 2.2372049 | BI125: =IF(G125="ground",0.57,IF(G125="basement",0.85,"error")) -> 0.57 | BJ125: 2.33 | BK125: =IF(K125="N",1/((1/BG125)+0.15/0.038),BG125) -> 0.21630769 | BL125: =IF(O125="sloped",1/(1/BJ125+0.15/0.04),IF(O125="flat",1/(1/BJ125+0.15/0.034),"error")) -> 0.23928113 | BM125: 1.1 | BN125: =IF(BI125=0.85,1/(1/BI125+0.05/0.038),BI125) -> 0.57 | BP125: =D125*BS125 -> 4602.25 | BQ125: =H125 -> 6 | BR125: =0.32*BP125 -> 1472.72 | BS125: =I125 -> 20.5 | BT125: =IF(BQ125<=3,0.76*BP125,0.8*BP125) -> 3681.8 | BU125: =(($D125*$BI125*($BU$1-$BX$1)+$J125*$BG125*($BU$1-$BW$1)+$L125*$BH125*($BU$1-$BW$1)+$N125*$BJ125*($BU$1-$BV$1))*1.05+$BT125*(5.95))/1000 -> 93.214989 | BV125: =(($D125*$BI125*($BU$1-$BX$1)+$J125*$BK125*($BU$1-$BW$1)+$L125*$BH125*($BU$1-$BW$1)+$N125*$BJ125*($BU$1-$BV$1))*1.05+$BT125*(5.95))/1000 -> 59.376973 | BW125: =(($D125*$BI125*($BU$1-$BX$1)+$J125*$BG125*($BU$1-$BW$1)+$L125*$BH125*($BU$1-$BW$1)+$N125*$BL125*($BU$1-$BV$1))*1.05+$BT125*(5.95))/1000 -> 80.278078 | BX125: =(($D125*$BI125*($BU$1-$BX$1)+$J125*$BG125*($BU$1-$BW$1)+$L125*$BM125*($BU$1-$BW$1)+$N125*$BJ125*($BU$1-$BV$1))*1.05+$BT125*(5.95))/1000 -> 85.602226 | BY125: =(($D125*$BN125*($BU$1-$BX$1)+$J125*$BG125*($BU$1-$BW$1)+$L125*$BH125*($BU$1-$BW$1)+$N125*$BJ125*($BU$1-$BV$1))*1.05+$BT125*(5.95))/1000 -> 93.214989 | BZ125: =BU125*1152.4 -> 107420.95 | CA125: =BV125*1152.4 -> 68426.024 | CB125: =BW125*1152.4 -> 92512.457 | CC125: =BX125*1152.4 -> 98648.005 | CD125: =BY125*1152.4 -> 107420.95
A126: 123 | B126: Burgas | C126: Debelt 27, 27A, 27B | D126: 145.9 | E126: =0.8*D126*H126 -> 700.32 | F126: 49 | G126: Ground | H126: 6 | I126: 20.5 | J126: =F126*I126-L126 -> 803.6 | K126: N | L126: 200.9 | M126: 50.3 | N126: 153.195 | O126: Sloped | P126: N | Q126: Individual | R126: Electricity, natural gas | S126: =BZ126 -> 79550.409 | T126: =S126/E126 -> 113.59151 | U126: =CA126 -> 48830.931 | V126: =IF(ISBLANK(D126)," ",S126-U126) -> 30719.478 | W126: =CB126 -> 69861.547 | X126: =IF(ISBLANK(D126)," ",S126-W126) -> 9688.8624 | Y126: =CC126 -> 71577.89 | Z126: =IF(ISBLANK(D126)," ",S126-Y126) -> 7972.5193 | AA126: =CD126 -> 79550.409 | AB126: =IF(ISBLANK(D126)," ",S126-AA126) -> 0 | AC126: =V126+X126+Z126+AB126 -> 48380.859 | AD126: =IF(ISBLANK(D126)," ",S126-AC126) -> 31169.55 | AE126: =AD126/E126 -> 44.507582 | AF126: =1-AD126/S126 -> 0.60817864 | AG126: =IF(ISBLANK($D126),"",S126*_xlfn.XLOOKUP(Q126,DATA!$B$24:$B$25,DATA!$C$24:$C$25,"error",0,1)/1000) -> 10.657092 | AH126: =IF(ISBLANK($D126),"",V126*_xlfn.XLOOKUP(Q126,DATA!$B$24:$B$25,DATA!$C$24:$C$25,"error",0,1)/1000) -> 4.1153819 | AI126: =IF(ISBLANK($D126),"",X126*_xlfn.XLOOKUP(Q126,DATA!$B$24:$B$25,DATA!$C$24:$C$25,"error",0,1)/1000) -> 1.2979833 | AJ126: =IF(ISBLANK($D126),"",Z126*_xlfn.XLOOKUP(Q126,DATA!$B$24:$B$25,DATA!$C$24:$C$25,"error",0,1)/1000) -> 1.0680508 | AK126: =IF(ISBLANK($D126),"",AB126*_xlfn.XLOOKUP(Q126,DATA!$B$24:$B$25,DATA!$C$24:$C$25,"error",0,1)/1000) -> 0 | AL126: =SUM(AH126:AK126) -> 6.481416 | AM126: =IF(ISBLANK($D126),"",AG126-AL126) -> 4.1756765 | AN126: =IF(ISBLANK($D126),"",$S126*0.0135790158248428/1000) -> 1.0802163 | AO126: =IF(ISBLANK($D126),"",$V126*0.0135790158248428/1000) -> 0.41714027 | AP126: =IF(ISBLANK($D126),"",$X126*0.0135790158248428/1000) -> 0.13156522 | AQ126: =IF(ISBLANK($D126),"",$Z126*0.0135790158248428/1000) -> 0.10825897 | AR126: =IF(ISBLANK($D126),"",$AB126*0.0135790158248428/1000) -> 0 | AS126: =IF(ISBLANK($D126),"",$AC126*0.0135790158248428/1000) -> 0.65696445 | AT126: =IF(ISBLANK($D126),"",AN126-AS126) -> 0.42325181 | AU126: =IF(ISBLANK($D126),"",$S126*0.000738514285714286/1000) -> 0.058749114 | AV126: =IF(ISBLANK($D126),"",$V126*0.000738514285714286/1000) -> 0.022686773 | AW126: =IF(ISBLANK($D126),"",$X126*0.000738514285714286/1000) -> 0.0071553633 | AX126: =IF(ISBLANK($D126),"",$Z126*0.000738514285714286/1000) -> 0.0058878194 | AY126: =IF(ISBLANK($D126),"",$AB126*0.000738514285714286/1000) -> 0 | AZ126: =IF(ISBLANK($D126),"",$AC126*0.000738514285714286/1000) -> 0.035729956 | BA126: =IF(ISBLANK($D126),"",AU126-AZ126) -> 0.023019158 | BB126: =IF(V126>0,J126*DATA!$C$4,0) -> 52234 | BC126: =IF(X126>0,N126*_xlfn.XLOOKUP(Burgas!O126,DATA!$B$5:$B$6,DATA!$C$5:$C$6,"error",0,1),0) -> 7353.36 | BD126: =IF(Z126>0,(L126-M126)*DATA!$C$7,"0,00 ") -> 22590 | BE126: =IF(G126="basement",D126*DATA!$C$8,IF(G126="ground",0,"error")) -> 0 | BF126: =BB126+BC126+BD126+BE126 -> 82177.36 | BG126: 1.48 | BH126: 2.4118467 | BI126: =IF(G126="ground",0.57,IF(G126="basement",0.85,"error")) -> 0.57 | BJ126: 2.33 | BK126: =IF(K126="N",1/((1/BG126)+0.15/0.038),BG126) -> 0.21630769 | BL126: =IF(O126="sloped",1/(1/BJ126+0.15/0.04),IF(O126="flat",1/(1/BJ126+0.15/0.034),"error")) -> 0.23928113 | BM126: 1.1 | BN126: =IF(BI126=0.85,1/(1/BI126+0.05/0.038),BI126) -> 0.57 | BP126: =D126*BS126 -> 2990.95 | BQ126: =H126 -> 6 | BR126: =0.32*BP126 -> 957.104 | BS126: =I126 -> 20.5 | BT126: =IF(BQ126<=3,0.76*BP126,0.8*BP126) -> 2392.76 | BU126: =(($D126*$BI126*($BU$1-$BX$1)+$J126*$BG126*($BU$1-$BW$1)+$L126*$BH126*($BU$1-$BW$1)+$N126*$BJ126*($BU$1-$BV$1))*1.05+$BT126*(5.95))/1000 -> 69.030206 | BV126: =(($D126*$BI126*($BU$1-$BX$1)+$J126*$BK126*($BU$1-$BW$1)+$L126*$BH126*($BU$1-$BW$1)+$N126*$BJ126*($BU$1-$BV$1))*1.05+$BT126*(5.95))/1000 -> 42.373248 | BW126: =(($D126*$BI126*($BU$1-$BX$1)+$J126*$BG126*($BU$1-$BW$1)+$L126*$BH126*($BU$1-$BW$1)+$N126*$BL126*($BU$1-$BV$1))*1.05+$BT126*(5.95))/1000 -> 60.622654 | BX126: =(($D126*$BI126*($BU$1-$BX$1)+$J126*$BG126*($BU$1-$BW$1)+$L126*$BM126*($BU$1-$BW$1)+$N126*$BJ126*($BU$1-$BV$1))*1.05+$BT126*(5.95))/1000 -> 62.112018 | BY126: =(($D126*$BN126*($BU$1-$BX$1)+$J126*$BG126*($BU$1-$BW$1)+$L126*$BH126*($BU$1-$BW$1)+$N126*$BJ126*($BU$1-$BV$1))*1.05+$BT126*(5.95))/1000 -> 69.030206 | BZ126: =BU126*1152.4 -> 79550.409 | CA126: =BV126*1152.4 -> 48830.931 | CB126: =BW126*1152.4 -> 69861.547 | CC126: =BX126*1152.4 -> 71577.89 | CD126: =BY126*1152.4 -> 79550.409
A127: 124 | B127: Burgas | C127: Debelt 29 | D127: 178.5 | E127: =0.8*D127*H127 -> 856.8 | F127: 56.2 | G127: Ground | H127: 6 | I127: 20.5 | J127: =F127*I127-L127 -> 921.68 | K127: N | L127: 230.42 | M127: 34.6 | N127: 187.425 | O127: Sloped | P127: N | Q127: Individual | R127: Electricity, natural gas | S127: =BZ127 -> 94673.908 | T127: =S127/E127 -> 110.49709 | U127: =CA127 -> 59440.548 | V127: =IF(ISBLANK(D127)," ",S127-U127) -> 35233.36 | W127: =CB127 -> 82820.16 | X127: =IF(ISBLANK(D127)," ",S127-W127) -> 11853.749 | Y127: =CC127 -> 84307.516 | Z127: =IF(ISBLANK(D127)," ",S127-Y127) -> 10366.393 | AA127: =CD127 -> 94673.908 | AB127: =IF(ISBLANK(D127)," ",S127-AA127) -> 0 | AC127: =V127+X127+Z127+AB127 -> 57453.501 | AD127: =IF(ISBLANK(D127)," ",S127-AC127) -> 37220.407 | AE127: =AD127/E127 -> 43.441185 | AF127: =1-AD127/S127 -> 0.60685676 | AG127: =IF(ISBLANK($D127),"",S127*_xlfn.XLOOKUP(Q127,DATA!$B$24:$B$25,DATA!$C$24:$C$25,"error",0,1)/1000) -> 12.683135 | AH127: =IF(ISBLANK($D127),"",V127*_xlfn.XLOOKUP(Q127,DATA!$B$24:$B$25,DATA!$C$24:$C$25,"error",0,1)/1000) -> 4.7200911 | AI127: =IF(ISBLANK($D127),"",X127*_xlfn.XLOOKUP(Q127,DATA!$B$24:$B$25,DATA!$C$24:$C$25,"error",0,1)/1000) -> 1.5880056 | AJ127: =IF(ISBLANK($D127),"",Z127*_xlfn.XLOOKUP(Q127,DATA!$B$24:$B$25,DATA!$C$24:$C$25,"error",0,1)/1000) -> 1.3887497 | AK127: =IF(ISBLANK($D127),"",AB127*_xlfn.XLOOKUP(Q127,DATA!$B$24:$B$25,DATA!$C$24:$C$25,"error",0,1)/1000) -> 0 | AL127: =SUM(AH127:AK127) -> 7.6968464 | AM127: =IF(ISBLANK($D127),"",AG127-AL127) -> 4.9862889 | AN127: =IF(ISBLANK($D127),"",$S127*0.0135790158248428/1000) -> 1.2855785 | AO127: =IF(ISBLANK($D127),"",$V127*0.0135790158248428/1000) -> 0.47843435 | AP127: =IF(ISBLANK($D127),"",$X127*0.0135790158248428/1000) -> 0.16096224 | AQ127: =IF(ISBLANK($D127),"",$Z127*0.0135790158248428/1000) -> 0.14076541 | AR127: =IF(ISBLANK($D127),"",$AB127*0.0135790158248428/1000) -> 0 | AS127: =IF(ISBLANK($D127),"",$AC127*0.0135790158248428/1000) -> 0.780162 | AT127: =IF(ISBLANK($D127),"",AN127-AS127) -> 0.5054165 | AU127: =IF(ISBLANK($D127),"",$S127*0.000738514285714286/1000) -> 0.069918034 | AV127: =IF(ISBLANK($D127),"",$V127*0.000738514285714286/1000) -> 0.02602034 | AW127: =IF(ISBLANK($D127),"",$X127*0.000738514285714286/1000) -> 0.0087541628 | AX127: =IF(ISBLANK($D127),"",$Z127*0.000738514285714286/1000) -> 0.007655729 | AY127: =IF(ISBLANK($D127),"",$AB127*0.000738514285714286/1000) -> 0 | AZ127: =IF(ISBLANK($D127),"",$AC127*0.000738514285714286/1000) -> 0.042430232 | BA127: =IF(ISBLANK($D127),"",AU127-AZ127) -> 0.027487802 | BB127: =IF(V127>0,J127*DATA!$C$4,0) -> 59909.2 | BC127: =IF(X127>0,N127*_xlfn.XLOOKUP(Burgas!O127,DATA!$B$5:$B$6,DATA!$C$5:$C$6,"error",0,1),0) -> 8996.4 | BD127: =IF(Z127>0,(L127-M127)*DATA!$C$7,"0,00 ") -> 29373 | BE127: =IF(G127="basement",D127*DATA!$C$8,IF(G127="ground",0,"error")) -> 0 | BF127: =BB127+BC127+BD127+BE127 -> 98278.6 | BG127: 1.48 | BH127: 2.587219 | BI127: =IF(G127="ground",0.57,IF(G127="basement",0.85,"error")) -> 0.57 | BJ127: 2.33 | BK127: =IF(K127="N",1/((1/BG127)+0.15/0.038),BG127) -> 0.21630769 | BL127: =IF(O127="sloped",1/(1/BJ127+0.15/0.04),IF(O127="flat",1/(1/BJ127+0.15/0.034),"error")) -> 0.23928113 | BM127: 1.1 | BN127: =IF(BI127=0.85,1/(1/BI127+0.05/0.038),BI127) -> 0.57 | BP127: =D127*BS127 -> 3659.25 | BQ127: =H127 -> 6 | BR127: =0.32*BP127 -> 1170.96 | BS127: =I127 -> 20.5 | BT127: =IF(BQ127<=3,0.76*BP127,0.8*BP127) -> 2927.4 | BU127: =(($D127*$BI127*($BU$1-$BX$1)+$J127*$BG127*($BU$1-$BW$1)+$L127*$BH127*($BU$1-$BW$1)+$N127*$BJ127*($BU$1-$BV$1))*1.05+$BT127*(5.95))/1000 -> 82.153687 | BV127: =(($D127*$BI127*($BU$1-$BX$1)+$J127*$BK127*($BU$1-$BW$1)+$L127*$BH127*($BU$1-$BW$1)+$N127*$BJ127*($BU$1-$BV$1))*1.05+$BT127*(5.95))/1000 -> 51.579789 | BW127: =(($D127*$BI127*($BU$1-$BX$1)+$J127*$BG127*($BU$1-$BW$1)+$L127*$BH127*($BU$1-$BW$1)+$N127*$BL127*($BU$1-$BV$1))*1.05+$BT127*(5.95))/1000 -> 71.867546 | BX127: =(($D127*$BI127*($BU$1-$BX$1)+$J127*$BG127*($BU$1-$BW$1)+$L127*$BM127*($BU$1-$BW$1)+$N127*$BJ127*($BU$1-$BV$1))*1.05+$BT127*(5.95))/1000 -> 73.158205 | BY127: =(($D127*$BN127*($BU$1-$BX$1)+$J127*$BG127*($BU$1-$BW$1)+$L127*$BH127*($BU$1-$BW$1)+$N127*$BJ127*($BU$1-$BV$1))*1.05+$BT127*(5.95))/1000 -> 82.153687 | BZ127: =BU127*1152.4 -> 94673.908 | CA127: =BV127*1152.4 -> 59440.548 | CB127: =BW127*1152.4 -> 82820.16 | CC127: =BX127*1152.4 -> 84307.516 | CD127: =BY127*1152.4 -> 94673.908
A128: 125 | B128: Burgas | C128: Debelt 3 | D128: 156.9 | E128: =0.8*D128*H128 -> 753.12 | F128: 50.8 | G128: Ground | H128: 6 | I128: 20.5 | J128: =F128*I128-L128 -> 833.12 | K128: N | L128: 208.28 | M128: 208.28 | N128: 164.745 | O128: Sloped | P128: N | Q128: Individual | R128: Electricity, natural gas | S128: =BZ128 -> 75325.121 | T128: =S128/E128 -> 100.01742 | U128: =CA128 -> 43477.173 | V128: =IF(ISBLANK(D128)," ",S128-U128) -> 31847.948 | W128: =CB128 -> 64905.776 | X128: =IF(ISBLANK(D128)," ",S128-W128) -> 10419.345 | Y128: =CC128 -> 75325.121 | Z128: =IF(ISBLANK(D128)," ",S128-Y128) -> 0 | AA128: =CD128 -> 75325.121 | AB128: =IF(ISBLANK(D128)," ",S128-AA128) -> 0 | AC128: =V128+X128+Z128+AB128 -> 42267.294 | AD128: =IF(ISBLANK(D128)," ",S128-AC128) -> 33057.827 | AE128: =AD128/E128 -> 43.894502 | AF128: =1-AD128/S128 -> 0.56113144 | AG128: =IF(ISBLANK($D128),"",S128*_xlfn.XLOOKUP(Q128,DATA!$B$24:$B$25,DATA!$C$24:$C$25,"error",0,1)/1000) -> 10.091045 | AH128: =IF(ISBLANK($D128),"",V128*_xlfn.XLOOKUP(Q128,DATA!$B$24:$B$25,DATA!$C$24:$C$25,"error",0,1)/1000) -> 4.2665592 | AI128: =IF(ISBLANK($D128),"",X128*_xlfn.XLOOKUP(Q128,DATA!$B$24:$B$25,DATA!$C$24:$C$25,"error",0,1)/1000) -> 1.3958436 | AJ128: =IF(ISBLANK($D128),"",Z128*_xlfn.XLOOKUP(Q128,DATA!$B$24:$B$25,DATA!$C$24:$C$25,"error",0,1)/1000) -> 0 | AK128: =IF(ISBLANK($D128),"",AB128*_xlfn.XLOOKUP(Q128,DATA!$B$24:$B$25,DATA!$C$24:$C$25,"error",0,1)/1000) -> 0 | AL128: =SUM(AH128:AK128) -> 5.6624028 | AM128: =IF(ISBLANK($D128),"",AG128-AL128) -> 4.4286425 | AN128: =IF(ISBLANK($D128),"",$S128*0.0135790158248428/1000) -> 1.022841 | AO128: =IF(ISBLANK($D128),"",$V128*0.0135790158248428/1000) -> 0.43246379 | AP128: =IF(ISBLANK($D128),"",$X128*0.0135790158248428/1000) -> 0.14148446 | AQ128: =IF(ISBLANK($D128),"",$Z128*0.0135790158248428/1000) -> 0 | AR128: =IF(ISBLANK($D128),"",$AB128*0.0135790158248428/1000) -> 0 | AS128: =IF(ISBLANK($D128),"",$AC128*0.0135790158248428/1000) -> 0.57394825 | AT128: =IF(ISBLANK($D128),"",AN128-AS128) -> 0.44889276 | AU128: =IF(ISBLANK($D128),"",$S128*0.000738514285714286/1000) -> 0.055628678 | AV128: =IF(ISBLANK($D128),"",$V128*0.000738514285714286/1000) -> 0.023520165 | AW128: =IF(ISBLANK($D128),"",$X128*0.000738514285714286/1000) -> 0.0076948355 | AX128: =IF(ISBLANK($D128),"",$Z128*0.000738514285714286/1000) -> 0 | AY128: =IF(ISBLANK($D128),"",$AB128*0.000738514285714286/1000) -> 0 | AZ128: =IF(ISBLANK($D128),"",$AC128*0.000738514285714286/1000) -> 0.031215 | BA128: =IF(ISBLANK($D128),"",AU128-AZ128) -> 0.024413678 | BB128: =IF(V128>0,J128*DATA!$C$4,0) -> 54152.8 | BC128: =IF(X128>0,N128*_xlfn.XLOOKUP(Burgas!O128,DATA!$B$5:$B$6,DATA!$C$5:$C$6,"error",0,1),0) -> 7907.76 | BD128: =IF(Z128>0,(L128-M128)*DATA!$C$7,"0,00 ") -> 0,00 | BE128: =IF(G128="basement",D128*DATA!$C$8,IF(G128="ground",0,"error")) -> 0 | BF128: =BB128+BC128+BD128+BE128 -> 62060.56 | BG128: 1.48 | BH128: 1.1 | BI128: =IF(G128="ground",0.57,IF(G128="basement",0.85,"error")) -> 0.57 | BJ128: 2.33 | BK128: =IF(K128="N",1/((1/BG128)+0.15/0.038),BG128) -> 0.21630769 | BL128: =IF(O128="sloped",1/(1/BJ128+0.15/0.04),IF(O128="flat",1/(1/BJ128+0.15/0.034),"error")) -> 0.23928113 | BM128: 1.1 | BN128: =IF(BI128=0.85,1/(1/BI128+0.05/0.038),BI128) -> 0.57 | BP128: =D128*BS128 -> 3216.45 | BQ128: =H128 -> 6 | BR128: =0.32*BP128 -> 1029.264 | BS128: =I128 -> 20.5 | BT128: =IF(BQ128<=3,0.76*BP128,0.8*BP128) -> 2573.16 | BU128: =(($D128*$BI128*($BU$1-$BX$1)+$J128*$BG128*($BU$1-$BW$1)+$L128*$BH128*($BU$1-$BW$1)+$N128*$BJ128*($BU$1-$BV$1))*1.05+$BT128*(5.95))/1000 -> 65.363694 | BV128: =(($D128*$BI128*($BU$1-$BX$1)+$J128*$BK128*($BU$1-$BW$1)+$L128*$BH128*($BU$1-$BW$1)+$N128*$BJ128*($BU$1-$BV$1))*1.05+$BT128*(5.95))/1000 -> 37.727502 | BW128: =(($D128*$BI128*($BU$1-$BX$1)+$J128*$BG128*($BU$1-$BW$1)+$L128*$BH128*($BU$1-$BW$1)+$N128*$BL128*($BU$1-$BV$1))*1.05+$BT128*(5.95))/1000 -> 56.322263 | BX128: =(($D128*$BI128*($BU$1-$BX$1)+$J128*$BG128*($BU$1-$BW$1)+$L128*$BM128*($BU$1-$BW$1)+$N128*$BJ128*($BU$1-$BV$1))*1.05+$BT128*(5.95))/1000 -> 65.363694 | BY128: =(($D128*$BN128*($BU$1-$BX$1)+$J128*$BG128*($BU$1-$BW$1)+$L128*$BH128*($BU$1-$BW$1)+$N128*$BJ128*($BU$1-$BV$1))*1.05+$BT128*(5.95))/1000 -> 65.363694 | BZ128: =BU128*1152.4 -> 75325.121 | CA128: =BV128*1152.4 -> 43477.173 | CB128: =BW128*1152.4 -> 64905.776 | CC128: =BX128*1152.4 -> 75325.121 | CD128: =BY128*1152.4 -> 75325.121
A129: 126 | B129: Burgas | C129: Debelt 31 | D129: 149.6 | E129: =0.8*D129*H129 -> 837.76 | F129: 49 | G129: Ground | H129: 7 | I129: 22.25 | J129: =F129*I129-L129 -> 872.2 | K129: Y | L129: 218.05 | M129: 218.05 | N129: 157.08 | O129: Sloped | P129: Y | Q129: Individual | R129: Electricity, natural gas | S129: =BZ129 -> 34910.096 | T129: =S129/E129 -> 41.67076 | U129: =CA129 -> 34910.096 | V129: =IF(ISBLANK(D129)," ",S129-U129) -> 0 | W129: =CB129 -> 34437.525 | X129: =IF(ISBLANK(D129)," ",S129-W129) -> 472.57116 | Y129: =CC129 -> 34910.096 | Z129: =IF(ISBLANK(D129)," ",S129-Y129) -> 0 | AA129: =CD129 -> 34910.096 | AB129: =IF(ISBLANK(D129)," ",S129-AA129) -> 0 | AC129: =V129+X129+Z129+AB129 -> 472.57116 | AD129: =IF(ISBLANK(D129)," ",S129-AC129) -> 34437.525 | AE129: =AD129/E129 -> 41.106671 | AF129: =1-AD129/S129 -> 0.013536805 | AG129: =IF(ISBLANK($D129),"",S129*_xlfn.XLOOKUP(Q129,DATA!$B$24:$B$25,DATA!$C$24:$C$25,"error",0,1)/1000) -> 4.6767845 | AH129: =IF(ISBLANK($D129),"",V129*_xlfn.XLOOKUP(Q129,DATA!$B$24:$B$25,DATA!$C$24:$C$25,"error",0,1)/1000) -> 0 | AI129: =IF(ISBLANK($D129),"",X129*_xlfn.XLOOKUP(Q129,DATA!$B$24:$B$25,DATA!$C$24:$C$25,"error",0,1)/1000) -> 0.063308719 | AJ129: =IF(ISBLANK($D129),"",Z129*_xlfn.XLOOKUP(Q129,DATA!$B$24:$B$25,DATA!$C$24:$C$25,"error",0,1)/1000) -> 0 | AK129: =IF(ISBLANK($D129),"",AB129*_xlfn.XLOOKUP(Q129,DATA!$B$24:$B$25,DATA!$C$24:$C$25,"error",0,1)/1000) -> 0 | AL129: =SUM(AH129:AK129) -> 0.063308719 | AM129: =IF(ISBLANK($D129),"",AG129-AL129) -> 4.6134758 | AN129: =IF(ISBLANK($D129),"",$S129*0.0135790158248428/1000) -> 0.47404475 | AO129: =IF(ISBLANK($D129),"",$V129*0.0135790158248428/1000) -> 0 | AP129: =IF(ISBLANK($D129),"",$X129*0.0135790158248428/1000) -> 0.0064170512 | AQ129: =IF(ISBLANK($D129),"",$Z129*0.0135790158248428/1000) -> 0 | AR129: =IF(ISBLANK($D129),"",$AB129*0.0135790158248428/1000) -> 0 | AS129: =IF(ISBLANK($D129),"",$AC129*0.0135790158248428/1000) -> 0.0064170512 | AT129: =IF(ISBLANK($D129),"",AN129-AS129) -> 0.4676277 | AU129: =IF(ISBLANK($D129),"",$S129*0.000738514285714286/1000) -> 0.025781605 | AV129: =IF(ISBLANK($D129),"",$V129*0.000738514285714286/1000) -> 0 | AW129: =IF(ISBLANK($D129),"",$X129*0.000738514285714286/1000) -> 0.00034900055 | AX129: =IF(ISBLANK($D129),"",$Z129*0.000738514285714286/1000) -> 0 | AY129: =IF(ISBLANK($D129),"",$AB129*0.000738514285714286/1000) -> 0 | AZ129: =IF(ISBLANK($D129),"",$AC129*0.000738514285714286/1000) -> 0.00034900055 | BA129: =IF(ISBLANK($D129),"",AU129-AZ129) -> 0.025432604 | BB129: =IF(V129>0,J129*DATA!$C$4,0) -> 0 | BC129: =IF(X129>0,N129*_xlfn.XLOOKUP(Burgas!O129,DATA!$B$5:$B$6,DATA!$C$5:$C$6,"error",0,1),0) -> 7539.84 | BD129: =IF(Z129>0,(L129-M129)*DATA!$C$7,"0,00 ") -> 0,00 | BE129: =IF(G129="basement",D129*DATA!$C$8,IF(G129="ground",0,"error")) -> 0 | BF129: =BB129+BC129+BD129+BE129 -> 7539.84 | BG129: 0.25 | BH129: 1.1 | BI129: =IF(G129="ground",0.57,IF(G129="basement",0.85,"error")) -> 0.57 | BJ129: 0.22 | BK129: =IF(K129="N",1/((1/BG129)+0.15/0.038),BG129) -> 0.25 | BL129: =IF(O129="sloped",1/(1/BJ129+0.15/0.04),IF(O129="flat",1/(1/BJ129+0.15/0.034),"error")) -> 0.12054795 | BM129: 1.1 | BN129: =IF(BI129=0.85,1/(1/BI129+0.05/0.038),BI129) -> 0.57 | BP129: =D129*BS129 -> 3328.6 | BQ129: =H129 -> 7 | BR129: =0.32*BP129 -> 1065.152 | BS129: =I129 -> 22.25 | BT129: =IF(BQ129<=3,0.76*BP129,0.8*BP129) -> 2662.88 | BU129: =(($D129*$BI129*($BU$1-$BX$1)+$J129*$BG129*($BU$1-$BW$1)+$L129*$BH129*($BU$1-$BW$1)+$N129*$BJ129*($BU$1-$BV$1))*1.05+$BT129*(5.95))/1000 -> 30.293384 | BV129: =(($D129*$BI129*($BU$1-$BX$1)+$J129*$BK129*($BU$1-$BW$1)+$L129*$BH129*($BU$1-$BW$1)+$N129*$BJ129*($BU$1-$BV$1))*1.05+$BT129*(5.95))/1000 -> 30.293384 | BW129: =(($D129*$BI129*($BU$1-$BX$1)+$J129*$BG129*($BU$1-$BW$1)+$L129*$BH129*($BU$1-$BW$1)+$N129*$BL129*($BU$1-$BV$1))*1.05+$BT129*(5.95))/1000 -> 29.883309 | BX129: =(($D129*$BI129*($BU$1-$BX$1)+$J129*$BG129*($BU$1-$BW$1)+$L129*$BM129*($BU$1-$BW$1)+$N129*$BJ129*($BU$1-$BV$1))*1.05+$BT129*(5.95))/1000 -> 30.293384 | BY129: =(($D129*$BN129*($BU$1-$BX$1)+$J129*$BG129*($BU$1-$BW$1)+$L129*$BH129*($BU$1-$BW$1)+$N129*$BJ129*($BU$1-$BV$1))*1.05+$BT129*(5.95))/1000 -> 30.293384 | BZ129: =BU129*1152.4 -> 34910.096 | CA129: =BV129*1152.4 -> 34910.096 | CB129: =BW129*1152.4 -> 34437.525 | CC129: =BX129*1152.4 -> 34910.096 | CD129: =BY129*1152.4 -> 34910.096
A130: 127 | B130: Burgas | C130: Debelt 37 | D130: 172.5 | E130: =0.8*D130*H130 -> 966 | F130: 52.6 | G130: Ground | H130: 7 | I130: 22.25 | J130: =F130*I130-L130 -> 936.28 | K130: N | L130: 234.07 | M130: 81.9 | N130: 181.125 | O130: Sloped | P130: N | Q130: Individual | R130: Electricity, natural gas | S130: =BZ130 -> 93605.064 | T130: =S130/E130 -> 96.899653 | U130: =CA130 -> 57813.585 | V130: =IF(ISBLANK(D130)," ",S130-U130) -> 35791.479 | W130: =CB130 -> 82149.761 | X130: =IF(ISBLANK(D130)," ",S130-W130) -> 11455.303 | Y130: =CC130 -> 85549.432 | Z130: =IF(ISBLANK(D130)," ",S130-Y130) -> 8055.6325 | AA130: =CD130 -> 93605.064 | AB130: =IF(ISBLANK(D130)," ",S130-AA130) -> 0 | AC130: =V130+X130+Z130+AB130 -> 55302.415 | AD130: =IF(ISBLANK(D130)," ",S130-AC130) -> 38302.65 | AE130: =AD130/E130 -> 39.650776 | AF130: =1-AD130/S130 -> 0.5908058 | AG130: =IF(ISBLANK($D130),"",S130*_xlfn.XLOOKUP(Q130,DATA!$B$24:$B$25,DATA!$C$24:$C$25,"error",0,1)/1000) -> 12.539946 | AH130: =IF(ISBLANK($D130),"",V130*_xlfn.XLOOKUP(Q130,DATA!$B$24:$B$25,DATA!$C$24:$C$25,"error",0,1)/1000) -> 4.7948603 | AI130: =IF(ISBLANK($D130),"",X130*_xlfn.XLOOKUP(Q130,DATA!$B$24:$B$25,DATA!$C$24:$C$25,"error",0,1)/1000) -> 1.5346273 | AJ130: =IF(ISBLANK($D130),"",Z130*_xlfn.XLOOKUP(Q130,DATA!$B$24:$B$25,DATA!$C$24:$C$25,"error",0,1)/1000) -> 1.0791852 | AK130: =IF(ISBLANK($D130),"",AB130*_xlfn.XLOOKUP(Q130,DATA!$B$24:$B$25,DATA!$C$24:$C$25,"error",0,1)/1000) -> 0 | AL130: =SUM(AH130:AK130) -> 7.4086728 | AM130: =IF(ISBLANK($D130),"",AG130-AL130) -> 5.1312731 | AN130: =IF(ISBLANK($D130),"",$S130*0.0135790158248428/1000) -> 1.2710647 | AO130: =IF(ISBLANK($D130),"",$V130*0.0135790158248428/1000) -> 0.48601306 | AP130: =IF(ISBLANK($D130),"",$X130*0.0135790158248428/1000) -> 0.15555175 | AQ130: =IF(ISBLANK($D130),"",$Z130*0.0135790158248428/1000) -> 0.10938756 | AR130: =IF(ISBLANK($D130),"",$AB130*0.0135790158248428/1000) -> 0 | AS130: =IF(ISBLANK($D130),"",$AC130*0.0135790158248428/1000) -> 0.75095237 | AT130: =IF(ISBLANK($D130),"",AN130-AS130) -> 0.52011228 | AU130: =IF(ISBLANK($D130),"",$S130*0.000738514285714286/1000) -> 0.069128677 | AV130: =IF(ISBLANK($D130),"",$V130*0.000738514285714286/1000) -> 0.026432519 | AW130: =IF(ISBLANK($D130),"",$X130*0.000738514285714286/1000) -> 0.0084599052 | AX130: =IF(ISBLANK($D130),"",$Z130*0.000738514285714286/1000) -> 0.0059491997 | AY130: =IF(ISBLANK($D130),"",$AB130*0.000738514285714286/1000) -> 0 | AZ130: =IF(ISBLANK($D130),"",$AC130*0.000738514285714286/1000) -> 0.040841623 | BA130: =IF(ISBLANK($D130),"",AU130-AZ130) -> 0.028287054 | BB130: =IF(V130>0,J130*DATA!$C$4,0) -> 60858.2 | BC130: =IF(X130>0,N130*_xlfn.XLOOKUP(Burgas!O130,DATA!$B$5:$B$6,DATA!$C$5:$C$6,"error",0,1),0) -> 8694 | BD130: =IF(Z130>0,(L130-M130)*DATA!$C$7,"0,00 ") -> 22825.5 | BE130: =IF(G130="basement",D130*DATA!$C$8,IF(G130="ground",0,"error")) -> 0 | BF130: =BB130+BC130+BD130+BE130 -> 92377.7 | BG130: 1.48 | BH130: 2.2376832 | BI130: =IF(G130="ground",0.57,IF(G130="basement",0.85,"error")) -> 0.57 | BJ130: 2.33 | BK130: =IF(K130="N",1/((1/BG130)+0.15/0.038),BG130) -> 0.21630769 | BL130: =IF(O130="sloped",1/(1/BJ130+0.15/0.04),IF(O130="flat",1/(1/BJ130+0.15/0.034),"error")) -> 0.23928113 | BM130: 1.1 | BN130: =IF(BI130=0.85,1/(1/BI130+0.05/0.038),BI130) -> 0.57 | BP130: =D130*BS130 -> 3838.125 | BQ130: =H130 -> 7 | BR130: =0.32*BP130 -> 1228.2 | BS130: =I130 -> 22.25 | BT130: =IF(BQ130<=3,0.76*BP130,0.8*BP130) -> 3070.5 | BU130: =(($D130*$BI130*($BU$1-$BX$1)+$J130*$BG130*($BU$1-$BW$1)+$L130*$BH130*($BU$1-$BW$1)+$N130*$BJ130*($BU$1-$BV$1))*1.05+$BT130*(5.95))/1000 -> 81.226193 | BV130: =(($D130*$BI130*($BU$1-$BX$1)+$J130*$BK130*($BU$1-$BW$1)+$L130*$BH130*($BU$1-$BW$1)+$N130*$BJ130*($BU$1-$BV$1))*1.05+$BT130*(5.95))/1000 -> 50.167985 | BW130: =(($D130*$BI130*($BU$1-$BX$1)+$J130*$BG130*($BU$1-$BW$1)+$L130*$BH130*($BU$1-$BW$1)+$N130*$BL130*($BU$1-$BV$1))*1.05+$BT130*(5.95))/1000 -> 71.285804 | BX130: =(($D130*$BI130*($BU$1-$BX$1)+$J130*$BG130*($BU$1-$BW$1)+$L130*$BM130*($BU$1-$BW$1)+$N130*$BJ130*($BU$1-$BV$1))*1.05+$BT130*(5.95))/1000 -> 74.235883 | BY130: =(($D130*$BN130*($BU$1-$BX$1)+$J130*$BG130*($BU$1-$BW$1)+$L130*$BH130*($BU$1-$BW$1)+$N130*$BJ130*($BU$1-$BV$1))*1.05+$BT130*(5.95))/1000 -> 81.226193 | BZ130: =BU130*1152.4 -> 93605.064 | CA130: =BV130*1152.4 -> 57813.585 | CB130: =BW130*1152.4 -> 82149.761 | CC130: =BX130*1152.4 -> 85549.432 | CD130: =BY130*1152.4 -> 93605.064
A131: 128 | B131: Burgas | C131: Debelt 39 | D131: 112.4 | E131: =0.8*D131*H131 -> 539.52 | F131: 43.8 | G131: Ground | H131: 6 | I131: 20.5 | J131: =F131*I131-L131 -> 718.32 | K131: N | L131: 179.58 | M131: 116.9 | N131: 118.02 | O131: Sloped | P131: N | Q131: Individual | R131: Electricity, natural gas | S131: =BZ131 -> 63729.415 | T131: =S131/E131 -> 118.12243 | U131: =CA131 -> 36269.964 | V131: =IF(ISBLANK(D131)," ",S131-U131) -> 27459.451 | W131: =CB131 -> 56265.206 | X131: =IF(ISBLANK(D131)," ",S131-W131) -> 7464.2093 | Y131: =CC131 -> 60411.238 | Z131: =IF(ISBLANK(D131)," ",S131-Y131) -> 3318.1773 | AA131: =CD131 -> 63729.415 | AB131: =IF(ISBLANK(D131)," ",S131-AA131) -> 0 | AC131: =V131+X131+Z131+AB131 -> 38241.838 | AD131: =IF(ISBLANK(D131)," ",S131-AC131) -> 25487.577 | AE131: =AD131/E131 -> 47.241209 | AF131: =1-AD131/S131 -> 0.60006573 | AG131: =IF(ISBLANK($D131),"",S131*_xlfn.XLOOKUP(Q131,DATA!$B$24:$B$25,DATA!$C$24:$C$25,"error",0,1)/1000) -> 8.5376088 | AH131: =IF(ISBLANK($D131),"",V131*_xlfn.XLOOKUP(Q131,DATA!$B$24:$B$25,DATA!$C$24:$C$25,"error",0,1)/1000) -> 3.6786475 | AI131: =IF(ISBLANK($D131),"",X131*_xlfn.XLOOKUP(Q131,DATA!$B$24:$B$25,DATA!$C$24:$C$25,"error",0,1)/1000) -> 0.99995423 | AJ131: =IF(ISBLANK($D131),"",Z131*_xlfn.XLOOKUP(Q131,DATA!$B$24:$B$25,DATA!$C$24:$C$25,"error",0,1)/1000) -> 0.44452471 | AK131: =IF(ISBLANK($D131),"",AB131*_xlfn.XLOOKUP(Q131,DATA!$B$24:$B$25,DATA!$C$24:$C$25,"error",0,1)/1000) -> 0 | AL131: =SUM(AH131:AK131) -> 5.1231265 | AM131: =IF(ISBLANK($D131),"",AG131-AL131) -> 3.4144823 | AN131: =IF(ISBLANK($D131),"",$S131*0.0135790158248428/1000) -> 0.86538274 | AO131: =IF(ISBLANK($D131),"",$V131*0.0135790158248428/1000) -> 0.37287233 | AP131: =IF(ISBLANK($D131),"",$X131*0.0135790158248428/1000) -> 0.10135662 | AQ131: =IF(ISBLANK($D131),"",$Z131*0.0135790158248428/1000) -> 0.045057583 | AR131: =IF(ISBLANK($D131),"",$AB131*0.0135790158248428/1000) -> 0 | AS131: =IF(ISBLANK($D131),"",$AC131*0.0135790158248428/1000) -> 0.51928652 | AT131: =IF(ISBLANK($D131),"",AN131-AS131) -> 0.34609621 | AU131: =IF(ISBLANK($D131),"",$S131*0.000738514285714286/1000) -> 0.047065084 | AV131: =IF(ISBLANK($D131),"",$V131*0.000738514285714286/1000) -> 0.020279197 | AW131: =IF(ISBLANK($D131),"",$X131*0.000738514285714286/1000) -> 0.0055124252 | AX131: =IF(ISBLANK($D131),"",$Z131*0.000738514285714286/1000) -> 0.0024505214 | AY131: =IF(ISBLANK($D131),"",$AB131*0.000738514285714286/1000) -> 0 | AZ131: =IF(ISBLANK($D131),"",$AC131*0.000738514285714286/1000) -> 0.028242144 | BA131: =IF(ISBLANK($D131),"",AU131-AZ131) -> 0.01882294 | BB131: =IF(V131>0,J131*DATA!$C$4,0) -> 46690.8 | BC131: =IF(X131>0,N131*_xlfn.XLOOKUP(Burgas!O131,DATA!$B$5:$B$6,DATA!$C$5:$C$6,"error",0,1),0) -> 5664.96 | BD131: =IF(Z131>0,(L131-M131)*DATA!$C$7,"0,00 ") -> 9402 | BE131: =IF(G131="basement",D131*DATA!$C$8,IF(G131="ground",0,"error")) -> 0 | BF131: =BB131+BC131+BD131+BE131 -> 61757.76 | BG131: 1.48 | BH131: 1.7108141 | BI131: =IF(G131="ground",0.57,IF(G131="basement",0.85,"error")) -> 0.57 | BJ131: 2.33 | BK131: =IF(K131="N",1/((1/BG131)+0.15/0.038),BG131) -> 0.21630769 | BL131: =IF(O131="sloped",1/(1/BJ131+0.15/0.04),IF(O131="flat",1/(1/BJ131+0.15/0.034),"error")) -> 0.23928113 | BM131: 1.1 | BN131: =IF(BI131=0.85,1/(1/BI131+0.05/0.038),BI131) -> 0.57 | BP131: =D131*BS131 -> 2304.2 | BQ131: =H131 -> 6 | BR131: =0.32*BP131 -> 737.344 | BS131: =I131 -> 20.5 | BT131: =IF(BQ131<=3,0.76*BP131,0.8*BP131) -> 1843.36 | BU131: =(($D131*$BI131*($BU$1-$BX$1)+$J131*$BG131*($BU$1-$BW$1)+$L131*$BH131*($BU$1-$BW$1)+$N131*$BJ131*($BU$1-$BV$1))*1.05+$BT131*(5.95))/1000 -> 55.301471 | BV131: =(($D131*$BI131*($BU$1-$BX$1)+$J131*$BK131*($BU$1-$BW$1)+$L131*$BH131*($BU$1-$BW$1)+$N131*$BJ131*($BU$1-$BV$1))*1.05+$BT131*(5.95))/1000 -> 31.473415 | BW131: =(($D131*$BI131*($BU$1-$BX$1)+$J131*$BG131*($BU$1-$BW$1)+$L131*$BH131*($BU$1-$BW$1)+$N131*$BL131*($BU$1-$BV$1))*1.05+$BT131*(5.95))/1000 -> 48.824372 | BX131: =(($D131*$BI131*($BU$1-$BX$1)+$J131*$BG131*($BU$1-$BW$1)+$L131*$BM131*($BU$1-$BW$1)+$N131*$BJ131*($BU$1-$BV$1))*1.05+$BT131*(5.95))/1000 -> 52.422109 | BY131: =(($D131*$BN131*($BU$1-$BX$1)+$J131*$BG131*($BU$1-$BW$1)+$L131*$BH131*($BU$1-$BW$1)+$N131*$BJ131*($BU$1-$BV$1))*1.05+$BT131*(5.95))/1000 -> 55.301471 | BZ131: =BU131*1152.4 -> 63729.415 | CA131: =BV131*1152.4 -> 36269.964 | CB131: =BW131*1152.4 -> 56265.206 | CC131: =BX131*1152.4 -> 60411.238 | CD131: =BY131*1152.4 -> 63729.415
A132: 129 | B132: Burgas | C132: Debelt 41 | D132: 100.7 | E132: =0.8*D132*H132 -> 483.36 | F132: 43 | G132: Ground | H132: 6 | I132: 20.5 | J132: =F132*I132-L132 -> 705.2 | K132: N | L132: 176.3 | M132: 96.9 | N132: 105.735 | O132: Sloped | P132: N | Q132: Individual | R132: Electricity, natural gas | S132: =BZ132 -> 61599.255 | T132: =S132/E132 -> 127.4397 | U132: =CA132 -> 34641.346 | V132: =IF(ISBLANK(D132)," ",S132-U132) -> 26957.909 | W132: =CB132 -> 54912.014 | X132: =IF(ISBLANK(D132)," ",S132-W132) -> 6687.2409 | Y132: =CC132 -> 57395.948 | Z132: =IF(ISBLANK(D132)," ",S132-Y132) -> 4203.307 | AA132: =CD132 -> 61599.255 | AB132: =IF(ISBLANK(D132)," ",S132-AA132) -> 0 | AC132: =V132+X132+Z132+AB132 -> 37848.457 | AD132: =IF(ISBLANK(D132)," ",S132-AC132) -> 23750.798 | AE132: =AD132/E132 -> 49.136871 | AF132: =1-AD132/S132 -> 0.61443044 | AG132: =IF(ISBLANK($D132),"",S132*_xlfn.XLOOKUP(Q132,DATA!$B$24:$B$25,DATA!$C$24:$C$25,"error",0,1)/1000) -> 8.2522386 | AH132: =IF(ISBLANK($D132),"",V132*_xlfn.XLOOKUP(Q132,DATA!$B$24:$B$25,DATA!$C$24:$C$25,"error",0,1)/1000) -> 3.6114576 | AI132: =IF(ISBLANK($D132),"",X132*_xlfn.XLOOKUP(Q132,DATA!$B$24:$B$25,DATA!$C$24:$C$25,"error",0,1)/1000) -> 0.89586647 | AJ132: =IF(ISBLANK($D132),"",Z132*_xlfn.XLOOKUP(Q132,DATA!$B$24:$B$25,DATA!$C$24:$C$25,"error",0,1)/1000) -> 0.56310246 | AK132: =IF(ISBLANK($D132),"",AB132*_xlfn.XLOOKUP(Q132,DATA!$B$24:$B$25,DATA!$C$24:$C$25,"error",0,1)/1000) -> 0 | AL132: =SUM(AH132:AK132) -> 5.0704265 | AM132: =IF(ISBLANK($D132),"",AG132-AL132) -> 3.181812 | AN132: =IF(ISBLANK($D132),"",$S132*0.0135790158248428/1000) -> 0.83645725 | AO132: =IF(ISBLANK($D132),"",$V132*0.0135790158248428/1000) -> 0.36606187 | AP132: =IF(ISBLANK($D132),"",$X132*0.0135790158248428/1000) -> 0.09080615 | AQ132: =IF(ISBLANK($D132),"",$Z132*0.0135790158248428/1000) -> 0.057076772 | AR132: =IF(ISBLANK($D132),"",$AB132*0.0135790158248428/1000) -> 0 | AS132: =IF(ISBLANK($D132),"",$AC132*0.0135790158248428/1000) -> 0.51394479 | AT132: =IF(ISBLANK($D132),"",AN132-AS132) -> 0.32251246 | AU132: =IF(ISBLANK($D132),"",$S132*0.000738514285714286/1000) -> 0.04549193 | AV132: =IF(ISBLANK($D132),"",$V132*0.000738514285714286/1000) -> 0.019908801 | AW132: =IF(ISBLANK($D132),"",$X132*0.000738514285714286/1000) -> 0.0049386229 | AX132: =IF(ISBLANK($D132),"",$Z132*0.000738514285714286/1000) -> 0.0031042022 | AY132: =IF(ISBLANK($D132),"",$AB132*0.000738514285714286/1000) -> 0 | AZ132: =IF(ISBLANK($D132),"",$AC132*0.000738514285714286/1000) -> 0.027951626 | BA132: =IF(ISBLANK($D132),"",AU132-AZ132) -> 0.017540303 | BB132: =IF(V132>0,J132*DATA!$C$4,0) -> 45838 | BC132: =IF(X132>0,N132*_xlfn.XLOOKUP(Burgas!O132,DATA!$B$5:$B$6,DATA!$C$5:$C$6,"error",0,1),0) -> 5075.28 | BD132: =IF(Z132>0,(L132-M132)*DATA!$C$7,"0,00 ") -> 11910 | BE132: =IF(G132="basement",D132*DATA!$C$8,IF(G132="ground",0,"error")) -> 0 | BF132: =BB132+BC132+BD132+BE132 -> 62823.28 | BG132: 1.48 | BH132: 1.8881452 | BI132: =IF(G132="ground",0.57,IF(G132="basement",0.85,"error")) -> 0.57 | BJ132: 2.33 | BK132: =IF(K132="N",1/((1/BG132)+0.15/0.038),BG132) -> 0.21630769 | BL132: =IF(O132="sloped",1/(1/BJ132+0.15/0.04),IF(O132="flat",1/(1/BJ132+0.15/0.034),"error")) -> 0.23928113 | BM132: 1.1 | BN132: =IF(BI132=0.85,1/(1/BI132+0.05/0.038),BI132) -> 0.57 | BP132: =D132*BS132 -> 2064.35 | BQ132: =H132 -> 6 | BR132: =0.32*BP132 -> 660.592 | BS132: =I132 -> 20.5 | BT132: =IF(BQ132<=3,0.76*BP132,0.8*BP132) -> 1651.48 | BU132: =(($D132*$BI132*($BU$1-$BX$1)+$J132*$BG132*($BU$1-$BW$1)+$L132*$BH132*($BU$1-$BW$1)+$N132*$BJ132*($BU$1-$BV$1))*1.05+$BT132*(5.95))/1000 -> 53.453015 | BV132: =(($D132*$BI132*($BU$1-$BX$1)+$J132*$BK132*($BU$1-$BW$1)+$L132*$BH132*($BU$1-$BW$1)+$N132*$BJ132*($BU$1-$BV$1))*1.05+$BT132*(5.95))/1000 -> 30.060175 | BW132: =(($D132*$BI132*($BU$1-$BX$1)+$J132*$BG132*($BU$1-$BW$1)+$L132*$BH132*($BU$1-$BW$1)+$N132*$BL132*($BU$1-$BV$1))*1.05+$BT132*(5.95))/1000 -> 47.650133 | BX132: =(($D132*$BI132*($BU$1-$BX$1)+$J132*$BG132*($BU$1-$BW$1)+$L132*$BM132*($BU$1-$BW$1)+$N132*$BJ132*($BU$1-$BV$1))*1.05+$BT132*(5.95))/1000 -> 49.805578 | BY132: =(($D132*$BN132*($BU$1-$BX$1)+$J132*$BG132*($BU$1-$BW$1)+$L132*$BH132*($BU$1-$BW$1)+$N132*$BJ132*($BU$1-$BV$1))*1.05+$BT132*(5.95))/1000 -> 53.453015 | BZ132: =BU132*1152.4 -> 61599.255 | CA132: =BV132*1152.4 -> 34641.346 | CB132: =BW132*1152.4 -> 54912.014 | CC132: =BX132*1152.4 -> 57395.948 | CD132: =BY132*1152.4 -> 61599.255
A133: 130 | B133: Burgas | C133: Debelt 42 | D133: 69.6 | E133: =0.8*D133*H133 -> 334.08 | F133: 38.6 | G133: Ground | H133: 6 | I133: 20.5 | J133: =F133*I133-L133 -> 633.04 | K133: N | L133: 158.26 | M133: 55.4 | N133: 73.08 | O133: Sloped | P133: N | Q133: Individual | R133: Electricity, natural gas | S133: =BZ133 -> 52846.715 | T133: =S133/E133 -> 158.18581 | U133: =CA133 -> 28647.289 | V133: =IF(ISBLANK(D133)," ",S133-U133) -> 24199.425 | W133: =CB133 -> 48224.749 | X133: =IF(ISBLANK(D133)," ",S133-W133) -> 4621.9659 | Y133: =CC133 -> 47401.474 | Z133: =IF(ISBLANK(D133)," ",S133-Y133) -> 5445.2413 | AA133: =CD133 -> 52846.715 | AB133: =IF(ISBLANK(D133)," ",S133-AA133) -> 0 | AC133: =V133+X133+Z133+AB133 -> 34266.632 | AD133: =IF(ISBLANK(D133)," ",S133-AC133) -> 18580.082 | AE133: =AD133/E133 -> 55.615668 | AF133: =1-AD133/S133 -> 0.64841556 | AG133: =IF(ISBLANK($D133),"",S133*_xlfn.XLOOKUP(Q133,DATA!$B$24:$B$25,DATA!$C$24:$C$25,"error",0,1)/1000) -> 7.0796911 | AH133: =IF(ISBLANK($D133),"",V133*_xlfn.XLOOKUP(Q133,DATA!$B$24:$B$25,DATA!$C$24:$C$25,"error",0,1)/1000) -> 3.2419131 | AI133: =IF(ISBLANK($D133),"",X133*_xlfn.XLOOKUP(Q133,DATA!$B$24:$B$25,DATA!$C$24:$C$25,"error",0,1)/1000) -> 0.61918874 | AJ133: =IF(ISBLANK($D133),"",Z133*_xlfn.XLOOKUP(Q133,DATA!$B$24:$B$25,DATA!$C$24:$C$25,"error",0,1)/1000) -> 0.72948009 | AK133: =IF(ISBLANK($D133),"",AB133*_xlfn.XLOOKUP(Q133,DATA!$B$24:$B$25,DATA!$C$24:$C$25,"error",0,1)/1000) -> 0 | AL133: =SUM(AH133:AK133) -> 4.5905819 | AM133: =IF(ISBLANK($D133),"",AG133-AL133) -> 2.4891092 | AN133: =IF(ISBLANK($D133),"",$S133*0.0135790158248428/1000) -> 0.71760638 | AO133: =IF(ISBLANK($D133),"",$V133*0.0135790158248428/1000) -> 0.32860438 | AP133: =IF(ISBLANK($D133),"",$X133*0.0135790158248428/1000) -> 0.062761748 | AQ133: =IF(ISBLANK($D133),"",$Z133*0.0135790158248428/1000) -> 0.073941017 | AR133: =IF(ISBLANK($D133),"",$AB133*0.0135790158248428/1000) -> 0 | AS133: =IF(ISBLANK($D133),"",$AC133*0.0135790158248428/1000) -> 0.46530714 | AT133: =IF(ISBLANK($D133),"",AN133-AS133) -> 0.25229923 | AU133: =IF(ISBLANK($D133),"",$S133*0.000738514285714286/1000) -> 0.039028054 | AV133: =IF(ISBLANK($D133),"",$V133*0.000738514285714286/1000) -> 0.017871621 | AW133: =IF(ISBLANK($D133),"",$X133*0.000738514285714286/1000) -> 0.0034133878 | AX133: =IF(ISBLANK($D133),"",$Z133*0.000738514285714286/1000) -> 0.0040213885 | AY133: =IF(ISBLANK($D133),"",$AB133*0.000738514285714286/1000) -> 0 | AZ133: =IF(ISBLANK($D133),"",$AC133*0.000738514285714286/1000) -> 0.025306398 | BA133: =IF(ISBLANK($D133),"",AU133-AZ133) -> 0.013721656 | BB133: =IF(V133>0,J133*DATA!$C$4,0) -> 41147.6 | BC133: =IF(X133>0,N133*_xlfn.XLOOKUP(Burgas!O133,DATA!$B$5:$B$6,DATA!$C$5:$C$6,"error",0,1),0) -> 3507.84 | BD133: =IF(Z133>0,(L133-M133)*DATA!$C$7,"0,00 ") -> 15429 | BE133: =IF(G133="basement",D133*DATA!$C$8,IF(G133="ground",0,"error")) -> 0 | BF133: =BB133+BC133+BD133+BE133 -> 60084.44 | BG133: 1.48 | BH133: 2.2374005 | BI133: =IF(G133="ground",0.57,IF(G133="basement",0.85,"error")) -> 0.57 | BJ133: 2.33 | BK133: =IF(K133="N",1/((1/BG133)+0.15/0.038),BG133) -> 0.21630769 | BL133: =IF(O133="sloped",1/(1/BJ133+0.15/0.04),IF(O133="flat",1/(1/BJ133+0.15/0.034),"error")) -> 0.23928113 | BM133: 1.1 | BN133: =IF(BI133=0.85,1/(1/BI133+0.05/0.038),BI133) -> 0.57 | BP133: =D133*BS133 -> 1426.8 | BQ133: =H133 -> 6 | BR133: =0.32*BP133 -> 456.576 | BS133: =I133 -> 20.5 | BT133: =IF(BQ133<=3,0.76*BP133,0.8*BP133) -> 1141.44 | BU133: =(($D133*$BI133*($BU$1-$BX$1)+$J133*$BG133*($BU$1-$BW$1)+$L133*$BH133*($BU$1-$BW$1)+$N133*$BJ133*($BU$1-$BV$1))*1.05+$BT133*(5.95))/1000 -> 45.857961 | BV133: =(($D133*$BI133*($BU$1-$BX$1)+$J133*$BK133*($BU$1-$BW$1)+$L133*$BH133*($BU$1-$BW$1)+$N133*$BJ133*($BU$1-$BV$1))*1.05+$BT133*(5.95))/1000 -> 24.858807 | BW133: =(($D133*$BI133*($BU$1-$BX$1)+$J133*$BG133*($BU$1-$BW$1)+$L133*$BH133*($BU$1-$BW$1)+$N133*$BL133*($BU$1-$BV$1))*1.05+$BT133*(5.95))/1000 -> 41.847231 | BX133: =(($D133*$BI133*($BU$1-$BX$1)+$J133*$BG133*($BU$1-$BW$1)+$L133*$BM133*($BU$1-$BW$1)+$N133*$BJ133*($BU$1-$BV$1))*1.05+$BT133*(5.95))/1000 -> 41.13283 | BY133: =(($D133*$BN133*($BU$1-$BX$1)+$J133*$BG133*($BU$1-$BW$1)+$L133*$BH133*($BU$1-$BW$1)+$N133*$BJ133*($BU$1-$BV$1))*1.05+$BT133*(5.95))/1000 -> 45.857961 | BZ133: =BU133*1152.4 -> 52846.715 | CA133: =BV133*1152.4 -> 28647.289 | CB133: =BW133*1152.4 -> 48224.749 | CC133: =BX133*1152.4 -> 47401.474 | CD133: =BY133*1152.4 -> 52846.715
A134: 131 | B134: Burgas | C134: Debelt 43 | D134: 250.6 | E134: =0.8*D134*H134 -> 1202.88 | F134: 63.6 | G134: Basement | H134: 6 | I134: 20.5 | J134: =F134*I134-L134 -> 1043.04 | K134: N | L134: 260.76 | M134: 91.3 | N134: 263.13 | O134: Sloped | P134: N | Q134: Individual | R134: Electricity, natural gas | S134: =BZ134 -> 115453.87 | T134: =S134/E134 -> 95.9812 | U134: =CA134 -> 75581.238 | V134: =IF(ISBLANK(D134)," ",S134-U134) -> 39872.628 | W134: =CB134 -> 98812.132 | X134: =IF(ISBLANK(D134)," ",S134-W134) -> 16641.733 | Y134: =CC134 -> 106482.93 | Z134: =IF(ISBLANK(D134)," ",S134-Y134) -> 8970.937 | AA134: =CD134 -> 113140.55 | AB134: =IF(ISBLANK(D134)," ",S134-AA134) -> 2313.3136 | AC134: =V134+X134+Z134+AB134 -> 67798.612 | AD134: =IF(ISBLANK(D134)," ",S134-AC134) -> 47655.253 | AE134: =AD134/E134 -> 39.617629 | AF134: =1-AD134/S134 -> 0.58723553 | AG134: =IF(ISBLANK($D134),"",S134*_xlfn.XLOOKUP(Q134,DATA!$B$24:$B$25,DATA!$C$24:$C$25,"error",0,1)/1000) -> 15.466954 | AH134: =IF(ISBLANK($D134),"",V134*_xlfn.XLOOKUP(Q134,DATA!$B$24:$B$25,DATA!$C$24:$C$25,"error",0,1)/1000) -> 5.3415977 | AI134: =IF(ISBLANK($D134),"",X134*_xlfn.XLOOKUP(Q134,DATA!$B$24:$B$25,DATA!$C$24:$C$25,"error",0,1)/1000) -> 2.2294353 | AJ134: =IF(ISBLANK($D134),"",Z134*_xlfn.XLOOKUP(Q134,DATA!$B$24:$B$25,DATA!$C$24:$C$25,"error",0,1)/1000) -> 1.2018053 | AK134: =IF(ISBLANK($D134),"",AB134*_xlfn.XLOOKUP(Q134,DATA!$B$24:$B$25,DATA!$C$24:$C$25,"error",0,1)/1000) -> 0.3099066 | AL134: =SUM(AH134:AK134) -> 9.082745 | AM134: =IF(ISBLANK($D134),"",AG134-AL134) -> 6.3842091 | AN134: =IF(ISBLANK($D134),"",$S134*0.0135790158248428/1000) -> 1.5677499 | AO134: =IF(ISBLANK($D134),"",$V134*0.0135790158248428/1000) -> 0.54143105 | AP134: =IF(ISBLANK($D134),"",$X134*0.0135790158248428/1000) -> 0.22597836 | AQ134: =IF(ISBLANK($D134),"",$Z134*0.0135790158248428/1000) -> 0.1218165 | AR134: =IF(ISBLANK($D134),"",$AB134*0.0135790158248428/1000) -> 0.031412522 | AS134: =IF(ISBLANK($D134),"",$AC134*0.0135790158248428/1000) -> 0.92063843 | AT134: =IF(ISBLANK($D134),"",AN134-AS134) -> 0.64711144 | AU134: =IF(ISBLANK($D134),"",$S134*0.000738514285714286/1000) -> 0.085264329 | AV134: =IF(ISBLANK($D134),"",$V134*0.000738514285714286/1000) -> 0.029446506 | AW134: =IF(ISBLANK($D134),"",$X134*0.000738514285714286/1000) -> 0.012290158 | AX134: =IF(ISBLANK($D134),"",$Z134*0.000738514285714286/1000) -> 0.0066251652 | AY134: =IF(ISBLANK($D134),"",$AB134*0.000738514285714286/1000) -> 0.0017084151 | AZ134: =IF(ISBLANK($D134),"",$AC134*0.000738514285714286/1000) -> 0.050070244 | BA134: =IF(ISBLANK($D134),"",AU134-AZ134) -> 0.035194085 | BB134: =IF(V134>0,J134*DATA!$C$4,0) -> 67797.6 | BC134: =IF(X134>0,N134*_xlfn.XLOOKUP(Burgas!O134,DATA!$B$5:$B$6,DATA!$C$5:$C$6,"error",0,1),0) -> 12630.24 | BD134: =IF(Z134>0,(L134-M134)*DATA!$C$7,"0,00 ") -> 25419 | BE134: =IF(G134="basement",D134*DATA!$C$8,IF(G134="ground",0,"error")) -> 10024 | BF134: =BB134+BC134+BD134+BE134 -> 115870.84 | BG134: 1.48 | BH134: 2.2372718 | BI134: =IF(G134="ground",0.57,IF(G134="basement",0.85,"error")) -> 0.85 | BJ134: 2.33 | BK134: =IF(K134="N",1/((1/BG134)+0.15/0.038),BG134) -> 0.21630769 | BL134: =IF(O134="sloped",1/(1/BJ134+0.15/0.04),IF(O134="flat",1/(1/BJ134+0.15/0.034),"error")) -> 0.23928113 | BM134: 1.1 | BN134: =IF(BI134=0.85,1/(1/BI134+0.05/0.038),BI134) -> 0.40124224 | BP134: =D134*BS134 -> 5137.3 | BQ134: =H134 -> 6 | BR134: =0.32*BP134 -> 1643.936 | BS134: =I134 -> 20.5 | BT134: =IF(BQ134<=3,0.76*BP134,0.8*BP134) -> 4109.84 | BU134: =(($D134*$BI134*($BU$1-$BX$1)+$J134*$BG134*($BU$1-$BW$1)+$L134*$BH134*($BU$1-$BW$1)+$N134*$BJ134*($BU$1-$BV$1))*1.05+$BT134*(5.95))/1000 -> 100.18558 | BV134: =(($D134*$BI134*($BU$1-$BX$1)+$J134*$BK134*($BU$1-$BW$1)+$L134*$BH134*($BU$1-$BW$1)+$N134*$BJ134*($BU$1-$BV$1))*1.05+$BT134*(5.95))/1000 -> 65.58594 | BW134: =(($D134*$BI134*($BU$1-$BX$1)+$J134*$BG134*($BU$1-$BW$1)+$L134*$BH134*($BU$1-$BW$1)+$N134*$BL134*($BU$1-$BV$1))*1.05+$BT134*(5.95))/1000 -> 85.744648 | BX134: =(($D134*$BI134*($BU$1-$BX$1)+$J134*$BG134*($BU$1-$BW$1)+$L134*$BM134*($BU$1-$BW$1)+$N134*$BJ134*($BU$1-$BV$1))*1.05+$BT134*(5.95))/1000 -> 92.401014 | BY134: =(($D134*$BN134*($BU$1-$BX$1)+$J134*$BG134*($BU$1-$BW$1)+$L134*$BH134*($BU$1-$BW$1)+$N134*$BJ134*($BU$1-$BV$1))*1.05+$BT134*(5.95))/1000 -> 98.178195 | BZ134: =BU134*1152.4 -> 115453.87 | CA134: =BV134*1152.4 -> 75581.238 | CB134: =BW134*1152.4 -> 98812.132 | CC134: =BX134*1152.4 -> 106482.93 | CD134: =BY134*1152.4 -> 113140.55
A135: 132 | B135: Burgas | C135: Debelt 44 | D135: 279.6 | E135: =0.8*D135*H135 -> 894.72 | F135: 71.2 | G135: Ground | H135: 4 | I135: 14.5 | J135: =F135*I135-L135 -> 825.92 | K135: N | L135: 206.48 | M135: 51.6 | N135: 293.58 | O135: Sloped | P135: N | Q135: Individual | R135: Electricity, natural gas | S135: =BZ135 -> 98256.817 | T135: =S135/E135 -> 109.81851 | U135: =CA135 -> 66684.106 | V135: =IF(ISBLANK(D135)," ",S135-U135) -> 31572.712 | W135: =CB135 -> 79689.265 | X135: =IF(ISBLANK(D135)," ",S135-W135) -> 18567.553 | Y135: =CC135 -> 90057.722 | Z135: =IF(ISBLANK(D135)," ",S135-Y135) -> 8199.0955 | AA135: =CD135 -> 98256.817 | AB135: =IF(ISBLANK(D135)," ",S135-AA135) -> 0 | AC135: =V135+X135+Z135+AB135 -> 58339.36 | AD135: =IF(ISBLANK(D135)," ",S135-AC135) -> 39917.458 | AE135: =AD135/E135 -> 44.614469 | AF135: =1-AD135/S135 -> 0.59374363 | AG135: =IF(ISBLANK($D135),"",S135*_xlfn.XLOOKUP(Q135,DATA!$B$24:$B$25,DATA!$C$24:$C$25,"error",0,1)/1000) -> 13.163125 | AH135: =IF(ISBLANK($D135),"",V135*_xlfn.XLOOKUP(Q135,DATA!$B$24:$B$25,DATA!$C$24:$C$25,"error",0,1)/1000) -> 4.2296867 | AI135: =IF(ISBLANK($D135),"",X135*_xlfn.XLOOKUP(Q135,DATA!$B$24:$B$25,DATA!$C$24:$C$25,"error",0,1)/1000) -> 2.4874306 | AJ135: =IF(ISBLANK($D135),"",Z135*_xlfn.XLOOKUP(Q135,DATA!$B$24:$B$25,DATA!$C$24:$C$25,"error",0,1)/1000) -> 1.0984044 | AK135: =IF(ISBLANK($D135),"",AB135*_xlfn.XLOOKUP(Q135,DATA!$B$24:$B$25,DATA!$C$24:$C$25,"error",0,1)/1000) -> 0 | AL135: =SUM(AH135:AK135) -> 7.8155217 | AM135: =IF(ISBLANK($D135),"",AG135-AL135) -> 5.3476034 | AN135: =IF(ISBLANK($D135),"",$S135*0.0135790158248428/1000) -> 1.3342309 | AO135: =IF(ISBLANK($D135),"",$V135*0.0135790158248428/1000) -> 0.42872635 | AP135: =IF(ISBLANK($D135),"",$X135*0.0135790158248428/1000) -> 0.25212909 | AQ135: =IF(ISBLANK($D135),"",$Z135*0.0135790158248428/1000) -> 0.11133565 | AR135: =IF(ISBLANK($D135),"",$AB135*0.0135790158248428/1000) -> 0 | AS135: =IF(ISBLANK($D135),"",$AC135*0.0135790158248428/1000) -> 0.79219109 | AT135: =IF(ISBLANK($D135),"",AN135-AS135) -> 0.54203979 | AU135: =IF(ISBLANK($D135),"",$S135*0.000738514285714286/1000) -> 0.072564063 | AV135: =IF(ISBLANK($D135),"",$V135*0.000738514285714286/1000) -> 0.023316899 | AW135: =IF(ISBLANK($D135),"",$X135*0.000738514285714286/1000) -> 0.013712403 | AX135: =IF(ISBLANK($D135),"",$Z135*0.000738514285714286/1000) -> 0.0060551492 | AY135: =IF(ISBLANK($D135),"",$AB135*0.000738514285714286/1000) -> 0 | AZ135: =IF(ISBLANK($D135),"",$AC135*0.000738514285714286/1000) -> 0.043084451 | BA135: =IF(ISBLANK($D135),"",AU135-AZ135) -> 0.029479613 | BB135: =IF(V135>0,J135*DATA!$C$4,0) -> 53684.8 | BC135: =IF(X135>0,N135*_xlfn.XLOOKUP(Burgas!O135,DATA!$B$5:$B$6,DATA!$C$5:$C$6,"error",0,1),0) -> 14091.84 | BD135: =IF(Z135>0,(L135-M135)*DATA!$C$7,"0,00 ") -> 23232 | BE135: =IF(G135="basement",D135*DATA!$C$8,IF(G135="ground",0,"error")) -> 0 | BF135: =BB135+BC135+BD135+BE135 -> 91008.64 | BG135: 1.48 | BH135: 2.4126695 | BI135: =IF(G135="ground",0.57,IF(G135="basement",0.85,"error")) -> 0.57 | BJ135: 2.33 | BK135: =IF(K135="N",1/((1/BG135)+0.15/0.038),BG135) -> 0.21630769 | BL135: =IF(O135="sloped",1/(1/BJ135+0.15/0.04),IF(O135="flat",1/(1/BJ135+0.15/0.034),"error")) -> 0.23928113 | BM135: 1.1 | BN135: =IF(BI135=0.85,1/(1/BI135+0.05/0.038),BI135) -> 0.57 | BP135: =D135*BS135 -> 4054.2 | BQ135: =H135 -> 4 | BR135: =0.32*BP135 -> 1297.344 | BS135: =I135 -> 14.5 | BT135: =IF(BQ135<=3,0.76*BP135,0.8*BP135) -> 3243.36 | BU135: =(($D135*$BI135*($BU$1-$BX$1)+$J135*$BG135*($BU$1-$BW$1)+$L135*$BH135*($BU$1-$BW$1)+$N135*$BJ135*($BU$1-$BV$1))*1.05+$BT135*(5.95))/1000 -> 85.262771 | BV135: =(($D135*$BI135*($BU$1-$BX$1)+$J135*$BK135*($BU$1-$BW$1)+$L135*$BH135*($BU$1-$BW$1)+$N135*$BJ135*($BU$1-$BV$1))*1.05+$BT135*(5.95))/1000 -> 57.865416 | BW135: =(($D135*$BI135*($BU$1-$BX$1)+$J135*$BG135*($BU$1-$BW$1)+$L135*$BH135*($BU$1-$BW$1)+$N135*$BL135*($BU$1-$BV$1))*1.05+$BT135*(5.95))/1000 -> 69.150698 | BX135: =(($D135*$BI135*($BU$1-$BX$1)+$J135*$BG135*($BU$1-$BW$1)+$L135*$BM135*($BU$1-$BW$1)+$N135*$BJ135*($BU$1-$BV$1))*1.05+$BT135*(5.95))/1000 -> 78.147971 | BY135: =(($D135*$BN135*($BU$1-$BX$1)+$J135*$BG135*($BU$1-$BW$1)+$L135*$BH135*($BU$1-$BW$1)+$N135*$BJ135*($BU$1-$BV$1))*1.05+$BT135*(5.95))/1000 -> 85.262771 | BZ135: =BU135*1152.4 -> 98256.817 | CA135: =BV135*1152.4 -> 66684.106 | CB135: =BW135*1152.4 -> 79689.265 | CC135: =BX135*1152.4 -> 90057.722 | CD135: =BY135*1152.4 -> 98256.817
... A189: 186 | B189: Burgas | C189: Ferdinandova 77; Tsar Kaloyan 13 | D189: 227 | E189: =0.8*D189*H189 -> 726.4 | F189: 85.6 | G189: Ground | H189: 4 | I189: 14.5 | J189: =F189*I189-L189 -> 1032.81 | K189: N | L189: 208.39 | M189: 144.87 | N189: 238.35 | O189: Sloped | P189: N | Q189: Individual | R189: Electricity, natural gas | S189: =BZ189 -> 94053.256 | T189: =S189/E189 -> 129.4786 | U189: =CA189 -> 54571.694 | V189: =IF(ISBLANK(D189)," ",S189-U189) -> 39481.563 | W189: =CB189 -> 78978.741 | X189: =IF(ISBLANK(D189)," ",S189-W189) -> 15074.515 | Y189: =CC189 -> 90690.611 | Z189: =IF(ISBLANK(D189)," ",S189-Y189) -> 3362.6456 | AA189: =CD189 -> 94053.256 | AB189: =IF(ISBLANK(D189)," ",S189-AA189) -> 0 | AC189: =V189+X189+Z189+AB189 -> 57918.723 | AD189: =IF(ISBLANK(D189)," ",S189-AC189) -> 36134.533 | AE189: =AD189/E189 -> 49.744676 | AF189: =1-AD189/S189 -> 0.61580774 | AG189: =IF(ISBLANK($D189),"",S189*_xlfn.XLOOKUP(Q189,DATA!$B$24:$B$25,DATA!$C$24:$C$25,"error",0,1)/1000) -> 12.599989 | AH189: =IF(ISBLANK($D189),"",V189*_xlfn.XLOOKUP(Q189,DATA!$B$24:$B$25,DATA!$C$24:$C$25,"error",0,1)/1000) -> 5.2892081 | AI189: =IF(ISBLANK($D189),"",X189*_xlfn.XLOOKUP(Q189,DATA!$B$24:$B$25,DATA!$C$24:$C$25,"error",0,1)/1000) -> 2.0194805 | AJ189: =IF(ISBLANK($D189),"",Z189*_xlfn.XLOOKUP(Q189,DATA!$B$24:$B$25,DATA!$C$24:$C$25,"error",0,1)/1000) -> 0.45048197 | AK189: =IF(ISBLANK($D189),"",AB189*_xlfn.XLOOKUP(Q189,DATA!$B$24:$B$25,DATA!$C$24:$C$25,"error",0,1)/1000) -> 0 | AL189: =SUM(AH189:AK189) -> 7.7591706 | AM189: =IF(ISBLANK($D189),"",AG189-AL189) -> 4.8408181 | AN189: =IF(ISBLANK($D189),"",$S189*0.0135790158248428/1000) -> 1.2771507 | AO189: =IF(ISBLANK($D189),"",$V189*0.0135790158248428/1000) -> 0.53612076 | AP189: =IF(ISBLANK($D189),"",$X189*0.0135790158248428/1000) -> 0.20469708 | AQ189: =IF(ISBLANK($D189),"",$Z189*0.0135790158248428/1000) -> 0.045661418 | AR189: =IF(ISBLANK($D189),"",$AB189*0.0135790158248428/1000) -> 0 | AS189: =IF(ISBLANK($D189),"",$AC189*0.0135790158248428/1000) -> 0.78647926 | AT189: =IF(ISBLANK($D189),"",AN189-AS189) -> 0.4906714 | AU189: =IF(ISBLANK($D189),"",$S189*0.000738514285714286/1000) -> 0.069459673 | AV189: =IF(ISBLANK($D189),"",$V189*0.000738514285714286/1000) -> 0.029157698 | AW189: =IF(ISBLANK($D189),"",$X189*0.000738514285714286/1000) -> 0.011132745 | AX189: =IF(ISBLANK($D189),"",$Z189*0.000738514285714286/1000) -> 0.0024833618 | AY189: =IF(ISBLANK($D189),"",$AB189*0.000738514285714286/1000) -> 0 | AZ189: =IF(ISBLANK($D189),"",$AC189*0.000738514285714286/1000) -> 0.042773805 | BA189: =IF(ISBLANK($D189),"",AU189-AZ189) -> 0.026685869 | BB189: =IF(V189>0,J189*DATA!$C$4,0) -> 67132.65 | BC189: =IF(X189>0,N189*_xlfn.XLOOKUP(Burgas!O189,DATA!$B$5:$B$6,DATA!$C$5:$C$6,"error",0,1),0) -> 11440.8 | BD189: =IF(Z189>0,(L189-M189)*DATA!$C$7,"0,00 ") -> 9528 | BE189: =IF(G189="basement",D189*DATA!$C$8,IF(G189="ground",0,"error")) -> 0 | BF189: =BB189+BC189+BD189+BE189 -> 88101.45 | BG189: 1.48 | BH189: 1.6334229 | BI189: =IF(G189="ground",0.57,IF(G189="basement",0.85,"error")) -> 0.57 | BJ189: 2.33 | BK189: =IF(K189="N",1/((1/BG189)+0.15/0.038),BG189) -> 0.21630769 | BL189: =IF(O189="sloped",1/(1/BJ189+0.15/0.04),IF(O189="flat",1/(1/BJ189+0.15/0.034),"error")) -> 0.23928113 | BM189: 1.1 | BN189: =IF(BI189=0.85,1/(1/BI189+0.05/0.038),BI189) -> 0.57 | BP189: =D189*BS189 -> 3291.5 | BQ189: =H189 -> 4 | BR189: =0.32*BP189 -> 1053.28 | BS189: =I189 -> 14.5 | BT189: =IF(BQ189<=3,0.76*BP189,0.8*BP189) -> 2633.2 | BU189: =(($D189*$BI189*($BU$1-$BX$1)+$J189*$BG189*($BU$1-$BW$1)+$L189*$BH189*($BU$1-$BW$1)+$N189*$BJ189*($BU$1-$BV$1))*1.05+$BT189*(5.95))/1000 -> 81.615113 | BV189: =(($D189*$BI189*($BU$1-$BX$1)+$J189*$BK189*($BU$1-$BW$1)+$L189*$BH189*($BU$1-$BW$1)+$N189*$BJ189*($BU$1-$BV$1))*1.05+$BT189*(5.95))/1000 -> 47.354819 | BW189: =(($D189*$BI189*($BU$1-$BX$1)+$J189*$BG189*($BU$1-$BW$1)+$L189*$BH189*($BU$1-$BW$1)+$N189*$BL189*($BU$1-$BV$1))*1.05+$BT189*(5.95))/1000 -> 68.534139 | BX189: =(($D189*$BI189*($BU$1-$BX$1)+$J189*$BG189*($BU$1-$BW$1)+$L189*$BM189*($BU$1-$BW$1)+$N189*$BJ189*($BU$1-$BV$1))*1.05+$BT189*(5.95))/1000 -> 78.697163 | BY189: =(($D189*$BN189*($BU$1-$BX$1)+$J189*$BG189*($BU$1-$BW$1)+$L189*$BH189*($BU$1-$BW$1)+$N189*$BJ189*($BU$1-$BV$1))*1.05+$BT189*(5.95))/1000 -> 81.615113 | BZ189: =BU189*1152.4 -> 94053.256 | CA189: =BV189*1152.4 -> 54571.694 | CB189: =BW189*1152.4 -> 78978.741 | CC189: =BX189*1152.4 -> 90690.611 | CD189: =BY189*1152.4 -> 94053.256
A190: 187 | B190: Burgas | C190: Ferdinandova 78 | D190: 181.8 | E190: =0.8*D190*H190 -> 581.76 | F190: 58.4 | G190: Ground | H190: 4 | I190: 14.5 | J190: =F190*I190-L190 -> 677.44 | K190: N | L190: 169.36 | M190: 169.36 | N190: 190.89 | O190: Sloped | P190: N | Q190: District heating | R190: Natural gas | S190: =BZ190 -> 66011.412 | T190: =S190/E190 -> 113.46846 | U190: =CA190 -> 40114.694 | V190: =IF(ISBLANK(D190)," ",S190-U190) -> 25896.718 | W190: =CB190 -> 53938.519 | X190: =IF(ISBLANK(D190)," ",S190-W190) -> 12072.894 | Y190: =CC190 -> 66011.412 | Z190: =IF(ISBLANK(D190)," ",S190-Y190) -> 0 | AA190: =CD190 -> 66011.412 | AB190: =IF(ISBLANK(D190)," ",S190-AA190) -> 0 | AC190: =V190+X190+Z190+AB190 -> 37969.612 | AD190: =IF(ISBLANK(D190)," ",S190-AC190) -> 28041.8 | AE190: =(S190-AD190)/E190 -> 65.266797 | AF190: =1-AD190/S190 -> 0.57519769 | AG190: =IF(ISBLANK($D190),"",S190*_xlfn.XLOOKUP(Q190,DATA!$B$24:$B$25,DATA!$C$24:$C$25,"error",0,1)/1000) -> 26.291025 | AH190: =IF(ISBLANK($D190),"",V190*_xlfn.XLOOKUP(Q190,DATA!$B$24:$B$25,DATA!$C$24:$C$25,"error",0,1)/1000) -> 10.314145 | AI190: =IF(ISBLANK($D190),"",X190*_xlfn.XLOOKUP(Q190,DATA!$B$24:$B$25,DATA!$C$24:$C$25,"error",0,1)/1000) -> 4.8083921 | AJ190: =IF(ISBLANK($D190),"",Z190*_xlfn.XLOOKUP(Q190,DATA!$B$24:$B$25,DATA!$C$24:$C$25,"error",0,1)/1000) -> 0 | AK190: =IF(ISBLANK($D190),"",AB190*_xlfn.XLOOKUP(Q190,DATA!$B$24:$B$25,DATA!$C$24:$C$25,"error",0,1)/1000) -> 0 | AL190: =SUM(AH190:AK190) -> 15.122537 | AM190: =IF(ISBLANK($D190),"",AG190-AL190) -> 11.168488 | AN190: =IF(ISBLANK($D190),"",$S190*0.0135790158248428/1000) -> 0.89637001 | AO190: =IF(ISBLANK($D190),"",$V190*0.0135790158248428/1000) -> 0.35165195 | AP190: =IF(ISBLANK($D190),"",$X190*0.0135790158248428/1000) -> 0.16393801 | AQ190: =IF(ISBLANK($D190),"",$Z190*0.0135790158248428/1000) -> 0 | AR190: =IF(ISBLANK($D190),"",$AB190*0.0135790158248428/1000) -> 0 | AS190: =IF(ISBLANK($D190),"",$AC190*0.0135790158248428/1000) -> 0.51558996 | AT190: =IF(ISBLANK($D190),"",AN190-AS190) -> 0.38078005 | AU190: =IF(ISBLANK($D190),"",$S190*0.000738514285714286/1000) -> 0.048750371 | AV190: =IF(ISBLANK($D190),"",$V190*0.000738514285714286/1000) -> 0.019125097 | AW190: =IF(ISBLANK($D190),"",$X190*0.000738514285714286/1000) -> 0.0089160044 | AX190: =IF(ISBLANK($D190),"",$Z190*0.000738514285714286/1000) -> 0 | AY190: =IF(ISBLANK($D190),"",$AB190*0.000738514285714286/1000) -> 0 | AZ190: =IF(ISBLANK($D190),"",$AC190*0.000738514285714286/1000) -> 0.028041101 | BA190: =IF(ISBLANK($D190),"",AU190-AZ190) -> 0.02070927 | BB190: =IF(V190>0,J190*DATA!$C$4,0) -> 44033.6 | BC190: =IF(X190>0,N190*_xlfn.XLOOKUP(Burgas!O190,DATA!$B$5:$B$6,DATA!$C$5:$C$6,"error",0,1),0) -> 9162.72 | BD190: =IF(Z190>0,(L190-M190)*DATA!$C$7,"0,00 ") -> 0,00 | BE190: =IF(G190="basement",D190*DATA!$C$8,IF(G190="ground",0,"error")) -> 0 | BF190: =BB190+BC190+BD190+BE190 -> 53196.32 | BG190: 1.48 | BH190: 1.1 | BI190: =IF(G190="ground",0.57,IF(G190="basement",0.85,"error")) -> 0.57 | BJ190: 2.33 | BK190: =IF(K190="N",1/((1/BG190)+0.15/0.038),BG190) -> 0.21630769 | BL190: =IF(O190="sloped",1/(1/BJ190+0.15/0.04),IF(O190="flat",1/(1/BJ190+0.15/0.034),"error")) -> 0.23928113 | BM190: 1.1 | BN190: =IF(BI190=0.85,1/(1/BI190+0.05/0.038),BI190) -> 0.57 | BP190: =D190*BS190 -> 2636.1 | BQ190: =H190 -> 4 | BR190: =0.32*BP190 -> 843.552 | BS190: =I190 -> 14.5 | BT190: =IF(BQ190<=3,0.76*BP190,0.8*BP190) -> 2108.88 | BU190: =(($D190*$BI190*($BU$1-$BX$1)+$J190*$BG190*($BU$1-$BW$1)+$L190*$BH190*($BU$1-$BW$1)+$N190*$BJ190*($BU$1-$BV$1))*1.05+$BT190*(5.95))/1000 -> 57.281684 | BV190: =(($D190*$BI190*($BU$1-$BX$1)+$J190*$BK190*($BU$1-$BW$1)+$L190*$BH190*($BU$1-$BW$1)+$N190*$BJ190*($BU$1-$BV$1))*1.05+$BT190*(5.95))/1000 -> 34.809696 | BW190: =(($D190*$BI190*($BU$1-$BX$1)+$J190*$BG190*($BU$1-$BW$1)+$L190*$BH190*($BU$1-$BW$1)+$N190*$BL190*($BU$1-$BV$1))*1.05+$BT190*(5.95))/1000 -> 46.805379 | BX190: =(($D190*$BI190*($BU$1-$BX$1)+$J190*$BG190*($BU$1-$BW$1)+$L190*$BM190*($BU$1-$BW$1)+$N190*$BJ190*($BU$1-$BV$1))*1.05+$BT190*(5.95))/1000 -> 57.281684 | BY190: =(($D190*$BN190*($BU$1-$BX$1)+$J190*$BG190*($BU$1-$BW$1)+$L190*$BH190*($BU$1-$BW$1)+$N190*$BJ190*($BU$1-$BV$1))*1.05+$BT190*(5.95))/1000 -> 57.281684 | BZ190: =BU190*1152.4 -> 66011.412 | CA190: =BV190*1152.4 -> 40114.694 | CB190: =BW190*1152.4 -> 53938.519 | CC190: =BX190*1152.4 -> 66011.412 | CD190: =BY190*1152.4 -> 66011.412
A191: 188 | B191: Burgas | C191: Ferdinandova 81 | D191: 111.2 | E191: =0.8*D191*H191 -> 800.64 | F191: 47.2 | G191: Ground | H191: 9 | I191: 29.1 | J191: =F191*I191-L191 -> 1098.82 | K191: N | L191: 274.7 | M191: 105.35 | N191: 116.76 | O191: Sloped | P191: N | Q191: Individual | R191: Electricity, natural gas | S191: =BZ191 -> 94584.788 | T191: =S191/E191 -> 118.13648 | U191: =CA191 -> 52579.84 | V191: =IF(ISBLANK(D191)," ",S191-U191) -> 42004.948 | W191: =CB191 -> 87200.268 | X191: =IF(ISBLANK(D191)," ",S191-W191) -> 7384.5202 | Y191: =CC191 -> 85619.674 | Z191: =IF(ISBLANK(D191)," ",S191-Y191) -> 8965.1138 | AA191: =CD191 -> 94584.788 | AB191: =IF(ISBLANK(D191)," ",S191-AA191) -> 0 | AC191: =V191+X191+Z191+AB191 -> 58354.582 | AD191: =IF(ISBLANK(D191)," ",S191-AC191) -> 36230.206 | AE191: =AD191/E191 -> 45.251556 | AF191: =1-AD191/S191 -> 0.61695526 | AG191: =IF(ISBLANK($D191),"",S191*_xlfn.XLOOKUP(Q191,DATA!$B$24:$B$25,DATA!$C$24:$C$25,"error",0,1)/1000) -> 12.671196 | AH191: =IF(ISBLANK($D191),"",V191*_xlfn.XLOOKUP(Q191,DATA!$B$24:$B$25,DATA!$C$24:$C$25,"error",0,1)/1000) -> 5.6272573 | AI191: =IF(ISBLANK($D191),"",X191*_xlfn.XLOOKUP(Q191,DATA!$B$24:$B$25,DATA!$C$24:$C$25,"error",0,1)/1000) -> 0.98927857 | AJ191: =IF(ISBLANK($D191),"",Z191*_xlfn.XLOOKUP(Q191,DATA!$B$24:$B$25,DATA!$C$24:$C$25,"error",0,1)/1000) -> 1.2010252 | AK191: =IF(ISBLANK($D191),"",AB191*_xlfn.XLOOKUP(Q191,DATA!$B$24:$B$25,DATA!$C$24:$C$25,"error",0,1)/1000) -> 0 | AL191: =SUM(AH191:AK191) -> 7.8175611 | AM191: =IF(ISBLANK($D191),"",AG191-AL191) -> 4.8536351 | AN191: =IF(ISBLANK($D191),"",$S191*0.0135790158248428/1000) -> 1.2843683 | AO191: =IF(ISBLANK($D191),"",$V191*0.0135790158248428/1000) -> 0.57038586 | AP191: =IF(ISBLANK($D191),"",$X191*0.0135790158248428/1000) -> 0.10027452 | AQ191: =IF(ISBLANK($D191),"",$Z191*0.0135790158248428/1000) -> 0.12173742 | AR191: =IF(ISBLANK($D191),"",$AB191*0.0135790158248428/1000) -> 0 | AS191: =IF(ISBLANK($D191),"",$AC191*0.0135790158248428/1000) -> 0.7923978 | AT191: =IF(ISBLANK($D191),"",AN191-AS191) -> 0.49197054 | AU191: =IF(ISBLANK($D191),"",$S191*0.000738514285714286/1000) -> 0.069852217 | AV191: =IF(ISBLANK($D191),"",$V191*0.000738514285714286/1000) -> 0.031021254 | AW191: =IF(ISBLANK($D191),"",$X191*0.000738514285714286/1000) -> 0.0054535737 | AX191: =IF(ISBLANK($D191),"",$Z191*0.000738514285714286/1000) -> 0.0066208646 | AY191: =IF(ISBLANK($D191),"",$AB191*0.000738514285714286/1000) -> 0 | AZ191: =IF(ISBLANK($D191),"",$AC191*0.000738514285714286/1000) -> 0.043095693 | BA191: =IF(ISBLANK($D191),"",AU191-AZ191) -> 0.026756525 | BB191: =IF(V191>0,J191*DATA!$C$4,0) -> 71423.3 | BC191: =IF(X191>0,N191*_xlfn.XLOOKUP(Burgas!O191,DATA!$B$5:$B$6,DATA!$C$5:$C$6,"error",0,1),0) -> 5604.48 | BD191: =IF(Z191>0,(L191-M191)*DATA!$C$7,"0,00 ") -> 25402.5 | BE191: =IF(G191="basement",D191*DATA!$C$8,IF(G191="ground",0,"error")) -> 0 | BF191: =BB191+BC191+BD191+BE191 -> 102430.28 | BG191: 1.48 | BH191: 2.1788588 | BI191: =IF(G191="ground",0.57,IF(G191="basement",0.85,"error")) -> 0.57 | BJ191: 2.33 | BK191: =IF(K191="N",1/((1/BG191)+0.15/0.038),BG191) -> 0.21630769 | BL191: =IF(O191="sloped",1/(1/BJ191+0.15/0.04),IF(O191="flat",1/(1/BJ191+0.15/0.034),"error")) -> 0.23928113 | BM191: 1.1 | BN191: =IF(BI191=0.85,1/(1/BI191+0.05/0.038),BI191) -> 0.57 | BP191: =D191*BS191 -> 3235.92 | BQ191: =H191 -> 9 | BR191: =0.32*BP191 -> 1035.4944 | BS191: =I191 -> 29.1 | BT191: =IF(BQ191<=3,0.76*BP191,0.8*BP191) -> 2588.736 | BU191: =(($D191*$BI191*($BU$1-$BX$1)+$J191*$BG191*($BU$1-$BW$1)+$L191*$BH191*($BU$1-$BW$1)+$N191*$BJ191*($BU$1-$BV$1))*1.05+$BT191*(5.95))/1000 -> 82.076352 | BV191: =(($D191*$BI191*($BU$1-$BX$1)+$J191*$BK191*($BU$1-$BW$1)+$L191*$BH191*($BU$1-$BW$1)+$N191*$BJ191*($BU$1-$BV$1))*1.05+$BT191*(5.95))/1000 -> 45.62638 | BW191: =(($D191*$BI191*($BU$1-$BX$1)+$J191*$BG191*($BU$1-$BW$1)+$L191*$BH191*($BU$1-$BW$1)+$N191*$BL191*($BU$1-$BV$1))*1.05+$BT191*(5.95))/1000 -> 75.668403 | BX191: =(($D191*$BI191*($BU$1-$BX$1)+$J191*$BG191*($BU$1-$BW$1)+$L191*$BM191*($BU$1-$BW$1)+$N191*$BJ191*($BU$1-$BV$1))*1.05+$BT191*(5.95))/1000 -> 74.296837 | BY191: =(($D191*$BN191*($BU$1-$BX$1)+$J191*$BG191*($BU$1-$BW$1)+$L191*$BH191*($BU$1-$BW$1)+$N191*$BJ191*($BU$1-$BV$1))*1.05+$BT191*(5.95))/1000 -> 82.076352 | BZ191: =BU191*1152.4 -> 94584.788 | CA191: =BV191*1152.4 -> 52579.84 | CB191: =BW191*1152.4 -> 87200.268 | CC191: =BX191*1152.4 -> 85619.674 | CD191: =BY191*1152.4 -> 94584.788
A192: 189 | B192: Burgas | C192: Ferdinandova 81A | D192: 195.6 | E192: =0.8*D192*H192 -> 469.44 | F192: 34.8 | G192: Ground | H192: 3 | I192: 10.15 | J192: =F192*I192-L192 -> 282.58 | K192: Y | L192: 70.64 | M192: 70.64 | N192: 205.38 | O192: Sloped | P192: Y | Q192: Individual | R192: Electricity, natural gas | S192: =BZ192 -> 18493.796 | T192: =S192/E192 -> 39.395442 | U192: =CA192 -> 18493.796 | V192: =IF(ISBLANK(D192)," ",S192-U192) -> 0 | W192: =CB192 -> 17875.916 | X192: =IF(ISBLANK(D192)," ",S192-W192) -> 617.88047 | Y192: =CC192 -> 18493.796 | Z192: =IF(ISBLANK(D192)," ",S192-Y192) -> 0 | AA192: =CD192 -> 18493.796 | AB192: =IF(ISBLANK(D192)," ",S192-AA192) -> 0 | AC192: =V192+X192+Z192+AB192 -> 617.88047 | AD192: =IF(ISBLANK(D192)," ",S192-AC192) -> 17875.916 | AE192: =AD192/E192 -> 38.079235 | AF192: =1-AD192/S192 -> 0.033410148 | AG192: =IF(ISBLANK($D192),"",S192*_xlfn.XLOOKUP(Q192,DATA!$B$24:$B$25,DATA!$C$24:$C$25,"error",0,1)/1000) -> 2.4775498 | AH192: =IF(ISBLANK($D192),"",V192*_xlfn.XLOOKUP(Q192,DATA!$B$24:$B$25,DATA!$C$24:$C$25,"error",0,1)/1000) -> 0 | AI192: =IF(ISBLANK($D192),"",X192*_xlfn.XLOOKUP(Q192,DATA!$B$24:$B$25,DATA!$C$24:$C$25,"error",0,1)/1000) -> 0.082775304 | AJ192: =IF(ISBLANK($D192),"",Z192*_xlfn.XLOOKUP(Q192,DATA!$B$24:$B$25,DATA!$C$24:$C$25,"error",0,1)/1000) -> 0 | AK192: =IF(ISBLANK($D192),"",AB192*_xlfn.XLOOKUP(Q192,DATA!$B$24:$B$25,DATA!$C$24:$C$25,"error",0,1)/1000) -> 0 | AL192: =SUM(AH192:AK192) -> 0.082775304 | AM192: =IF(ISBLANK($D192),"",AG192-AL192) -> 2.3947745 | AN192: =IF(ISBLANK($D192),"",$S192*0.0135790158248428/1000) -> 0.25112755 | AO192: =IF(ISBLANK($D192),"",$V192*0.0135790158248428/1000) -> 0 | AP192: =IF(ISBLANK($D192),"",$X192*0.0135790158248428/1000) -> 0.0083902087 | AQ192: =IF(ISBLANK($D192),"",$Z192*0.0135790158248428/1000) -> 0 | AR192: =IF(ISBLANK($D192),"",$AB192*0.0135790158248428/1000) -> 0 | AS192: =IF(ISBLANK($D192),"",$AC192*0.0135790158248428/1000) -> 0.0083902087 | AT192: =IF(ISBLANK($D192),"",AN192-AS192) -> 0.24273734 | AU192: =IF(ISBLANK($D192),"",$S192*0.000738514285714286/1000) -> 0.013657933 | AV192: =IF(ISBLANK($D192),"",$V192*0.000738514285714286/1000) -> 0 | AW192: =IF(ISBLANK($D192),"",$X192*0.000738514285714286/1000) -> 0.00045631355 | AX192: =IF(ISBLANK($D192),"",$Z192*0.000738514285714286/1000) -> 0 | AY192: =IF(ISBLANK($D192),"",$AB192*0.000738514285714286/1000) -> 0 | AZ192: =IF(ISBLANK($D192),"",$AC192*0.000738514285714286/1000) -> 0.00045631355 | BA192: =IF(ISBLANK($D192),"",AU192-AZ192) -> 0.013201619 | BB192: =IF(V192>0,J192*DATA!$C$4,0) -> 0 | BC192: =IF(X192>0,N192*_xlfn.XLOOKUP(Burgas!O192,DATA!$B$5:$B$6,DATA!$C$5:$C$6,"error",0,1),0) -> 9858.24 | BD192: =IF(Z192>0,(L192-M192)*DATA!$C$7,"0,00 ") -> 0,00 | BE192: =IF(G192="basement",D192*DATA!$C$8,IF(G192="ground",0,"error")) -> 0 | BF192: =BB192+BC192+BD192+BE192 -> 9858.24 | BG192: 0.25 | BH192: 1.1 | BI192: =IF(G192="ground",0.57,IF(G192="basement",0.85,"error")) -> 0.57 | BJ192: 0.22 | BK192: =IF(K192="N",1/((1/BG192)+0.15/0.038),BG192) -> 0.25 | BL192: =IF(O192="sloped",1/(1/BJ192+0.15/0.04),IF(O192="flat",1/(1/BJ192+0.15/0.034),"error")) -> 0.12054795 | BM192: 1.1 | BN192: =IF(BI192=0.85,1/(1/BI192+0.05/0.038),BI192) -> 0.57 | BP192: =D192*BS192 -> 1985.34 | BQ192: =H192 -> 3 | BR192: =0.32*BP192 -> 635.3088 | BS192: =I192 -> 10.15 | BT192: =IF(BQ192<=3,0.76*BP192,0.8*BP192) -> 1508.8584 | BU192: =(($D192*$BI192*($BU$1-$BX$1)+$J192*$BG192*($BU$1-$BW$1)+$L192*$BH192*($BU$1-$BW$1)+$N192*$BJ192*($BU$1-$BV$1))*1.05+$BT192*(5.95))/1000 -> 16.04807 | BV192: =(($D192*$BI192*($BU$1-$BX$1)+$J192*$BK192*($BU$1-$BW$1)+$L192*$BH192*($BU$1-$BW$1)+$N192*$BJ192*($BU$1-$BV$1))*1.05+$BT192*(5.95))/1000 -> 16.04807 | BW192: =(($D192*$BI192*($BU$1-$BX$1)+$J192*$BG192*($BU$1-$BW$1)+$L192*$BH192*($BU$1-$BW$1)+$N192*$BL192*($BU$1-$BV$1))*1.05+$BT192*(5.95))/1000 -> 15.511902 | BX192: =(($D192*$BI192*($BU$1-$BX$1)+$J192*$BG192*($BU$1-$BW$1)+$L192*$BM192*($BU$1-$BW$1)+$N192*$BJ192*($BU$1-$BV$1))*1.05+$BT192*(5.95))/1000 -> 16.04807 | BY192: =(($D192*$BN192*($BU$1-$BX$1)+$J192*$BG192*($BU$1-$BW$1)+$L192*$BH192*($BU$1-$BW$1)+$N192*$BJ192*($BU$1-$BV$1))*1.05+$BT192*(5.95))/1000 -> 16.04807 | BZ192: =BU192*1152.4 -> 18493.796 | CA192: =BV192*1152.4 -> 18493.796 | CB192: =BW192*1152.4 -> 17875.916 | CC192: =BX192*1152.4 -> 18493.796 | CD192: =BY192*1152.4 -> 18493.796
A193: 190 | B193: Burgas | C193: Ferdinandova 85 | D193: 129.9 | E193: =0.8*D193*H193 -> 623.52 | F193: 46.2 | G193: Ground | H193: 6 | I193: 20.5 | J193: =F193*I193-L193 -> 757.68 | K193: N | L193: 189.42 | M193: 104.2 | N193: 136.395 | O193: Sloped | P193: N | Q193: Individual | R193: Electricity, natural gas | S193: =BZ193 -> 70480.476 | T193: =S193/E193 -> 113.03643 | U193: =CA193 -> 41516.397 | V193: =IF(ISBLANK(D193)," ",S193-U193) -> 28964.079 | W193: =CB193 -> 61854.135 | X193: =IF(ISBLANK(D193)," ",S193-W193) -> 8626.3415 | Y193: =CC193 -> 65969.068 | Z193: =IF(ISBLANK(D193)," ",S193-Y193) -> 4511.4083 | AA193: =CD193 -> 70480.476 | AB193: =IF(ISBLANK(D193)," ",S193-AA193) -> 0 | AC193: =V193+X193+Z193+AB193 -> 42101.829 | AD193: =IF(ISBLANK(D193)," ",S193-AC193) -> 28378.648 | AE193: =AD193/E193 -> 45.513612 | AF193: =1-AD193/S193 -> 0.59735449 | AG193: =IF(ISBLANK($D193),"",S193*_xlfn.XLOOKUP(Q193,DATA!$B$24:$B$25,DATA!$C$24:$C$25,"error",0,1)/1000) -> 9.442025 | AH193: =IF(ISBLANK($D193),"",V193*_xlfn.XLOOKUP(Q193,DATA!$B$24:$B$25,DATA!$C$24:$C$25,"error",0,1)/1000) -> 3.8802172 | AI193: =IF(ISBLANK($D193),"",X193*_xlfn.XLOOKUP(Q193,DATA!$B$24:$B$25,DATA!$C$24:$C$25,"error",0,1)/1000) -> 1.1556411 | AJ193: =IF(ISBLANK($D193),"",Z193*_xlfn.XLOOKUP(Q193,DATA!$B$24:$B$25,DATA!$C$24:$C$25,"error",0,1)/1000) -> 0.60437773 | AK193: =IF(ISBLANK($D193),"",AB193*_xlfn.XLOOKUP(Q193,DATA!$B$24:$B$25,DATA!$C$24:$C$25,"error",0,1)/1000) -> 0 | AL193: =SUM(AH193:AK193) -> 5.640236 | AM193: =IF(ISBLANK($D193),"",AG193-AL193) -> 3.801789 | AN193: =IF(ISBLANK($D193),"",$S193*0.0135790158248428/1000) -> 0.9570555 | AO193: =IF(ISBLANK($D193),"",$V193*0.0135790158248428/1000) -> 0.39330369 | AP193: =IF(ISBLANK($D193),"",$X193*0.0135790158248428/1000) -> 0.11713723 | AQ193: =IF(ISBLANK($D193),"",$Z193*0.0135790158248428/1000) -> 0.061260485 | AR193: =IF(ISBLANK($D193),"",$AB193*0.0135790158248428/1000) -> 0 | AS193: =IF(ISBLANK($D193),"",$AC193*0.0135790158248428/1000) -> 0.5717014 | AT193: =IF(ISBLANK($D193),"",AN193-AS193) -> 0.3853541 | AU193: =IF(ISBLANK($D193),"",$S193*0.000738514285714286/1000) -> 0.052050839 | AV193: =IF(ISBLANK($D193),"",$V193*0.000738514285714286/1000) -> 0.021390386 | AW193: =IF(ISBLANK($D193),"",$X193*0.000738514285714286/1000) -> 0.0063706764 | AX193: =IF(ISBLANK($D193),"",$Z193*0.000738514285714286/1000) -> 0.0033317395 | AY193: =IF(ISBLANK($D193),"",$AB193*0.000738514285714286/1000) -> 0 | AZ193: =IF(ISBLANK($D193),"",$AC193*0.000738514285714286/1000) -> 0.031092802 | BA193: =IF(ISBLANK($D193),"",AU193-AZ193) -> 0.020958037 | BB193: =IF(V193>0,J193*DATA!$C$4,0) -> 49249.2 | BC193: =IF(X193>0,N193*_xlfn.XLOOKUP(Burgas!O193,DATA!$B$5:$B$6,DATA!$C$5:$C$6,"error",0,1),0) -> 6546.96 | BD193: =IF(Z193>0,(L193-M193)*DATA!$C$7,"0,00 ") -> 12783 | BE193: =IF(G193="basement",D193*DATA!$C$8,IF(G193="ground",0,"error")) -> 0 | BF193: =BB193+BC193+BD193+BE193 -> 68579.16 | BG193: 1.48 | BH193: 1.8873245 | BI193: =IF(G193="ground",0.57,IF(G193="basement",0.85,"error")) -> 0.57 | BJ193: 2.33 | BK193: =IF(K193="N",1/((1/BG193)+0.15/0.038),BG193) -> 0.21630769 | BL193: =IF(O193="sloped",1/(1/BJ193+0.15/0.04),IF(O193="flat",1/(1/BJ193+0.15/0.034),"error")) -> 0.23928113 | BM193: 1.1 | BN193: =IF(BI193=0.85,1/(1/BI193+0.05/0.038),BI193) -> 0.57 | BP193: =D193*BS193 -> 2662.95 | BQ193: =H193 -> 6 | BR193: =0.32*BP193 -> 852.144 | BS193: =I193 -> 20.5 | BT193: =IF(BQ193<=3,0.76*BP193,0.8*BP193) -> 2130.36 | BU193: =(($D193*$BI193*($BU$1-$BX$1)+$J193*$BG193*($BU$1-$BW$1)+$L193*$BH193*($BU$1-$BW$1)+$N193*$BJ193*($BU$1-$BV$1))*1.05+$BT193*(5.95))/1000 -> 61.159733 | BV193: =(($D193*$BI193*($BU$1-$BX$1)+$J193*$BK193*($BU$1-$BW$1)+$L193*$BH193*($BU$1-$BW$1)+$N193*$BJ193*($BU$1-$BV$1))*1.05+$BT193*(5.95))/1000 -> 36.02603 | BW193: =(($D193*$BI193*($BU$1-$BX$1)+$J193*$BG193*($BU$1-$BW$1)+$L193*$BH193*($BU$1-$BW$1)+$N193*$BL193*($BU$1-$BV$1))*1.05+$BT193*(5.95))/1000 -> 53.674188 | BX193: =(($D193*$BI193*($BU$1-$BX$1)+$J193*$BG193*($BU$1-$BW$1)+$L193*$BM193*($BU$1-$BW$1)+$N193*$BJ193*($BU$1-$BV$1))*1.05+$BT193*(5.95))/1000 -> 57.244939 | BY193: =(($D193*$BN193*($BU$1-$BX$1)+$J193*$BG193*($BU$1-$BW$1)+$L193*$BH193*($BU$1-$BW$1)+$N193*$BJ193*($BU$1-$BV$1))*1.05+$BT193*(5.95))/1000 -> 61.159733 | BZ193: =BU193*1152.4 -> 70480.476 | CA193: =BV193*1152.4 -> 41516.397 | CB193: =BW193*1152.4 -> 61854.135 | CC193: =BX193*1152.4 -> 65969.068 | CD193: =BY193*1152.4 -> 70480.476
A194: 191 | B194: Burgas | C194: Ferdinandova 87 | D194: 137.1 | E194: =0.8*D194*H194 -> 329.04 | F194: 48.6 | G194: Ground | H194: 3 | I194: 10.15 | J194: =F194*I194-L194 -> 394.63 | K194: Y | L194: 98.66 | M194: 98.66 | N194: 143.955 | O194: Sloped | P194: Y | Q194: Individual | R194: Electricity, natural gas | S194: =BZ194 -> 16084.609 | T194: =S194/E194 -> 48.883446 | U194: =CA194 -> 16084.609 | V194: =IF(ISBLANK(D194)," ",S194-U194) -> 0 | W194: =CB194 -> 15651.524 | X194: =IF(ISBLANK(D194)," ",S194-W194) -> 433.08493 | Y194: =CC194 -> 16084.609 | Z194: =IF(ISBLANK(D194)," ",S194-Y194) -> 0 | AA194: =CD194 -> 16084.609 | AB194: =IF(ISBLANK(D194)," ",S194-AA194) -> 0 | AC194: =V194+X194+Z194+AB194 -> 433.08493 | AD194: =IF(ISBLANK(D194)," ",S194-AC194) -> 15651.524 | AE194: =AD194/E194 -> 47.567238 | AF194: =1-AD194/S194 -> 0.026925425 | AG194: =IF(ISBLANK($D194),"",S194*_xlfn.XLOOKUP(Q194,DATA!$B$24:$B$25,DATA!$C$24:$C$25,"error",0,1)/1000) -> 2.1547993 | AH194: =IF(ISBLANK($D194),"",V194*_xlfn.XLOOKUP(Q194,DATA!$B$24:$B$25,DATA!$C$24:$C$25,"error",0,1)/1000) -> 0 | AI194: =IF(ISBLANK($D194),"",X194*_xlfn.XLOOKUP(Q194,DATA!$B$24:$B$25,DATA!$C$24:$C$25,"error",0,1)/1000) -> 0.058018886 | AJ194: =IF(ISBLANK($D194),"",Z194*_xlfn.XLOOKUP(Q194,DATA!$B$24:$B$25,DATA!$C$24:$C$25,"error",0,1)/1000) -> 0 | AK194: =IF(ISBLANK($D194),"",AB194*_xlfn.XLOOKUP(Q194,DATA!$B$24:$B$25,DATA!$C$24:$C$25,"error",0,1)/1000) -> 0 | AL194: =SUM(AH194:AK194) -> 0.058018886 | AM194: =IF(ISBLANK($D194),"",AG194-AL194) -> 2.0967804 | AN194: =IF(ISBLANK($D194),"",$S194*0.0135790158248428/1000) -> 0.21841316 | AO194: =IF(ISBLANK($D194),"",$V194*0.0135790158248428/1000) -> 0 | AP194: =IF(ISBLANK($D194),"",$X194*0.0135790158248428/1000) -> 0.0058808671 | AQ194: =IF(ISBLANK($D194),"",$Z194*0.0135790158248428/1000) -> 0 | AR194: =IF(ISBLANK($D194),"",$AB194*0.0135790158248428/1000) -> 0 | AS194: =IF(ISBLANK($D194),"",$AC194*0.0135790158248428/1000) -> 0.0058808671 | AT194: =IF(ISBLANK($D194),"",AN194-AS194) -> 0.21253229 | AU194: =IF(ISBLANK($D194),"",$S194*0.000738514285714286/1000) -> 0.011878714 | AV194: =IF(ISBLANK($D194),"",$V194*0.000738514285714286/1000) -> 0 | AW194: =IF(ISBLANK($D194),"",$X194*0.000738514285714286/1000) -> 0.00031983941 | AX194: =IF(ISBLANK($D194),"",$Z194*0.000738514285714286/1000) -> 0 | AY194: =IF(ISBLANK($D194),"",$AB194*0.000738514285714286/1000) -> 0 | AZ194: =IF(ISBLANK($D194),"",$AC194*0.000738514285714286/1000) -> 0.00031983941 | BA194: =IF(ISBLANK($D194),"",AU194-AZ194) -> 0.011558874 | BB194: =IF(V194>0,J194*DATA!$C$4,0) -> 0 | BC194: =IF(X194>0,N194*_xlfn.XLOOKUP(Burgas!O194,DATA!$B$5:$B$6,DATA!$C$5:$C$6,"error",0,1),0) -> 6909.84 | BD194: =IF(Z194>0,(L194-M194)*DATA!$C$7,"0,00 ") -> 0,00 | BE194: =IF(G194="basement",D194*DATA!$C$8,IF(G194="ground",0,"error")) -> 0 | BF194: =BB194+BC194+BD194+BE194 -> 6909.84 | BG194: 0.25 | BH194: 1.1 | BI194: =IF(G194="ground",0.57,IF(G194="basement",0.85,"error")) -> 0.57 | BJ194: 0.22 | BK194: =IF(K194="N",1/((1/BG194)+0.15/0.038),BG194) -> 0.25 | BL194: =IF(O194="sloped",1/(1/BJ194+0.15/0.04),IF(O194="flat",1/(1/BJ194+0.15/0.034),"error")) -> 0.12054795 | BM194: 1.1 | BN194: =IF(BI194=0.85,1/(1/BI194+0.05/0.038),BI194) -> 0.57 | BP194: =D194*BS194 -> 1391.565 | BQ194: =H194 -> 3 | BR194: =0.32*BP194 -> 445.3008 | BS194: =I194 -> 10.15 | BT194: =IF(BQ194<=3,0.76*BP194,0.8*BP194) -> 1057.5894 | BU194: =(($D194*$BI194*($BU$1-$BX$1)+$J194*$BG194*($BU$1-$BW$1)+$L194*$BH194*($BU$1-$BW$1)+$N194*$BJ194*($BU$1-$BV$1))*1.05+$BT194*(5.95))/1000 -> 13.957488 | BV194: =(($D194*$BI194*($BU$1-$BX$1)+$J194*$BK194*($BU$1-$BW$1)+$L194*$BH194*($BU$1-$BW$1)+$N194*$BJ194*($BU$1-$BV$1))*1.05+$BT194*(5.95))/1000 -> 13.957488 | BW194: =(($D194*$BI194*($BU$1-$BX$1)+$J194*$BG194*($BU$1-$BW$1)+$L194*$BH194*($BU$1-$BW$1)+$N194*$BL194*($BU$1-$BV$1))*1.05+$BT194*(5.95))/1000 -> 13.581677 | BX194: =(($D194*$BI194*($BU$1-$BX$1)+$J194*$BG194*($BU$1-$BW$1)+$L194*$BM194*($BU$1-$BW$1)+$N194*$BJ194*($BU$1-$BV$1))*1.05+$BT194*(5.95))/1000 -> 13.957488 | BY194: =(($D194*$BN194*($BU$1-$BX$1)+$J194*$BG194*($BU$1-$BW$1)+$L194*$BH194*($BU$1-$BW$1)+$N194*$BJ194*($BU$1-$BV$1))*1.05+$BT194*(5.95))/1000 -> 13.957488 | BZ194: =BU194*1152.4 -> 16084.609 | CA194: =BV194*1152.4 -> 16084.609 | CB194: =BW194*1152.4 -> 15651.524 | CC194: =BX194*1152.4 -> 16084.609 | CD194: =BY194*1152.4 -> 16084.609
A195: 192 | B195: Burgas | C195: Ferdinandova 89 | D195: 92.6 | E195: =0.8*D195*H195 -> 296.32 | F195: 38.6 | G195: Ground | H195: 4 | I195: 14.5 | J195: =F195*I195-L195 -> 447.76 | K195: N | L195: 111.94 | M195: 100.8 | N195: 97.23 | O195: Sloped | P195: N | Q195: Individual | R195: Electricity, natural gas | S195: =BZ195 -> 39665.294 | T195: =S195/E195 -> 133.85966 | U195: =CA195 -> 22548.628 | V195: =IF(ISBLANK(D195)," ",S195-U195) -> 17116.667 | W195: =CB195 -> 33515.955 | X195: =IF(ISBLANK(D195)," ",S195-W195) -> 6149.3397 | Y195: =CC195 -> 39075.561 | Z195: =IF(ISBLANK(D195)," ",S195-Y195) -> 589.7335 | AA195: =CD195 -> 39665.294 | AB195: =IF(ISBLANK(D195)," ",S195-AA195) -> 0 | AC195: =V195+X195+Z195+AB195 -> 23855.74 | AD195: =IF(ISBLANK(D195)," ",S195-AC195) -> 15809.555 | AE195: =AD195/E195 -> 53.352978 | AF195: =1-AD195/S195 -> 0.60142601 | AG195: =IF(ISBLANK($D195),"",S195*_xlfn.XLOOKUP(Q195,DATA!$B$24:$B$25,DATA!$C$24:$C$25,"error",0,1)/1000) -> 5.313822 | AH195: =IF(ISBLANK($D195),"",V195*_xlfn.XLOOKUP(Q195,DATA!$B$24:$B$25,DATA!$C$24:$C$25,"error",0,1)/1000) -> 2.2930605 | AI195: =IF(ISBLANK($D195),"",X195*_xlfn.XLOOKUP(Q195,DATA!$B$24:$B$25,DATA!$C$24:$C$25,"error",0,1)/1000) -> 0.82380571 | AJ195: =IF(ISBLANK($D195),"",Z195*_xlfn.XLOOKUP(Q195,DATA!$B$24:$B$25,DATA!$C$24:$C$25,"error",0,1)/1000) -> 0.079004552 | AK195: =IF(ISBLANK($D195),"",AB195*_xlfn.XLOOKUP(Q195,DATA!$B$24:$B$25,DATA!$C$24:$C$25,"error",0,1)/1000) -> 0 | AL195: =SUM(AH195:AK195) -> 3.1958707 | AM195: =IF(ISBLANK($D195),"",AG195-AL195) -> 2.1179512 | AN195: =IF(ISBLANK($D195),"",$S195*0.0135790158248428/1000) -> 0.53861566 | AO195: =IF(ISBLANK($D195),"",$V195*0.0135790158248428/1000) -> 0.23242749 | AP195: =IF(ISBLANK($D195),"",$X195*0.0135790158248428/1000) -> 0.083501981 | AQ195: =IF(ISBLANK($D195),"",$Z195*0.0135790158248428/1000) -> 0.0080080005 | AR195: =IF(ISBLANK($D195),"",$AB195*0.0135790158248428/1000) -> 0 | AS195: =IF(ISBLANK($D195),"",$AC195*0.0135790158248428/1000) -> 0.32393747 | AT195: =IF(ISBLANK($D195),"",AN195-AS195) -> 0.21467819 | AU195: =IF(ISBLANK($D195),"",$S195*0.000738514285714286/1000) -> 0.029293387 | AV195: =IF(ISBLANK($D195),"",$V195*0.000738514285714286/1000) -> 0.012640903 | AW195: =IF(ISBLANK($D195),"",$X195*0.000738514285714286/1000) -> 0.0045413752 | AX195: =IF(ISBLANK($D195),"",$Z195*0.000738514285714286/1000) -> 0.00043552661 | AY195: =IF(ISBLANK($D195),"",$AB195*0.000738514285714286/1000) -> 0 | AZ195: =IF(ISBLANK($D195),"",$AC195*0.000738514285714286/1000) -> 0.017617805 | BA195: =IF(ISBLANK($D195),"",AU195-AZ195) -> 0.011675582 | BB195: =IF(V195>0,J195*DATA!$C$4,0) -> 29104.4 | BC195: =IF(X195>0,N195*_xlfn.XLOOKUP(Burgas!O195,DATA!$B$5:$B$6,DATA!$C$5:$C$6,"error",0,1),0) -> 4667.04 | BD195: =IF(Z195>0,(L195-M195)*DATA!$C$7,"0,00 ") -> 1671 | BE195: =IF(G195="basement",D195*DATA!$C$8,IF(G195="ground",0,"error")) -> 0 | BF195: =BB195+BC195+BD195+BE195 -> 35442.44 | BG195: 1.48 | BH195: 1.2741558 | BI195: =IF(G195="ground",0.57,IF(G195="basement",0.85,"error")) -> 0.57 | BJ195: 2.33 | BK195: =IF(K195="N",1/((1/BG195)+0.15/0.038),BG195) -> 0.21630769 | BL195: =IF(O195="sloped",1/(1/BJ195+0.15/0.04),IF(O195="flat",1/(1/BJ195+0.15/0.034),"error")) -> 0.23928113 | BM195: 1.1 | BN195: =IF(BI195=0.85,1/(1/BI195+0.05/0.038),BI195) -> 0.57 | BP195: =D195*BS195 -> 1342.7 | BQ195: =H195 -> 4 | BR195: =0.32*BP195 -> 429.664 | BS195: =I195 -> 14.5 | BT195: =IF(BQ195<=3,0.76*BP195,0.8*BP195) -> 1074.16 | BU195: =(($D195*$BI195*($BU$1-$BX$1)+$J195*$BG195*($BU$1-$BW$1)+$L195*$BH195*($BU$1-$BW$1)+$N195*$BJ195*($BU$1-$BV$1))*1.05+$BT195*(5.95))/1000 -> 34.419728 | BV195: =(($D195*$BI195*($BU$1-$BX$1)+$J195*$BK195*($BU$1-$BW$1)+$L195*$BH195*($BU$1-$BW$1)+$N195*$BJ195*($BU$1-$BV$1))*1.05+$BT195*(5.95))/1000 -> 19.566668 | BW195: =(($D195*$BI195*($BU$1-$BX$1)+$J195*$BG195*($BU$1-$BW$1)+$L195*$BH195*($BU$1-$BW$1)+$N195*$BL195*($BU$1-$BV$1))*1.05+$BT195*(5.95))/1000 -> 29.083612 | BX195: =(($D195*$BI195*($BU$1-$BX$1)+$J195*$BG195*($BU$1-$BW$1)+$L195*$BM195*($BU$1-$BW$1)+$N195*$BJ195*($BU$1-$BV$1))*1.05+$BT195*(5.95))/1000 -> 33.907984 | BY195: =(($D195*$BN195*($BU$1-$BX$1)+$J195*$BG195*($BU$1-$BW$1)+$L195*$BH195*($BU$1-$BW$1)+$N195*$BJ195*($BU$1-$BV$1))*1.05+$BT195*(5.95))/1000 -> 34.419728 | BZ195: =BU195*1152.4 -> 39665.294 | CA195: =BV195*1152.4 -> 22548.628 | CB195: =BW195*1152.4 -> 33515.955 | CC195: =BX195*1152.4 -> 39075.561 | CD195: =BY195*1152.4 -> 39665.294
A196: 193 | B196: Burgas | C196: Ferdinandova 93 | D196: 60.5 | E196: =0.8*D196*H196 -> 338.8 | F196: 31.4 | G196: Ground | H196: 7 | I196: 22.25 | J196: =F196*I196-L196 -> 558.92 | K196: N | L196: 139.73 | M196: 139.73 | N196: 63.525 | O196: Sloped | P196: N | Q196: Individual | R196: Electricity, natural gas | S196: =BZ196 -> 42243.764 | T196: =S196/E196 -> 124.68643 | U196: =CA196 -> 20877.748 | V196: =IF(ISBLANK(D196)," ",S196-U196) -> 21366.016 | W196: =CB196 -> 38226.107 | X196: =IF(ISBLANK(D196)," ",S196-W196) -> 4017.6571 | Y196: =CC196 -> 42243.764 | Z196: =IF(ISBLANK(D196)," ",S196-Y196) -> 0 | AA196: =CD196 -> 42243.764 | AB196: =IF(ISBLANK(D196)," ",S196-AA196) -> 0 | AC196: =V196+X196+Z196+AB196 -> 25383.673 | AD196: =IF(ISBLANK(D196)," ",S196-AC196) -> 16860.091 | AE196: =AD196/E196 -> 49.764141 | AF196: =1-AD196/S196 -> 0.60088569 | AG196: =IF(ISBLANK($D196),"",S196*_xlfn.XLOOKUP(Q196,DATA!$B$24:$B$25,DATA!$C$24:$C$25,"error",0,1)/1000) -> 5.6592506 | AH196: =IF(ISBLANK($D196),"",V196*_xlfn.XLOOKUP(Q196,DATA!$B$24:$B$25,DATA!$C$24:$C$25,"error",0,1)/1000) -> 2.8623311 | AI196: =IF(ISBLANK($D196),"",X196*_xlfn.XLOOKUP(Q196,DATA!$B$24:$B$25,DATA!$C$24:$C$25,"error",0,1)/1000) -> 0.53823159 | AJ196: =IF(ISBLANK($D196),"",Z196*_xlfn.XLOOKUP(Q196,DATA!$B$24:$B$25,DATA!$C$24:$C$25,"error",0,1)/1000) -> 0 | AK196: =IF(ISBLANK($D196),"",AB196*_xlfn.XLOOKUP(Q196,DATA!$B$24:$B$25,DATA!$C$24:$C$25,"error",0,1)/1000) -> 0 | AL196: =SUM(AH196:AK196) -> 3.4005627 | AM196: =IF(ISBLANK($D196),"",AG196-AL196) -> 2.2586879 | AN196: =IF(ISBLANK($D196),"",$S196*0.0135790158248428/1000) -> 0.57362874 | AO196: =IF(ISBLANK($D196),"",$V196*0.0135790158248428/1000) -> 0.29012947 | AP196: =IF(ISBLANK($D196),"",$X196*0.0135790158248428/1000) -> 0.05455583 | AQ196: =IF(ISBLANK($D196),"",$Z196*0.0135790158248428/1000) -> 0 | AR196: =IF(ISBLANK($D196),"",$AB196*0.0135790158248428/1000) -> 0 | AS196: =IF(ISBLANK($D196),"",$AC196*0.0135790158248428/1000) -> 0.3446853 | AT196: =IF(ISBLANK($D196),"",AN196-AS196) -> 0.22894344 | AU196: =IF(ISBLANK($D196),"",$S196*0.000738514285714286/1000) -> 0.031197623 | AV196: =IF(ISBLANK($D196),"",$V196*0.000738514285714286/1000) -> 0.015779108 | AW196: =IF(ISBLANK($D196),"",$X196*0.000738514285714286/1000) -> 0.0029670972 | AX196: =IF(ISBLANK($D196),"",$Z196*0.000738514285714286/1000) -> 0 | AY196: =IF(ISBLANK($D196),"",$AB196*0.000738514285714286/1000) -> 0 | AZ196: =IF(ISBLANK($D196),"",$AC196*0.000738514285714286/1000) -> 0.018746205 | BA196: =IF(ISBLANK($D196),"",AU196-AZ196) -> 0.012451418 | BB196: =IF(V196>0,J196*DATA!$C$4,0) -> 36329.8 | BC196: =IF(X196>0,N196*_xlfn.XLOOKUP(Burgas!O196,DATA!$B$5:$B$6,DATA!$C$5:$C$6,"error",0,1),0) -> 3049.2 | BD196: =IF(Z196>0,(L196-M196)*DATA!$C$7,"0,00 ") -> 0,00 | BE196: =IF(G196="basement",D196*DATA!$C$8,IF(G196="ground",0,"error")) -> 0 | BF196: =BB196+BC196+BD196+BE196 -> 39379 | BG196: 1.48 | BH196: 1.1 | BI196: =IF(G196="ground",0.57,IF(G196="basement",0.85,"error")) -> 0.57 | BJ196: 2.33 | BK196: =IF(K196="N",1/((1/BG196)+0.15/0.038),BG196) -> 0.21630769 | BL196: =IF(O196="sloped",1/(1/BJ196+0.15/0.04),IF(O196="flat",1/(1/BJ196+0.15/0.034),"error")) -> 0.23928113 | BM196: 1.1 | BN196: =IF(BI196=0.85,1/(1/BI196+0.05/0.038),BI196) -> 0.57 | BP196: =D196*BS196 -> 1346.125 | BQ196: =H196 -> 7 | BR196: =0.32*BP196 -> 430.76 | BS196: =I196 -> 22.25 | BT196: =IF(BQ196<=3,0.76*BP196,0.8*BP196) -> 1076.9 | BU196: =(($D196*$BI196*($BU$1-$BX$1)+$J196*$BG196*($BU$1-$BW$1)+$L196*$BH196*($BU$1-$BW$1)+$N196*$BJ196*($BU$1-$BV$1))*1.05+$BT196*(5.95))/1000 -> 36.657206 | BV196: =(($D196*$BI196*($BU$1-$BX$1)+$J196*$BK196*($BU$1-$BW$1)+$L196*$BH196*($BU$1-$BW$1)+$N196*$BJ196*($BU$1-$BV$1))*1.05+$BT196*(5.95))/1000 -> 18.116755 | BW196: =(($D196*$BI196*($BU$1-$BX$1)+$J196*$BG196*($BU$1-$BW$1)+$L196*$BH196*($BU$1-$BW$1)+$N196*$BL196*($BU$1-$BV$1))*1.05+$BT196*(5.95))/1000 -> 33.170867 | BX196: =(($D196*$BI196*($BU$1-$BX$1)+$J196*$BG196*($BU$1-$BW$1)+$L196*$BM196*($BU$1-$BW$1)+$N196*$BJ196*($BU$1-$BV$1))*1.05+$BT196*(5.95))/1000 -> 36.657206 | BY196: =(($D196*$BN196*($BU$1-$BX$1)+$J196*$BG196*($BU$1-$BW$1)+$L196*$BH196*($BU$1-$BW$1)+$N196*$BJ196*($BU$1-$BV$1))*1.05+$BT196*(5.95))/1000 -> 36.657206 | BZ196: =BU196*1152.4 -> 42243.764 | CA196: =BV196*1152.4 -> 20877.748 | CB196: =BW196*1152.4 -> 38226.107 | CC196: =BX196*1152.4 -> 42243.764 | CD196: =BY196*1152.4 -> 42243.764
A197: 194 | B197: Burgas | C197: Ferdinandova 94 | D197: 216.1 | E197: =0.8*D197*H197 -> 1383.04 | F197: 58.8 | G197: Ground | H197: 8 | I197: 25.5 | J197: =F197*I197-L197 -> 1199.52 | K197: Y | L197: 299.88 | M197: 299.88 | N197: 226.905 | O197: Sloped | P197: Y | Q197: Individual | R197: Electricity, natural gas | S197: =BZ197 -> 53321.766 | T197: =S197/E197 -> 38.55403 | U197: =CA197 -> 53321.766 | V197: =IF(ISBLANK(D197)," ",S197-U197) -> 0 | W197: =CB197 -> 52639.128 | X197: =IF(ISBLANK(D197)," ",S197-W197) -> 682.63788 | Y197: =CC197 -> 53321.766 | Z197: =IF(ISBLANK(D197)," ",S197-Y197) -> 0 | AA197: =CD197 -> 53321.766 | AB197: =IF(ISBLANK(D197)," ",S197-AA197) -> 0 | AC197: =V197+X197+Z197+AB197 -> 682.63788 | AD197: =IF(ISBLANK(D197)," ",S197-AC197) -> 52639.128 | AE197: =AD197/E197 -> 38.060452 | AF197: =1-AD197/S197 -> 0.012802237 | AG197: =IF(ISBLANK($D197),"",S197*_xlfn.XLOOKUP(Q197,DATA!$B$24:$B$25,DATA!$C$24:$C$25,"error",0,1)/1000) -> 7.1433321 | AH197: =IF(ISBLANK($D197),"",V197*_xlfn.XLOOKUP(Q197,DATA!$B$24:$B$25,DATA!$C$24:$C$25,"error",0,1)/1000) -> 0 | AI197: =IF(ISBLANK($D197),"",X197*_xlfn.XLOOKUP(Q197,DATA!$B$24:$B$25,DATA!$C$24:$C$25,"error",0,1)/1000) -> 0.09145063 | AJ197: =IF(ISBLANK($D197),"",Z197*_xlfn.XLOOKUP(Q197,DATA!$B$24:$B$25,DATA!$C$24:$C$25,"error",0,1)/1000) -> 0 | AK197: =IF(ISBLANK($D197),"",AB197*_xlfn.XLOOKUP(Q197,DATA!$B$24:$B$25,DATA!$C$24:$C$25,"error",0,1)/1000) -> 0 | AL197: =SUM(AH197:AK197) -> 0.09145063 | AM197: =IF(ISBLANK($D197),"",AG197-AL197) -> 7.0518814 | AN197: =IF(ISBLANK($D197),"",$S197*0.0135790158248428/1000) -> 0.7240571 | AO197: =IF(ISBLANK($D197),"",$V197*0.0135790158248428/1000) -> 0 | AP197: =IF(ISBLANK($D197),"",$X197*0.0135790158248428/1000) -> 0.0092695506 | AQ197: =IF(ISBLANK($D197),"",$Z197*0.0135790158248428/1000) -> 0 | AR197: =IF(ISBLANK($D197),"",$AB197*0.0135790158248428/1000) -> 0 | AS197: =IF(ISBLANK($D197),"",$AC197*0.0135790158248428/1000) -> 0.0092695506 | AT197: =IF(ISBLANK($D197),"",AN197-AS197) -> 0.71478755 | AU197: =IF(ISBLANK($D197),"",$S197*0.000738514285714286/1000) -> 0.039378886 | AV197: =IF(ISBLANK($D197),"",$V197*0.000738514285714286/1000) -> 0 | AW197: =IF(ISBLANK($D197),"",$X197*0.000738514285714286/1000) -> 0.00050413783 | AX197: =IF(ISBLANK($D197),"",$Z197*0.000738514285714286/1000) -> 0 | AY197: =IF(ISBLANK($D197),"",$AB197*0.000738514285714286/1000) -> 0 | AZ197: =IF(ISBLANK($D197),"",$AC197*0.000738514285714286/1000) -> 0.00050413783 | BA197: =IF(ISBLANK($D197),"",AU197-AZ197) -> 0.038874748 | BB197: =IF(V197>0,J197*DATA!$C$4,0) -> 0 | BC197: =IF(X197>0,N197*_xlfn.XLOOKUP(Burgas!O197,DATA!$B$5:$B$6,DATA!$C$5:$C$6,"error",0,1),0) -> 10891.44 | BD197: =IF(Z197>0,(L197-M197)*DATA!$C$7,"0,00 ") -> 0,00 | BE197: =IF(G197="basement",D197*DATA!$C$8,IF(G197="ground",0,"error")) -> 0 | BF197: =BB197+BC197+BD197+BE197 -> 10891.44 | BG197: 0.25 | BH197: 1.1 | BI197: =IF(G197="ground",0.57,IF(G197="basement",0.85,"error")) -> 0.57 | BJ197: 0.22 | BK197: =IF(K197="N",1/((1/BG197)+0.15/0.038),BG197) -> 0.25 | BL197: =IF(O197="sloped",1/(1/BJ197+0.15/0.04),IF(O197="flat",1/(1/BJ197+0.15/0.034),"error")) -> 0.12054795 | BM197: 1.1 | BN197: =IF(BI197=0.85,1/(1/BI197+0.05/0.038),BI197) -> 0.57 | BP197: =D197*BS197 -> 5510.55 | BQ197: =H197 -> 8 | BR197: =0.32*BP197 -> 1763.376 | BS197: =I197 -> 25.5 | BT197: =IF(BQ197<=3,0.76*BP197,0.8*BP197) -> 4408.44 | BU197: =(($D197*$BI197*($BU$1-$BX$1)+$J197*$BG197*($BU$1-$BW$1)+$L197*$BH197*($BU$1-$BW$1)+$N197*$BJ197*($BU$1-$BV$1))*1.05+$BT197*(5.95))/1000 -> 46.270189 | BV197: =(($D197*$BI197*($BU$1-$BX$1)+$J197*$BK197*($BU$1-$BW$1)+$L197*$BH197*($BU$1-$BW$1)+$N197*$BJ197*($BU$1-$BV$1))*1.05+$BT197*(5.95))/1000 -> 46.270189 | BW197: =(($D197*$BI197*($BU$1-$BX$1)+$J197*$BG197*($BU$1-$BW$1)+$L197*$BH197*($BU$1-$BW$1)+$N197*$BL197*($BU$1-$BV$1))*1.05+$BT197*(5.95))/1000 -> 45.677827 | BX197: =(($D197*$BI197*($BU$1-$BX$1)+$J197*$BG197*($BU$1-$BW$1)+$L197*$BM197*($BU$1-$BW$1)+$N197*$BJ197*($BU$1-$BV$1))*1.05+$BT197*(5.95))/1000 -> 46.270189 | BY197: =(($D197*$BN197*($BU$1-$BX$1)+$J197*$BG197*($BU$1-$BW$1)+$L197*$BH197*($BU$1-$BW$1)+$N197*$BJ197*($BU$1-$BV$1))*1.05+$BT197*(5.95))/1000 -> 46.270189 | BZ197: =BU197*1152.4 -> 53321.766 | CA197: =BV197*1152.4 -> 53321.766 | CB197: =BW197*1152.4 -> 52639.128 | CC197: =BX197*1152.4 -> 53321.766 | CD197: =BY197*1152.4 -> 53321.766
A198: 195 | B198: Burgas | C198: Ferdinandova 95 | D198: 156.2 | E198: =0.8*D198*H198 -> 499.84 | F198: 50.4 | G198: Basement | H198: 4 | I198: 14.5 | J198: =F198*I198-L198 -> 584.64 | K198: N | L198: 146.16 | M198: 116.9 | N198: 164.01 | O198: Sloped | P198: N | Q198: Individual | R198: Electricity, natural gas | S198: =BZ198 -> 59302.383 | T198: =S198/E198 -> 118.64273 | U198: =CA198 -> 36953.161 | V198: =IF(ISBLANK(D198)," ",S198-U198) -> 22349.223 | W198: =CB198 -> 48929.523 | X198: =IF(ISBLANK(D198)," ",S198-W198) -> 10372.86 | Y198: =CC198 -> 57753.407 | Z198: =IF(ISBLANK(D198)," ",S198-Y198) -> 1548.9769 | AA198: =CD198 -> 57860.486 | AB198: =IF(ISBLANK(D198)," ",S198-AA198) -> 1441.8978 | AC198: =V198+X198+Z198+AB198 -> 35712.958 | AD198: =IF(ISBLANK(D198)," ",S198-AC198) -> 23589.426 | AE198: =AD198/E198 -> 47.193954 | AF198: =1-AD198/S198 -> 0.60221791 | AG198: =IF(ISBLANK($D198),"",S198*_xlfn.XLOOKUP(Q198,DATA!$B$24:$B$25,DATA!$C$24:$C$25,"error",0,1)/1000) -> 7.9445347 | AH198: =IF(ISBLANK($D198),"",V198*_xlfn.XLOOKUP(Q198,DATA!$B$24:$B$25,DATA!$C$24:$C$25,"error",0,1)/1000) -> 2.9940479 | AI198: =IF(ISBLANK($D198),"",X198*_xlfn.XLOOKUP(Q198,DATA!$B$24:$B$25,DATA!$C$24:$C$25,"error",0,1)/1000) -> 1.3896161 | AJ198: =IF(ISBLANK($D198),"",Z198*_xlfn.XLOOKUP(Q198,DATA!$B$24:$B$25,DATA!$C$24:$C$25,"error",0,1)/1000) -> 0.20751106 | AK198: =IF(ISBLANK($D198),"",AB198*_xlfn.XLOOKUP(Q198,DATA!$B$24:$B$25,DATA!$C$24:$C$25,"error",0,1)/1000) -> 0.19316605 | AL198: =SUM(AH198:AK198) -> 4.7843411 | AM198: =IF(ISBLANK($D198),"",AG198-AL198) -> 3.1601936 | AN198: =IF(ISBLANK($D198),"",$S198*0.0135790158248428/1000) -> 0.805268 | AO198: =IF(ISBLANK($D198),"",$V198*0.0135790158248428/1000) -> 0.30348045 | AP198: =IF(ISBLANK($D198),"",$X198*0.0135790158248428/1000) -> 0.14085323 | AQ198: =IF(ISBLANK($D198),"",$Z198*0.0135790158248428/1000) -> 0.021033581 | AR198: =IF(ISBLANK($D198),"",$AB198*0.0135790158248428/1000) -> 0.019579553 | AS198: =IF(ISBLANK($D198),"",$AC198*0.0135790158248428/1000) -> 0.48494682 | AT198: =IF(ISBLANK($D198),"",AN198-AS198) -> 0.32032119 | AU198: =IF(ISBLANK($D198),"",$S198*0.000738514285714286/1000) -> 0.043795657 | AV198: =IF(ISBLANK($D198),"",$V198*0.000738514285714286/1000) -> 0.01650522 | AW198: =IF(ISBLANK($D198),"",$X198*0.000738514285714286/1000) -> 0.0076605054 | AX198: =IF(ISBLANK($D198),"",$Z198*0.000738514285714286/1000) -> 0.0011439415 | AY198: =IF(ISBLANK($D198),"",$AB198*0.000738514285714286/1000) -> 0.0010648621 | AZ198: =IF(ISBLANK($D198),"",$AC198*0.000738514285714286/1000) -> 0.026374529 | BA198: =IF(ISBLANK($D198),"",AU198-AZ198) -> 0.017421128 | BB198: =IF(V198>0,J198*DATA!$C$4,0) -> 38001.6 | BC198: =IF(X198>0,N198*_xlfn.XLOOKUP(Burgas!O198,DATA!$B$5:$B$6,DATA!$C$5:$C$6,"error",0,1),0) -> 7872.48 | BD198: =IF(Z198>0,(L198-M198)*DATA!$C$7,"0,00 ") -> 4389 | BE198: =IF(G198="basement",D198*DATA!$C$8,IF(G198="ground",0,"error")) -> 6248 | BF198: =BB198+BC198+BD198+BE198 -> 56511.08 | BG198: 1.48 | BH198: 1.4503352 | BI198: =IF(G198="ground",0.57,IF(G198="basement",0.85,"error")) -> 0.85 | BJ198: 2.33 | BK198: =IF(K198="N",1/((1/BG198)+0.15/0.038),BG198) -> 0.21630769 | BL198: =IF(O198="sloped",1/(1/BJ198+0.15/0.04),IF(O198="flat",1/(1/BJ198+0.15/0.034),"error")) -> 0.23928113 | BM198: 1.1 | BN198: =IF(BI198=0.85,1/(1/BI198+0.05/0.038),BI198) -> 0.40124224 | BP198: =D198*BS198 -> 2264.9 | BQ198: =H198 -> 4 | BR198: =0.32*BP198 -> 724.768 | BS198: =I198 -> 14.5 | BT198: =IF(BQ198<=3,0.76*BP198,0.8*BP198) -> 1811.92 | BU198: =(($D198*$BI198*($BU$1-$BX$1)+$J198*$BG198*($BU$1-$BW$1)+$L198*$BH198*($BU$1-$BW$1)+$N198*$BJ198*($BU$1-$BV$1))*1.05+$BT198*(5.95))/1000 -> 51.459895 | BV198: =(($D198*$BI198*($BU$1-$BX$1)+$J198*$BK198*($BU$1-$BW$1)+$L198*$BH198*($BU$1-$BW$1)+$N198*$BJ198*($BU$1-$BV$1))*1.05+$BT198*(5.95))/1000 -> 32.066262 | BW198: =(($D198*$BI198*($BU$1-$BX$1)+$J198*$BG198*($BU$1-$BW$1)+$L198*$BH198*($BU$1-$BW$1)+$N198*$BL198*($BU$1-$BV$1))*1.05+$BT198*(5.95))/1000 -> 42.458802 | BX198: =(($D198*$BI198*($BU$1-$BX$1)+$J198*$BG198*($BU$1-$BW$1)+$L198*$BM198*($BU$1-$BW$1)+$N198*$BJ198*($BU$1-$BV$1))*1.05+$BT198*(5.95))/1000 -> 50.115764 | BY198: =(($D198*$BN198*($BU$1-$BX$1)+$J198*$BG198*($BU$1-$BW$1)+$L198*$BH198*($BU$1-$BW$1)+$N198*$BJ198*($BU$1-$BV$1))*1.05+$BT198*(5.95))/1000 -> 50.208682 | BZ198: =BU198*1152.4 -> 59302.383 | CA198: =BV198*1152.4 -> 36953.161 | CB198: =BW198*1152.4 -> 48929.523 | CC198: =BX198*1152.4 -> 57753.407 | CD198: =BY198*1152.4 -> 57860.486
A199: 196 | B199: Burgas | C199: Ferdinandova 98 | D199: 368.2 | E199: =0.8*D199*H199 -> 2061.92 | F199: 80.6 | G199: Basement | H199: 7 | I199: 22.25 | J199: =F199*I199-L199 -> 1434.68 | K199: N | L199: 358.67 | M199: 358.67 | N199: 386.61 | O199: Sloped | P199: N | Q199: Individual | R199: Electricity, natural gas | S199: =BZ199 -> 154793.28 | T199: =S199/E199 -> 75.072397 | U199: =CA199 -> 99949.3 | V199: =IF(ISBLANK(D199)," ",S199-U199) -> 54843.977 | W199: =CB199 -> 130342.02 | X199: =IF(ISBLANK(D199)," ",S199-W199) -> 24451.262 | Y199: =CC199 -> 154793.28 | Z199: =IF(ISBLANK(D199)," ",S199-Y199) -> 0 | AA199: =CD199 -> 151394.39 | AB199: =IF(ISBLANK(D199)," ",S199-AA199) -> 3398.8909 | AC199: =V199+X199+Z199+AB199 -> 82694.13 | AD199: =IF(ISBLANK(D199)," ",S199-AC199) -> 72099.147 | AE199: =AD199/E199 -> 34.966995 | AF199: =1-AD199/S199 -> 0.53422301 | AG199: =IF(ISBLANK($D199),"",S199*_xlfn.XLOOKUP(Q199,DATA!$B$24:$B$25,DATA!$C$24:$C$25,"error",0,1)/1000) -> 20.737119 | AH199: =IF(ISBLANK($D199),"",V199*_xlfn.XLOOKUP(Q199,DATA!$B$24:$B$25,DATA!$C$24:$C$25,"error",0,1)/1000) -> 7.3472575 | AI199: =IF(ISBLANK($D199),"",X199*_xlfn.XLOOKUP(Q199,DATA!$B$24:$B$25,DATA!$C$24:$C$25,"error",0,1)/1000) -> 3.2756508 | AJ199: =IF(ISBLANK($D199),"",Z199*_xlfn.XLOOKUP(Q199,DATA!$B$24:$B$25,DATA!$C$24:$C$25,"error",0,1)/1000) -> 0 | AK199: =IF(ISBLANK($D199),"",AB199*_xlfn.XLOOKUP(Q199,DATA!$B$24:$B$25,DATA!$C$24:$C$25,"error",0,1)/1000) -> 0.45533763 | AL199: =SUM(AH199:AK199) -> 11.078246 | AM199: =IF(ISBLANK($D199),"",AG199-AL199) -> 9.6588728 | AN199: =IF(ISBLANK($D199),"",$S199*0.0135790158248428/1000) -> 2.1019404 | AO199: =IF(ISBLANK($D199),"",$V199*0.0135790158248428/1000) -> 0.74472724 | AP199: =IF(ISBLANK($D199),"",$X199*0.0135790158248428/1000) -> 0.33202407 | AQ199: =IF(ISBLANK($D199),"",$Z199*0.0135790158248428/1000) -> 0 | AR199: =IF(ISBLANK($D199),"",$AB199*0.0135790158248428/1000) -> 0.046153594 | AS199: =IF(ISBLANK($D199),"",$AC199*0.0135790158248428/1000) -> 1.1229049 | AT199: =IF(ISBLANK($D199),"",AN199-AS199) -> 0.97903546 | AU199: =IF(ISBLANK($D199),"",$S199*0.000738514285714286/1000) -> 0.11431705 | AV199: =IF(ISBLANK($D199),"",$V199*0.000738514285714286/1000) -> 0.040503061 | AW199: =IF(ISBLANK($D199),"",$X199*0.000738514285714286/1000) -> 0.018057606 | AX199: =IF(ISBLANK($D199),"",$Z199*0.000738514285714286/1000) -> 0 | AY199: =IF(ISBLANK($D199),"",$AB199*0.000738514285714286/1000) -> 0.0025101295 | AZ199: =IF(ISBLANK($D199),"",$AC199*0.000738514285714286/1000) -> 0.061070797 | BA199: =IF(ISBLANK($D199),"",AU199-AZ199) -> 0.05324625 | BB199: =IF(V199>0,J199*DATA!$C$4,0) -> 93254.2 | BC199: =IF(X199>0,N199*_xlfn.XLOOKUP(Burgas!O199,DATA!$B$5:$B$6,DATA!$C$5:$C$6,"error",0,1),0) -> 18557.28 | BD199: =IF(Z199>0,(L199-M199)*DATA!$C$7,"0,00 ") -> 0,00 | BE199: =IF(G199="basement",D199*DATA!$C$8,IF(G199="ground",0,"error")) -> 14728 | BF199: =BB199+BC199+BD199+BE199 -> 126539.48 | BG199: 1.48 | BH199: 1.1 | BI199: =IF(G199="ground",0.57,IF(G199="basement",0.85,"error")) -> 0.85 | BJ199: 2.33 | BK199: =IF(K199="N",1/((1/BG199)+0.15/0.038),BG199) -> 0.21630769 | BL199: =IF(O199="sloped",1/(1/BJ199+0.15/0.04),IF(O199="flat",1/(1/BJ199+0.15/0.034),"error")) -> 0.23928113 | BM199: 1.1 | BN199: =IF(BI199=0.85,1/(1/BI199+0.05/0.038),BI199) -> 0.40124224 | BP199: =D199*BS199 -> 8192.45 | BQ199: =H199 -> 7 | BR199: =0.32*BP199 -> 2621.584 | BS199: =I199 -> 22.25 | BT199: =IF(BQ199<=3,0.76*BP199,0.8*BP199) -> 6553.96 | BU199: =(($D199*$BI199*($BU$1-$BX$1)+$J199*$BG199*($BU$1-$BW$1)+$L199*$BH199*($BU$1-$BW$1)+$N199*$BJ199*($BU$1-$BV$1))*1.05+$BT199*(5.95))/1000 -> 134.32252 | BV199: =(($D199*$BI199*($BU$1-$BX$1)+$J199*$BK199*($BU$1-$BW$1)+$L199*$BH199*($BU$1-$BW$1)+$N199*$BJ199*($BU$1-$BV$1))*1.05+$BT199*(5.95))/1000 -> 86.73143 | BW199: =(($D199*$BI199*($BU$1-$BX$1)+$J199*$BG199*($BU$1-$BW$1)+$L199*$BH199*($BU$1-$BW$1)+$N199*$BL199*($BU$1-$BV$1))*1.05+$BT199*(5.95))/1000 -> 113.10484 | BX199: =(($D199*$BI199*($BU$1-$BX$1)+$J199*$BG199*($BU$1-$BW$1)+$L199*$BM199*($BU$1-$BW$1)+$N199*$BJ199*($BU$1-$BV$1))*1.05+$BT199*(5.95))/1000 -> 134.32252 | BY199: =(($D199*$BN199*($BU$1-$BX$1)+$J199*$BG199*($BU$1-$BW$1)+$L199*$BH199*($BU$1-$BW$1)+$N199*$BJ199*($BU$1-$BV$1))*1.05+$BT199*(5.95))/1000 -> 131.37312 | BZ199: =BU199*1152.4 -> 154793.28 | CA199: =BV199*1152.4 -> 99949.3 | CB199: =BW199*1152.4 -> 130342.02 | CC199: =BX199*1152.4 -> 154793.28 | CD199: =BY199*1152.4 -> 151394.39
A200: 197 | B200: Burgas | C200: Georgi S. Rakovski 23A | D200: 257.1 | E200: =0.8*D200*H200 -> 1234.08 | F200: 64.6 | G200: Ground | H200: 6 | I200: 20.5 | J200: =F200*I200-L200 -> 1059.4 | K200: N | L200: 264.9 | M200: 264.9 | N200: 269.955 | O200: Sloped | P200: N | Q200: Individual | R200: Electricity, natural gas | S200: =BZ200 -> 107197.96 | T200: =S200/E200 -> 86.864673 | U200: =CA200 -> 66699.929 | V200: =IF(ISBLANK(D200)," ",S200-U200) -> 40498.027 | W200: =CB200 -> 90124.573 | X200: =IF(ISBLANK(D200)," ",S200-W200) -> 17073.383 | Y200: =CC200 -> 107197.96 | Z200: =IF(ISBLANK(D200)," ",S200-Y200) -> 0 | AA200: =CD200 -> 107197.96 | AB200: =IF(ISBLANK(D200)," ",S200-AA200) -> 0 | AC200: =V200+X200+Z200+AB200 -> 57571.41 | AD200: =IF(ISBLANK(D200)," ",S200-AC200) -> 49626.546 | AE200: =AD200/E200 -> 40.213395 | AF200: =1-AD200/S200 -> 0.53705697 | AG200: =IF(ISBLANK($D200),"",S200*_xlfn.XLOOKUP(Q200,DATA!$B$24:$B$25,DATA!$C$24:$C$25,"error",0,1)/1000) -> 14.360938 | AH200: =IF(ISBLANK($D200),"",V200*_xlfn.XLOOKUP(Q200,DATA!$B$24:$B$25,DATA!$C$24:$C$25,"error",0,1)/1000) -> 5.4253803 | AI200: =IF(ISBLANK($D200),"",X200*_xlfn.XLOOKUP(Q200,DATA!$B$24:$B$25,DATA!$C$24:$C$25,"error",0,1)/1000) -> 2.2872619 | AJ200: =IF(ISBLANK($D200),"",Z200*_xlfn.XLOOKUP(Q200,DATA!$B$24:$B$25,DATA!$C$24:$C$25,"error",0,1)/1000) -> 0 | AK200: =IF(ISBLANK($D200),"",AB200*_xlfn.XLOOKUP(Q200,DATA!$B$24:$B$25,DATA!$C$24:$C$25,"error",0,1)/1000) -> 0 | AL200: =SUM(AH200:AK200) -> 7.7126422 | AM200: =IF(ISBLANK($D200),"",AG200-AL200) -> 6.6482963 | AN200: =IF(ISBLANK($D200),"",$S200*0.0135790158248428/1000) -> 1.4556427 | AO200: =IF(ISBLANK($D200),"",$V200*0.0135790158248428/1000) -> 0.54992335 | AP200: =IF(ISBLANK($D200),"",$X200*0.0135790158248428/1000) -> 0.23183973 | AQ200: =IF(ISBLANK($D200),"",$Z200*0.0135790158248428/1000) -> 0 | AR200: =IF(ISBLANK($D200),"",$AB200*0.0135790158248428/1000) -> 0 | AS200: =IF(ISBLANK($D200),"",$AC200*0.0135790158248428/1000) -> 0.78176308 | AT200: =IF(ISBLANK($D200),"",AN200-AS200) -> 0.67387966 | AU200: =IF(ISBLANK($D200),"",$S200*0.000738514285714286/1000) -> 0.079167222 | AV200: =IF(ISBLANK($D200),"",$V200*0.000738514285714286/1000) -> 0.029908372 | AW200: =IF(ISBLANK($D200),"",$X200*0.000738514285714286/1000) -> 0.012608937 | AX200: =IF(ISBLANK($D200),"",$Z200*0.000738514285714286/1000) -> 0 | AY200: =IF(ISBLANK($D200),"",$AB200*0.000738514285714286/1000) -> 0 | AZ200: =IF(ISBLANK($D200),"",$AC200*0.000738514285714286/1000) -> 0.042517309 | BA200: =IF(ISBLANK($D200),"",AU200-AZ200) -> 0.036649913 | BB200: =IF(V200>0,J200*DATA!$C$4,0) -> 68861 | BC200: =IF(X200>0,N200*_xlfn.XLOOKUP(Burgas!O200,DATA!$B$5:$B$6,DATA!$C$5:$C$6,"error",0,1),0) -> 12957.84 | BD200: =IF(Z200>0,(L200-M200)*DATA!$C$7,"0,00 ") -> 0,00 | BE200: =IF(G200="basement",D200*DATA!$C$8,IF(G200="ground",0,"error")) -> 0 | BF200: =BB200+BC200+BD200+BE200 -> 81818.84 | BG200: 1.48 | BH200: 1.1 | BI200: =IF(G200="ground",0.57,IF(G200="basement",0.85,"error")) -> 0.57 | BJ200: 2.33 | BK200: =IF(K200="N",1/((1/BG200)+0.15/0.038),BG200) -> 0.21630769 | BL200: =IF(O200="sloped",1/(1/BJ200+0.15/0.04),IF(O200="flat",1/(1/BJ200+0.15/0.034),"error")) -> 0.23928113 | BM200: 1.1 | BN200: =IF(BI200=0.85,1/(1/BI200+0.05/0.038),BI200) -> 0.57 | BP200: =D200*BS200 -> 5270.55 | BQ200: =H200 -> 6 | BR200: =0.32*BP200 -> 1686.576 | BS200: =I200 -> 20.5 | BT200: =IF(BQ200<=3,0.76*BP200,0.8*BP200) -> 4216.44 | BU200: =(($D200*$BI200*($BU$1-$BX$1)+$J200*$BG200*($BU$1-$BW$1)+$L200*$BH200*($BU$1-$BW$1)+$N200*$BJ200*($BU$1-$BV$1))*1.05+$BT200*(5.95))/1000 -> 93.021482 | BV200: =(($D200*$BI200*($BU$1-$BX$1)+$J200*$BK200*($BU$1-$BW$1)+$L200*$BH200*($BU$1-$BW$1)+$N200*$BJ200*($BU$1-$BV$1))*1.05+$BT200*(5.95))/1000 -> 57.879147 | BW200: =(($D200*$BI200*($BU$1-$BX$1)+$J200*$BG200*($BU$1-$BW$1)+$L200*$BH200*($BU$1-$BW$1)+$N200*$BL200*($BU$1-$BV$1))*1.05+$BT200*(5.95))/1000 -> 78.205982 | BX200: =(($D200*$BI200*($BU$1-$BX$1)+$J200*$BG200*($BU$1-$BW$1)+$L200*$BM200*($BU$1-$BW$1)+$N200*$BJ200*($BU$1-$BV$1))*1.05+$BT200*(5.95))/1000 -> 93.021482 | BY200: =(($D200*$BN200*($BU$1-$BX$1)+$J200*$BG200*($BU$1-$BW$1)+$L200*$BH200*($BU$1-$BW$1)+$N200*$BJ200*($BU$1-$BV$1))*1.05+$BT200*(5.95))/1000 -> 93.021482 | BZ200: =BU200*1152.4 -> 107197.96 | CA200: =BV200*1152.4 -> 66699.929 | CB200: =BW200*1152.4 -> 90124.573 | CC200: =BX200*1152.4 -> 107197.96 | CD200: =BY200*1152.4 -> 107197.96
A201: 198 | B201: Burgas | C201: Georgi S. Rakovski 27 | D201: 190.2 | E201: =0.8*D201*H201 -> 1065.12 | F201: 58.6 | G201: Ground | H201: 7 | I201: 22.25 | J201: =F201*I201-L201 -> 1056.05 | K201: N | L201: 247.8 | M201: 185.9 | N201: 199.71 | O201: Sloped | P201: N | Q201: Individual | R201: Electricity, natural gas | S201: =BZ201 -> 98323.152 | T201: =S201/E201 -> 92.311807 | U201: =CA201 -> 57953.187 | V201: =IF(ISBLANK(D201)," ",S201-U201) -> 40369.966 | W201: =CB201 -> 85692.435 | X201: =IF(ISBLANK(D201)," ",S201-W201) -> 12630.717 | Y201: =CC201 -> 95046.267 | Z201: =IF(ISBLANK(D201)," ",S201-Y201) -> 3276.8854 | AA201: =CD201 -> 98323.152 | AB201: =IF(ISBLANK(D201)," ",S201-AA201) -> 0 | AC201: =V201+X201+Z201+AB201 -> 56277.568 | AD201: =IF(ISBLANK(D201)," ",S201-AC201) -> 42045.584 | AE201: =AD201/E201 -> 39.474974 | AF201: =1-AD201/S201 -> 0.57237351 | AG201: =IF(ISBLANK($D201),"",S201*_xlfn.XLOOKUP(Q201,DATA!$B$24:$B$25,DATA!$C$24:$C$25,"error",0,1)/1000) -> 13.172012 | AH201: =IF(ISBLANK($D201),"",V201*_xlfn.XLOOKUP(Q201,DATA!$B$24:$B$25,DATA!$C$24:$C$25,"error",0,1)/1000) -> 5.4082243 | AI201: =IF(ISBLANK($D201),"",X201*_xlfn.XLOOKUP(Q201,DATA!$B$24:$B$25,DATA!$C$24:$C$25,"error",0,1)/1000) -> 1.6920934 | AJ201: =IF(ISBLANK($D201),"",Z201*_xlfn.XLOOKUP(Q201,DATA!$B$24:$B$25,DATA!$C$24:$C$25,"error",0,1)/1000) -> 0.43899298 | AK201: =IF(ISBLANK($D201),"",AB201*_xlfn.XLOOKUP(Q201,DATA!$B$24:$B$25,DATA!$C$24:$C$25,"error",0,1)/1000) -> 0 | AL201: =SUM(AH201:AK201) -> 7.5393107 | AM201: =IF(ISBLANK($D201),"",AG201-AL201) -> 5.6327011 | AN201: =IF(ISBLANK($D201),"",$S201*0.0135790158248428/1000) -> 1.3351316 | AO201: =IF(ISBLANK($D201),"",$V201*0.0135790158248428/1000) -> 0.5481844 | AP201: =IF(ISBLANK($D201),"",$X201*0.0135790158248428/1000) -> 0.17151271 | AQ201: =IF(ISBLANK($D201),"",$Z201*0.0135790158248428/1000) -> 0.044496879 | AR201: =IF(ISBLANK($D201),"",$AB201*0.0135790158248428/1000) -> 0 | AS201: =IF(ISBLANK($D201),"",$AC201*0.0135790158248428/1000) -> 0.76419399 | AT201: =IF(ISBLANK($D201),"",AN201-AS201) -> 0.57093765 | AU201: =IF(ISBLANK($D201),"",$S201*0.000738514285714286/1000) -> 0.072613053 | AV201: =IF(ISBLANK($D201),"",$V201*0.000738514285714286/1000) -> 0.029813796 | AW201: =IF(ISBLANK($D201),"",$X201*0.000738514285714286/1000) -> 0.009327965 | AX201: =IF(ISBLANK($D201),"",$Z201*0.000738514285714286/1000) -> 0.0024200267 | AY201: =IF(ISBLANK($D201),"",$AB201*0.000738514285714286/1000) -> 0 | AZ201: =IF(ISBLANK($D201),"",$AC201*0.000738514285714286/1000) -> 0.041561788 | BA201: =IF(ISBLANK($D201),"",AU201-AZ201) -> 0.031051265 | BB201: =IF(V201>0,J201*DATA!$C$4,0) -> 68643.25 | BC201: =IF(X201>0,N201*_xlfn.XLOOKUP(Burgas!O201,DATA!$B$5:$B$6,DATA!$C$5:$C$6,"error",0,1),0) -> 9586.08 | BD201: =IF(Z201>0,(L201-M201)*DATA!$C$7,"0,00 ") -> 9285 | BE201: =IF(G201="basement",D201*DATA!$C$8,IF(G201="ground",0,"error")) -> 0 | BF201: =BB201+BC201+BD201+BE201 -> 87514.33 | BG201: 1.48 | BH201: 1.5371469 | BI201: =IF(G201="ground",0.57,IF(G201="basement",0.85,"error")) -> 0.57 | BJ201: 2.33 | BK201: =IF(K201="N",1/((1/BG201)+0.15/0.038),BG201) -> 0.21630769 | BL201: =IF(O201="sloped",1/(1/BJ201+0.15/0.04),IF(O201="flat",1/(1/BJ201+0.15/0.034),"error")) -> 0.23928113 | BM201: 1.1 | BN201: =IF(BI201=0.85,1/(1/BI201+0.05/0.038),BI201) -> 0.57 | BP201: =D201*BS201 -> 4231.95 | BQ201: =H201 -> 7 | BR201: =0.32*BP201 -> 1354.224 | BS201: =I201 -> 22.25 | BT201: =IF(BQ201<=3,0.76*BP201,0.8*BP201) -> 3385.56 | BU201: =(($D201*$BI201*($BU$1-$BX$1)+$J201*$BG201*($BU$1-$BW$1)+$L201*$BH201*($BU$1-$BW$1)+$N201*$BJ201*($BU$1-$BV$1))*1.05+$BT201*(5.95))/1000 -> 85.320334 | BV201: =(($D201*$BI201*($BU$1-$BX$1)+$J201*$BK201*($BU$1-$BW$1)+$L201*$BH201*($BU$1-$BW$1)+$N201*$BJ201*($BU$1-$BV$1))*1.05+$BT201*(5.95))/1000 -> 50.289124 | BW201: =(($D201*$BI201*($BU$1-$BX$1)+$J201*$BG201*($BU$1-$BW$1)+$L201*$BH201*($BU$1-$BW$1)+$N201*$BL201*($BU$1-$BV$1))*1.05+$BT201*(5.95))/1000 -> 74.359975 | BX201: =(($D201*$BI201*($BU$1-$BX$1)+$J201*$BG201*($BU$1-$BW$1)+$L201*$BM201*($BU$1-$BW$1)+$N201*$BJ201*($BU$1-$BV$1))*1.05+$BT201*(5.95))/1000 -> 82.476802 | BY201: =(($D201*$BN201*($BU$1-$BX$1)+$J201*$BG201*($BU$1-$BW$1)+$L201*$BH201*($BU$1-$BW$1)+$N201*$BJ201*($BU$1-$BV$1))*1.05+$BT201*(5.95))/1000 -> 85.320334 | BZ201: =BU201*1152.4 -> 98323.152 | CA201: =BV201*1152.4 -> 57953.187 | CB201: =BW201*1152.4 -> 85692.435 | CC201: =BX201*1152.4 -> 95046.267 | CD201: =BY201*1152.4 -> 98323.152
A202: 199 | B202: Burgas | C202: Georgi S. Rakovski 28 | D202: 191.6 | E202: =0.8*D202*H202 -> 766.4 | F202: 55.4 | G202: Ground | H202: 5 | I202: 17.5 | J202: =F202*I202-L202 -> 775.6 | K202: N | L202: 193.9 | M202: 87.3 | N202: 201.18 | O202: Sloped | P202: N | Q202: Individual | R202: Electricity, natural gas | S202: =BZ202 -> 81638.604 | T202: =S202/E202 -> 106.52219 | U202: =CA202 -> 51989.492 | V202: =IF(ISBLANK(D202)," ",S202-U202) -> 29649.113 | W202: =CB202 -> 68914.917 | X202: =IF(ISBLANK(D202)," ",S202-W202) -> 12723.688 | Y202: =CC202 -> 75995.373 | Z202: =IF(ISBLANK(D202)," ",S202-Y202) -> 5643.2308 | AA202: =CD202 -> 81638.604 | AB202: =IF(ISBLANK(D202)," ",S202-AA202) -> 0 | AC202: =V202+X202+Z202+AB202 -> 48016.031 | AD202: =IF(ISBLANK(D202)," ",S202-AC202) -> 33622.573 | AE202: =AD202/E202 -> 43.87079 | AF202: =1-AD202/S202 -> 0.5881535 | AG202: =IF(ISBLANK($D202),"",S202*_xlfn.XLOOKUP(Q202,DATA!$B$24:$B$25,DATA!$C$24:$C$25,"error",0,1)/1000) -> 10.936841 | AH202: =IF(ISBLANK($D202),"",V202*_xlfn.XLOOKUP(Q202,DATA!$B$24:$B$25,DATA!$C$24:$C$25,"error",0,1)/1000) -> 3.9719888 | AI202: =IF(ISBLANK($D202),"",X202*_xlfn.XLOOKUP(Q202,DATA!$B$24:$B$25,DATA!$C$24:$C$25,"error",0,1)/1000) -> 1.7045483 | AJ202: =IF(ISBLANK($D202),"",Z202*_xlfn.XLOOKUP(Q202,DATA!$B$24:$B$25,DATA!$C$24:$C$25,"error",0,1)/1000) -> 0.75600406 | AK202: =IF(ISBLANK($D202),"",AB202*_xlfn.XLOOKUP(Q202,DATA!$B$24:$B$25,DATA!$C$24:$C$25,"error",0,1)/1000) -> 0 | AL202: =SUM(AH202:AK202) -> 6.4325412 | AM202: =IF(ISBLANK($D202),"",AG202-AL202) -> 4.5042995 | AN202: =IF(ISBLANK($D202),"",$S202*0.0135790158248428/1000) -> 1.1085719 | AO202: =IF(ISBLANK($D202),"",$V202*0.0135790158248428/1000) -> 0.40260577 | AP202: =IF(ISBLANK($D202),"",$X202*0.0135790158248428/1000) -> 0.17277516 | AQ202: =IF(ISBLANK($D202),"",$Z202*0.0135790158248428/1000) -> 0.07662952 | AR202: =IF(ISBLANK($D202),"",$AB202*0.0135790158248428/1000) -> 0 | AS202: =IF(ISBLANK($D202),"",$AC202*0.0135790158248428/1000) -> 0.65201045 | AT202: =IF(ISBLANK($D202),"",AN202-AS202) -> 0.45656145 | AU202: =IF(ISBLANK($D202),"",$S202*0.000738514285714286/1000) -> 0.060291275 | AV202: =IF(ISBLANK($D202),"",$V202*0.000738514285714286/1000) -> 0.021896293 | AW202: =IF(ISBLANK($D202),"",$X202*0.000738514285714286/1000) -> 0.0093966251 | AX202: =IF(ISBLANK($D202),"",$Z202*0.000738514285714286/1000) -> 0.0041676065 | AY202: =IF(ISBLANK($D202),"",$AB202*0.000738514285714286/1000) -> 0 | AZ202: =IF(ISBLANK($D202),"",$AC202*0.000738514285714286/1000) -> 0.035460525 | BA202: =IF(ISBLANK($D202),"",AU202-AZ202) -> 0.024830751 | BB202: =IF(V202>0,J202*DATA!$C$4,0) -> 50414 | BC202: =IF(X202>0,N202*_xlfn.XLOOKUP(Burgas!O202,DATA!$B$5:$B$6,DATA!$C$5:$C$6,"error",0,1),0) -> 9656.64 | BD202: =IF(Z202>0,(L202-M202)*DATA!$C$7,"0,00 ") -> 15990 | BE202: =IF(G202="basement",D202*DATA!$C$8,IF(G202="ground",0,"error")) -> 0 | BF202: =BB202+BC202+BD202+BE202 -> 76060.64 | BG202: 1.48 | BH202: 2.0620939 | BI202: =IF(G202="ground",0.57,IF(G202="basement",0.85,"error")) -> 0.57 | BJ202: 2.33 | BK202: =IF(K202="N",1/((1/BG202)+0.15/0.038),BG202) -> 0.21630769 | BL202: =IF(O202="sloped",1/(1/BJ202+0.15/0.04),IF(O202="flat",1/(1/BJ202+0.15/0.034),"error")) -> 0.23928113 | BM202: 1.1 | BN202: =IF(BI202=0.85,1/(1/BI202+0.05/0.038),BI202) -> 0.57 | BP202: =D202*BS202 -> 3353 | BQ202: =H202 -> 5 | BR202: =0.32*BP202 -> 1072.96 | BS202: =I202 -> 17.5 | BT202: =IF(BQ202<=3,0.76*BP202,0.8*BP202) -> 2682.4 | BU202: =(($D202*$BI202*($BU$1-$BX$1)+$J202*$BG202*($BU$1-$BW$1)+$L202*$BH202*($BU$1-$BW$1)+$N202*$BJ202*($BU$1-$BV$1))*1.05+$BT202*(5.95))/1000 -> 70.842246 | BV202: =(($D202*$BI202*($BU$1-$BX$1)+$J202*$BK202*($BU$1-$BW$1)+$L202*$BH202*($BU$1-$BW$1)+$N202*$BJ202*($BU$1-$BV$1))*1.05+$BT202*(5.95))/1000 -> 45.114102 | BW202: =(($D202*$BI202*($BU$1-$BX$1)+$J202*$BG202*($BU$1-$BW$1)+$L202*$BH202*($BU$1-$BW$1)+$N202*$BL202*($BU$1-$BV$1))*1.05+$BT202*(5.95))/1000 -> 59.801212 | BX202: =(($D202*$BI202*($BU$1-$BX$1)+$J202*$BG202*($BU$1-$BW$1)+$L202*$BM202*($BU$1-$BW$1)+$N202*$BJ202*($BU$1-$BV$1))*1.05+$BT202*(5.95))/1000 -> 65.945308 | BY202: =(($D202*$BN202*($BU$1-$BX$1)+$J202*$BG202*($BU$1-$BW$1)+$L202*$BH202*($BU$1-$BW$1)+$N202*$BJ202*($BU$1-$BV$1))*1.05+$BT202*(5.95))/1000 -> 70.842246 | BZ202: =BU202*1152.4 -> 81638.604 | CA202: =BV202*1152.4 -> 51989.492 | CB202: =BW202*1152.4 -> 68914.917 | CC202: =BX202*1152.4 -> 75995.373 | CD202: =BY202*1152.4 -> 81638.604
... A306: 303 | B306: Burgas | C306: Ivaylo 97 | D306: 102.5 | E306: =0.8*D306*H306 -> 492 | F306: 41.4 | G306: Ground | H306: 6 | I306: 20.5 | J306: =F306*I306-L306 -> 678.96 | K306: N | L306: 169.74 | M306: 125.8 | N306: 107.625 | O306: Sloped | P306: N | Q306: Individual | R306: Electricity, natural gas | S306: =BZ306 -> 58685.719 | T306: =S306/E306 -> 119.27992 | U306: =CA306 -> 32730.895 | V306: =IF(ISBLANK(D306)," ",S306-U306) -> 25954.824 | W306: =CB306 -> 51878.945 | X306: =IF(ISBLANK(D306)," ",S306-W306) -> 6806.7745 | Y306: =CC306 -> 56359.607 | Z306: =IF(ISBLANK(D306)," ",S306-Y306) -> 2326.1122 | AA306: =CD306 -> 58685.719 | AB306: =IF(ISBLANK(D306)," ",S306-AA306) -> 0 | AC306: =V306+X306+Z306+AB306 -> 35087.711 | AD306: =IF(ISBLANK(D306)," ",S306-AC306) -> 23598.009 | AE306: =AD306/E306 -> 47.963432 | AF306: =1-AD306/S306 -> 0.5978918 | AG306: =IF(ISBLANK($D306),"",S306*_xlfn.XLOOKUP(Q306,DATA!$B$24:$B$25,DATA!$C$24:$C$25,"error",0,1)/1000) -> 7.8619224 | AH306: =IF(ISBLANK($D306),"",V306*_xlfn.XLOOKUP(Q306,DATA!$B$24:$B$25,DATA!$C$24:$C$25,"error",0,1)/1000) -> 3.4770778 | AI306: =IF(ISBLANK($D306),"",X306*_xlfn.XLOOKUP(Q306,DATA!$B$24:$B$25,DATA!$C$24:$C$25,"error",0,1)/1000) -> 0.91187997 | AJ306: =IF(ISBLANK($D306),"",Z306*_xlfn.XLOOKUP(Q306,DATA!$B$24:$B$25,DATA!$C$24:$C$25,"error",0,1)/1000) -> 0.31162119 | AK306: =IF(ISBLANK($D306),"",AB306*_xlfn.XLOOKUP(Q306,DATA!$B$24:$B$25,DATA!$C$24:$C$25,"error",0,1)/1000) -> 0 | AL306: =SUM(AH306:AK306) -> 4.7005789 | AM306: =IF(ISBLANK($D306),"",AG306-AL306) -> 3.1613434 | AN306: =IF(ISBLANK($D306),"",$S306*0.0135790158248428/1000) -> 0.79689431 | AO306: =IF(ISBLANK($D306),"",$V306*0.0135790158248428/1000) -> 0.35244097 | AP306: =IF(ISBLANK($D306),"",$X306*0.0135790158248428/1000) -> 0.092429298 | AQ306: =IF(ISBLANK($D306),"",$Z306*0.0135790158248428/1000) -> 0.031586314 | AR306: =IF(ISBLANK($D306),"",$AB306*0.0135790158248428/1000) -> 0 | AS306: =IF(ISBLANK($D306),"",$AC306*0.0135790158248428/1000) -> 0.47645658 | AT306: =IF(ISBLANK($D306),"",AN306-AS306) -> 0.32043773 | AU306: =IF(ISBLANK($D306),"",$S306*0.000738514285714286/1000) -> 0.043340242 | AV306: =IF(ISBLANK($D306),"",$V306*0.000738514285714286/1000) -> 0.019168008 | AW306: =IF(ISBLANK($D306),"",$X306*0.000738514285714286/1000) -> 0.0050269002 | AX306: =IF(ISBLANK($D306),"",$Z306*0.000738514285714286/1000) -> 0.0017178671 | AY306: =IF(ISBLANK($D306),"",$AB306*0.000738514285714286/1000) -> 0 | AZ306: =IF(ISBLANK($D306),"",$AC306*0.000738514285714286/1000) -> 0.025912776 | BA306: =IF(ISBLANK($D306),"",AU306-AZ306) -> 0.017427467 | BB306: =IF(V306>0,J306*DATA!$C$4,0) -> 44132.4 | BC306: =IF(X306>0,N306*_xlfn.XLOOKUP(Burgas!O306,DATA!$B$5:$B$6,DATA!$C$5:$C$6,"error",0,1),0) -> 5166 | BD306: =IF(Z306>0,(L306-M306)*DATA!$C$7,"0,00 ") -> 6591 | BE306: =IF(G306="basement",D306*DATA!$C$8,IF(G306="ground",0,"error")) -> 0 | BF306: =BB306+BC306+BD306+BE306 -> 55889.4 | BG306: 1.48 | BH306: 1.5530164 | BI306: =IF(G306="ground",0.57,IF(G306="basement",0.85,"error")) -> 0.57 | BJ306: 2.33 | BK306: =IF(K306="N",1/((1/BG306)+0.15/0.038),BG306) -> 0.21630769 | BL306: =IF(O306="sloped",1/(1/BJ306+0.15/0.04),IF(O306="flat",1/(1/BJ306+0.15/0.034),"error")) -> 0.23928113 | BM306: 1.1 | BN306: =IF(BI306=0.85,1/(1/BI306+0.05/0.038),BI306) -> 0.57 | BP306: =D306*BS306 -> 2101.25 | BQ306: =H306 -> 6 | BR306: =0.32*BP306 -> 672.4 | BS306: =I306 -> 20.5 | BT306: =IF(BQ306<=3,0.76*BP306,0.8*BP306) -> 1681 | BU306: =(($D306*$BI306*($BU$1-$BX$1)+$J306*$BG306*($BU$1-$BW$1)+$L306*$BH306*($BU$1-$BW$1)+$N306*$BJ306*($BU$1-$BV$1))*1.05+$BT306*(5.95))/1000 -> 50.924783 | BV306: =(($D306*$BI306*($BU$1-$BX$1)+$J306*$BK306*($BU$1-$BW$1)+$L306*$BH306*($BU$1-$BW$1)+$N306*$BJ306*($BU$1-$BV$1))*1.05+$BT306*(5.95))/1000 -> 28.402374 | BW306: =(($D306*$BI306*($BU$1-$BX$1)+$J306*$BG306*($BU$1-$BW$1)+$L306*$BH306*($BU$1-$BW$1)+$N306*$BL306*($BU$1-$BV$1))*1.05+$BT306*(5.95))/1000 -> 45.018175 | BX306: =(($D306*$BI306*($BU$1-$BX$1)+$J306*$BG306*($BU$1-$BW$1)+$L306*$BM306*($BU$1-$BW$1)+$N306*$BJ306*($BU$1-$BV$1))*1.05+$BT306*(5.95))/1000 -> 48.906289 | BY306: =(($D306*$BN306*($BU$1-$BX$1)+$J306*$BG306*($BU$1-$BW$1)+$L306*$BH306*($BU$1-$BW$1)+$N306*$BJ306*($BU$1-$BV$1))*1.05+$BT306*(5.95))/1000 -> 50.924783 | BZ306: =BU306*1152.4 -> 58685.719 | CA306: =BV306*1152.4 -> 32730.895 | CB306: =BW306*1152.4 -> 51878.945 | CC306: =BX306*1152.4 -> 56359.607 | CD306: =BY306*1152.4 -> 58685.719
A307: 304 | B307: Burgas | C307: Knyaginya Maria Luiza 13-27 | D307: 745.3 | E307: =0.8*D307*H307 -> 5366.16 | F307: 145 | G307: Ground | H307: 9 | I307: 31.15 | J307: =F307*I307-L307 -> 3613.4 | K307: N | L307: 903.35 | M307: 298.1 | N307: 782.565 | O307: Sloped | P307: N | Q307: District heating | R307: Natural gas | S307: =BZ307 -> 415121.9 | T307: =S307/E307 -> 77.35921 | U307: =CA307 -> 276991.28 | V307: =IF(ISBLANK(D307)," ",S307-U307) -> 138130.61 | W307: =CB307 -> 365628.35 | X307: =IF(ISBLANK(D307)," ",S307-W307) -> 49493.551 | Y307: =CC307 -> 383080.95 | Z307: =IF(ISBLANK(D307)," ",S307-Y307) -> 32040.951 | AA307: =CD307 -> 415121.9 | AB307: =IF(ISBLANK(D307)," ",S307-AA307) -> 0 | AC307: =V307+X307+Z307+AB307 -> 219665.12 | AD307: =IF(ISBLANK(D307)," ",S307-AC307) -> 195456.78 | AE307: =(S307-AD307)/E307 -> 40.935253 | AF307: =1-AD307/S307 -> 0.5291581 | AG307: =IF(ISBLANK($D307),"",S307*_xlfn.XLOOKUP(Q307,DATA!$B$24:$B$25,DATA!$C$24:$C$25,"error",0,1)/1000) -> 165.33475 | AH307: =IF(ISBLANK($D307),"",V307*_xlfn.XLOOKUP(Q307,DATA!$B$24:$B$25,DATA!$C$24:$C$25,"error",0,1)/1000) -> 55.014661 | AI307: =IF(ISBLANK($D307),"",X307*_xlfn.XLOOKUP(Q307,DATA!$B$24:$B$25,DATA!$C$24:$C$25,"error",0,1)/1000) -> 19.712292 | AJ307: =IF(ISBLANK($D307),"",Z307*_xlfn.XLOOKUP(Q307,DATA!$B$24:$B$25,DATA!$C$24:$C$25,"error",0,1)/1000) -> 12.76127 | AK307: =IF(ISBLANK($D307),"",AB307*_xlfn.XLOOKUP(Q307,DATA!$B$24:$B$25,DATA!$C$24:$C$25,"error",0,1)/1000) -> 0 | AL307: =SUM(AH307:AK307) -> 87.488222 | AM307: =IF(ISBLANK($D307),"",AG307-AL307) -> 77.846527 | AN307: =IF(ISBLANK($D307),"",$S307*0.0135790158248428/1000) -> 5.6369468 | AO307: =IF(ISBLANK($D307),"",$V307*0.0135790158248428/1000) -> 1.8756778 | AP307: =IF(ISBLANK($D307),"",$X307*0.0135790158248428/1000) -> 0.67207372 | AQ307: =IF(ISBLANK($D307),"",$Z307*0.0135790158248428/1000) -> 0.43508459 | AR307: =IF(ISBLANK($D307),"",$AB307*0.0135790158248428/1000) -> 0 | AS307: =IF(ISBLANK($D307),"",$AC307*0.0135790158248428/1000) -> 2.9828361 | AT307: =IF(ISBLANK($D307),"",AN307-AS307) -> 2.6541107 | AU307: =IF(ISBLANK($D307),"",$S307*0.000738514285714286/1000) -> 0.30657345 | AV307: =IF(ISBLANK($D307),"",$V307*0.000738514285714286/1000) -> 0.10201143 | AW307: =IF(ISBLANK($D307),"",$X307*0.000738514285714286/1000) -> 0.036551695 | AX307: =IF(ISBLANK($D307),"",$Z307*0.000738514285714286/1000) -> 0.0236627 | AY307: =IF(ISBLANK($D307),"",$AB307*0.000738514285714286/1000) -> 0 | AZ307: =IF(ISBLANK($D307),"",$AC307*0.000738514285714286/1000) -> 0.16222583 | BA307: =IF(ISBLANK($D307),"",AU307-AZ307) -> 0.14434763 | BB307: =IF(V307>0,J307*DATA!$C$4,0) -> 234871 | BC307: =IF(X307>0,N307*_xlfn.XLOOKUP(Burgas!O307,DATA!$B$5:$B$6,DATA!$C$5:$C$6,"error",0,1),0) -> 37563.12 | BD307: =IF(Z307>0,(L307-M307)*DATA!$C$7,"0,00 ") -> 90787.5 | BE307: =IF(G307="basement",D307*DATA!$C$8,IF(G307="ground",0,"error")) -> 0 | BF307: =BB307+BC307+BD307+BE307 -> 363221.62 | BG307: 1.48 | BH307: 2.2725107 | BI307: =IF(G307="ground",0.57,IF(G307="basement",0.85,"error")) -> 0.57 | BJ307: 2.33 | BK307: =IF(K307="N",1/((1/BG307)+0.15/0.038),BG307) -> 0.21630769 | BL307: =IF(O307="sloped",1/(1/BJ307+0.15/0.04),IF(O307="flat",1/(1/BJ307+0.15/0.034),"error")) -> 0.23928113 | BM307: 1.1 | BN307: =IF(BI307=0.85,1/(1/BI307+0.05/0.038),BI307) -> 0.57 | BP307: =D307*BS307 -> 23216.095 | BQ307: =H307 -> 9 | BR307: =0.32*BP307 -> 7429.1504 | BS307: =I307 -> 31.15 | BT307: =IF(BQ307<=3,0.76*BP307,0.8*BP307) -> 18572.876 | BU307: =(($D307*$BI307*($BU$1-$BX$1)+$J307*$BG307*($BU$1-$BW$1)+$L307*$BH307*($BU$1-$BW$1)+$N307*$BJ307*($BU$1-$BV$1))*1.05+$BT307*(5.95))/1000 -> 360.22379 | BV307: =(($D307*$BI307*($BU$1-$BX$1)+$J307*$BK307*($BU$1-$BW$1)+$L307*$BH307*($BU$1-$BW$1)+$N307*$BJ307*($BU$1-$BV$1))*1.05+$BT307*(5.95))/1000 -> 240.36037 | BW307: =(($D307*$BI307*($BU$1-$BX$1)+$J307*$BG307*($BU$1-$BW$1)+$L307*$BH307*($BU$1-$BW$1)+$N307*$BL307*($BU$1-$BV$1))*1.05+$BT307*(5.95))/1000 -> 317.27555 | BX307: =(($D307*$BI307*($BU$1-$BX$1)+$J307*$BG307*($BU$1-$BW$1)+$L307*$BM307*($BU$1-$BW$1)+$N307*$BJ307*($BU$1-$BV$1))*1.05+$BT307*(5.95))/1000 -> 332.42012 | BY307: =(($D307*$BN307*($BU$1-$BX$1)+$J307*$BG307*($BU$1-$BW$1)+$L307*$BH307*($BU$1-$BW$1)+$N307*$BJ307*($BU$1-$BV$1))*1.05+$BT307*(5.95))/1000 -> 360.22379 | BZ307: =BU307*1152.4 -> 415121.9 | CA307: =BV307*1152.4 -> 276991.28 | CB307: =BW307*1152.4 -> 365628.35 | CC307: =BX307*1152.4 -> 383080.95 | CD307: =BY307*1152.4 -> 415121.9
A308: 305 | B308: Burgas | C308: Knyaginya Maria Luiza 29 | D308: 1950 | E308: =0.8*D308*H308 -> 17160 | F308: 290 | G308: Ground | H308: 11 | I308: 34.1 | J308: =F308*I308-L308 -> 7891.2 | K308: N | L308: 1997.8 | M308: 1497.8 | N308: 2047.5 | O308: Flat | P308: N | Q308: Individual | R308: Electricity, natural gas | S308: =BZ308 -> 1006046.5 | T308: =S308/E308 -> 58.627419 | U308: =CA308 -> 704387.04 | V308: =IF(ISBLANK(D308)," ",S308-U308) -> 301659.46 | W308: =CB308 -> 846840.01 | X308: =IF(ISBLANK(D308)," ",S308-W308) -> 159206.49 | Y308: =CC308 -> 979577.32 | Z308: =IF(ISBLANK(D308)," ",S308-Y308) -> 26469.188 | AA308: =CD308 -> 1006046.5 | AB308: =IF(ISBLANK(D308)," ",S308-AA308) -> 0 | AC308: =V308+X308+Z308+AB308 -> 487335.14 | AD308: =IF(ISBLANK(D308)," ",S308-AC308) -> 518711.36 | AE308: =AD308/E308 -> 30.227935 | AF308: =1-AD308/S308 -> 0.48440618 | AG308: =IF(ISBLANK($D308),"",S308*_xlfn.XLOOKUP(Q308,DATA!$B$24:$B$25,DATA!$C$24:$C$25,"error",0,1)/1000) -> 134.77656 | AH308: =IF(ISBLANK($D308),"",V308*_xlfn.XLOOKUP(Q308,DATA!$B$24:$B$25,DATA!$C$24:$C$25,"error",0,1)/1000) -> 40.412272 | AI308: =IF(ISBLANK($D308),"",X308*_xlfn.XLOOKUP(Q308,DATA!$B$24:$B$25,DATA!$C$24:$C$25,"error",0,1)/1000) -> 21.328342 | AJ308: =IF(ISBLANK($D308),"",Z308*_xlfn.XLOOKUP(Q308,DATA!$B$24:$B$25,DATA!$C$24:$C$25,"error",0,1)/1000) -> 3.5459853 | AK308: =IF(ISBLANK($D308),"",AB308*_xlfn.XLOOKUP(Q308,DATA!$B$24:$B$25,DATA!$C$24:$C$25,"error",0,1)/1000) -> 0 | AL308: =SUM(AH308:AK308) -> 65.286599 | AM308: =IF(ISBLANK($D308),"",AG308-AL308) -> 69.489963 | AN308: =IF(ISBLANK($D308),"",$S308*0.0135790158248428/1000) -> 13.661121 | AO308: =IF(ISBLANK($D308),"",$V308*0.0135790158248428/1000) -> 4.0962386 | AP308: =IF(ISBLANK($D308),"",$X308*0.0135790158248428/1000) -> 2.1618675 | AQ308: =IF(ISBLANK($D308),"",$Z308*0.0135790158248428/1000) -> 0.35942552 | AR308: =IF(ISBLANK($D308),"",$AB308*0.0135790158248428/1000) -> 0 | AS308: =IF(ISBLANK($D308),"",$AC308*0.0135790158248428/1000) -> 6.6175316 | AT308: =IF(ISBLANK($D308),"",AN308-AS308) -> 7.0435898 | AU308: =IF(ISBLANK($D308),"",$S308*0.000738514285714286/1000) -> 0.74297972 | AV308: =IF(ISBLANK($D308),"",$V308*0.000738514285714286/1000) -> 0.22277982 | AW308: =IF(ISBLANK($D308),"",$X308*0.000738514285714286/1000) -> 0.11757627 | AX308: =IF(ISBLANK($D308),"",$Z308*0.000738514285714286/1000) -> 0.019547873 | AY308: =IF(ISBLANK($D308),"",$AB308*0.000738514285714286/1000) -> 0 | AZ308: =IF(ISBLANK($D308),"",$AC308*0.000738514285714286/1000) -> 0.35990396 | BA308: =IF(ISBLANK($D308),"",AU308-AZ308) -> 0.38307575 | BB308: =IF(V308>0,J308*DATA!$C$4,0) -> 512928 | BC308: =IF(X308>0,N308*_xlfn.XLOOKUP(Burgas!O308,DATA!$B$5:$B$6,DATA!$C$5:$C$6,"error",0,1),0) -> 174037.5 | BD308: =IF(Z308>0,(L308-M308)*DATA!$C$7,"0,00 ") -> 75000 | BE308: =IF(G308="basement",D308*DATA!$C$8,IF(G308="ground",0,"error")) -> 0 | BF308: =BB308+BC308+BD308+BE308 -> 761965.5 | BG308: 1.48 | BH308: 1.5379818 | BI308: =IF(G308="ground",0.57,IF(G308="basement",0.85,"error")) -> 0.57 | BJ308: 2.78 | BK308: =IF(K308="N",1/((1/BG308)+0.15/0.038),BG308) -> 0.21630769 | BL308: =IF(O308="sloped",1/(1/BJ308+0.15/0.04),IF(O308="flat",1/(1/BJ308+0.15/0.034),"error")) -> 0.20957871 | BM308: 1.1 | BN308: =IF(BI308=0.85,1/(1/BI308+0.05/0.038),BI308) -> 0.57 | BP308: =D308*BS308 -> 66495 | BQ308: =H308 -> 11 | BR308: =0.32*BP308 -> 21278.4 | BS308: =I308 -> 34.1 | BT308: =IF(BQ308<=3,0.76*BP308,0.8*BP308) -> 53196 | BU308: =(($D308*$BI308*($BU$1-$BX$1)+$J308*$BG308*($BU$1-$BW$1)+$L308*$BH308*($BU$1-$BW$1)+$N308*$BJ308*($BU$1-$BV$1))*1.05+$BT308*(5.95))/1000 -> 873.00113 | BV308: =(($D308*$BI308*($BU$1-$BX$1)+$J308*$BK308*($BU$1-$BW$1)+$L308*$BH308*($BU$1-$BW$1)+$N308*$BJ308*($BU$1-$BV$1))*1.05+$BT308*(5.95))/1000 -> 611.23485 | BW308: =(($D308*$BI308*($BU$1-$BX$1)+$J308*$BG308*($BU$1-$BW$1)+$L308*$BH308*($BU$1-$BW$1)+$N308*$BL308*($BU$1-$BV$1))*1.05+$BT308*(5.95))/1000 -> 734.84902 | BX308: =(($D308*$BI308*($BU$1-$BX$1)+$J308*$BG308*($BU$1-$BW$1)+$L308*$BM308*($BU$1-$BW$1)+$N308*$BJ308*($BU$1-$BV$1))*1.05+$BT308*(5.95))/1000 -> 850.03238 | BY308: =(($D308*$BN308*($BU$1-$BX$1)+$J308*$BG308*($BU$1-$BW$1)+$L308*$BH308*($BU$1-$BW$1)+$N308*$BJ308*($BU$1-$BV$1))*1.05+$BT308*(5.95))/1000 -> 873.00113 | BZ308: =BU308*1152.4 -> 1006046.5 | CA308: =BV308*1152.4 -> 704387.04 | CB308: =BW308*1152.4 -> 846840.01 | CC308: =BX308*1152.4 -> 979577.32 | CD308: =BY308*1152.4 -> 1006046.5
A309: 306 | B309: Burgas | C309: Knyaginya Maria Luiza 31 | D309: 141.6 | E309: =0.8*D309*H309 -> 792.96 | F309: 47.6 | G309: Ground | H309: 7 | I309: 22.25 | J309: =F309*I309-L309 -> 847.28 | K309: N | L309: 211.82 | M309: 74.13 | N309: 148.68 | O309: Sloped | P309: N | Q309: Individual | R309: Electricity, natural gas | S309: =BZ309 -> 81693.026 | T309: =S309/E309 -> 103.02288 | U309: =CA309 -> 49303.779 | V309: =IF(ISBLANK(D309)," ",S309-U309) -> 32389.247 | W309: =CB309 -> 72289.716 | X309: =IF(ISBLANK(D309)," ",S309-W309) -> 9403.3099 | Y309: =CC309 -> 74403.941 | Z309: =IF(ISBLANK(D309)," ",S309-Y309) -> 7289.0849 | AA309: =CD309 -> 81693.026 | AB309: =IF(ISBLANK(D309)," ",S309-AA309) -> 0 | AC309: =V309+X309+Z309+AB309 -> 49081.642 | AD309: =IF(ISBLANK(D309)," ",S309-AC309) -> 32611.384 | AE309: =AD309/E309 -> 41.12614 | AF309: =1-AD309/S309 -> 0.60080578 | AG309: =IF(ISBLANK($D309),"",S309*_xlfn.XLOOKUP(Q309,DATA!$B$24:$B$25,DATA!$C$24:$C$25,"error",0,1)/1000) -> 10.944131 | AH309: =IF(ISBLANK($D309),"",V309*_xlfn.XLOOKUP(Q309,DATA!$B$24:$B$25,DATA!$C$24:$C$25,"error",0,1)/1000) -> 4.3390751 | AI309: =IF(ISBLANK($D309),"",X309*_xlfn.XLOOKUP(Q309,DATA!$B$24:$B$25,DATA!$C$24:$C$25,"error",0,1)/1000) -> 1.2597288 | AJ309: =IF(ISBLANK($D309),"",Z309*_xlfn.XLOOKUP(Q309,DATA!$B$24:$B$25,DATA!$C$24:$C$25,"error",0,1)/1000) -> 0.97649342 | AK309: =IF(ISBLANK($D309),"",AB309*_xlfn.XLOOKUP(Q309,DATA!$B$24:$B$25,DATA!$C$24:$C$25,"error",0,1)/1000) -> 0 | AL309: =SUM(AH309:AK309) -> 6.5752974 | AM309: =IF(ISBLANK($D309),"",AG309-AL309) -> 4.368834 | AN309: =IF(ISBLANK($D309),"",$S309*0.0135790158248428/1000) -> 1.1093109 | AO309: =IF(ISBLANK($D309),"",$V309*0.0135790158248428/1000) -> 0.4398141 | AP309: =IF(ISBLANK($D309),"",$X309*0.0135790158248428/1000) -> 0.12768769 | AQ309: =IF(ISBLANK($D309),"",$Z309*0.0135790158248428/1000) -> 0.098978599 | AR309: =IF(ISBLANK($D309),"",$AB309*0.0135790158248428/1000) -> 0 | AS309: =IF(ISBLANK($D309),"",$AC309*0.0135790158248428/1000) -> 0.66648039 | AT309: =IF(ISBLANK($D309),"",AN309-AS309) -> 0.4428305 | AU309: =IF(ISBLANK($D309),"",$S309*0.000738514285714286/1000) -> 0.060331467 | AV309: =IF(ISBLANK($D309),"",$V309*0.000738514285714286/1000) -> 0.023919922 | AW309: =IF(ISBLANK($D309),"",$X309*0.000738514285714286/1000) -> 0.0069444787 | AX309: =IF(ISBLANK($D309),"",$Z309*0.000738514285714286/1000) -> 0.0053830933 | AY309: =IF(ISBLANK($D309),"",$AB309*0.000738514285714286/1000) -> 0 | AZ309: =IF(ISBLANK($D309),"",$AC309*0.000738514285714286/1000) -> 0.036247494 | BA309: =IF(ISBLANK($D309),"",AU309-AZ309) -> 0.024083973 | BB309: =IF(V309>0,J309*DATA!$C$4,0) -> 55073.2 | BC309: =IF(X309>0,N309*_xlfn.XLOOKUP(Burgas!O309,DATA!$B$5:$B$6,DATA!$C$5:$C$6,"error",0,1),0) -> 7136.64 | BD309: =IF(Z309>0,(L309-M309)*DATA!$C$7,"0,00 ") -> 20653.5 | BE309: =IF(G309="basement",D309*DATA!$C$8,IF(G309="ground",0,"error")) -> 0 | BF309: =BB309+BC309+BD309+BE309 -> 82863.34 | BG309: 1.48 | BH309: 2.2375578 | BI309: =IF(G309="ground",0.57,IF(G309="basement",0.85,"error")) -> 0.57 | BJ309: 2.33 | BK309: =IF(K309="N",1/((1/BG309)+0.15/0.038),BG309) -> 0.21630769 | BL309: =IF(O309="sloped",1/(1/BJ309+0.15/0.04),IF(O309="flat",1/(1/BJ309+0.15/0.034),"error")) -> 0.23928113 | BM309: 1.1 | BN309: =IF(BI309=0.85,1/(1/BI309+0.05/0.038),BI309) -> 0.57 | BP309: =D309*BS309 -> 3150.6 | BQ309: =H309 -> 7 | BR309: =0.32*BP309 -> 1008.192 | BS309: =I309 -> 22.25 | BT309: =IF(BQ309<=3,0.76*BP309,0.8*BP309) -> 2520.48 | BU309: =(($D309*$BI309*($BU$1-$BX$1)+$J309*$BG309*($BU$1-$BW$1)+$L309*$BH309*($BU$1-$BW$1)+$N309*$BJ309*($BU$1-$BV$1))*1.05+$BT309*(5.95))/1000 -> 70.889471 | BV309: =(($D309*$BI309*($BU$1-$BX$1)+$J309*$BK309*($BU$1-$BW$1)+$L309*$BH309*($BU$1-$BW$1)+$N309*$BJ309*($BU$1-$BV$1))*1.05+$BT309*(5.95))/1000 -> 42.783564 | BW309: =(($D309*$BI309*($BU$1-$BX$1)+$J309*$BG309*($BU$1-$BW$1)+$L309*$BH309*($BU$1-$BW$1)+$N309*$BL309*($BU$1-$BV$1))*1.05+$BT309*(5.95))/1000 -> 62.729708 | BX309: =(($D309*$BI309*($BU$1-$BX$1)+$J309*$BG309*($BU$1-$BW$1)+$L309*$BM309*($BU$1-$BW$1)+$N309*$BJ309*($BU$1-$BV$1))*1.05+$BT309*(5.95))/1000 -> 64.564336 | BY309: =(($D309*$BN309*($BU$1-$BX$1)+$J309*$BG309*($BU$1-$BW$1)+$L309*$BH309*($BU$1-$BW$1)+$N309*$BJ309*($BU$1-$BV$1))*1.05+$BT309*(5.95))/1000 -> 70.889471 | BZ309: =BU309*1152.4 -> 81693.026 | CA309: =BV309*1152.4 -> 49303.779 | CB309: =BW309*1152.4 -> 72289.716 | CC309: =BX309*1152.4 -> 74403.941 | CD309: =BY309*1152.4 -> 81693.026
