Workbook

Sheet Burgas
A1: Number | B1: LOCATION DATA | D1: BUILDING GEOMETRY | Q1: ENERGY NEEDS AND SAVINGS | AG1: CO2 EMISSION | AN1: SO2 EMISSION | AU1: NOx EMISSION | BB1: Investements | BG1: U-values, current condition | BK1: U-values, after insulation | BP1: MFAB volume Ve | BQ1: No of storeys | BR1: Akuk | BS1: H | BT1: Volume V | BU1: 20 | BV1: -5 | BW1: -5 | BX1: 3
B2: City | C2: Address | D2: Ground area | E2: Heated area | F2: Ground circumference | G2: Type of floor construction | H2: Total number of storeys | I2: Height | J2: Area of outer walls | K2: Outer walls insulation | L2: Total area of windows and doors | M2: Total area of PVC windows and doorsa | N2: Roof/ceiling area | O2: Type of roof | P2: Roof insulation | Q2: Heating system | R2: Primarly energy source | S2: Heat required in current state of building | T2: Specific heat required in current condition of building | U2: Heat required in after insulation of outer walls | V2: Potential saving after insulation of outer walls | W2: Heat required in after insulation of roof/ceiling | X2: Potential saving after insulation of roof/ceiling | Y2: Heat required in after replacement of windows and doors | Z2: Potential saving after replacement of widows and doors | AA2: Heat required in after insulation of floors | AB2: Potential saving after insulation of floors | AC2: Potential saving after all architectural measures | AD2: Heat required after all architectural measures | AE2: Specific heat required after all architectural measures | AF2: Total savings by architectural measures | AG2: Emission in current state of building | AH2: Reduction after insulation of outer walls | AI2: Reduction after insulation of roof/ceiling | AJ2: Reduction after replacement of widows and doors | AK2: Reduction after insulation of floors | AL2: Reduction after all measures | AM2: Emission after all measures | AN2: Emission in current state of building | AO2: Reduction after insulation of outer walls | AP2: Reduction after insulation of roof/ceiling | AQ2: Reduction after replacement of widows and doors | AR2: Reduction after insulation of floors | AS2: Reduction after all measures | AT2: Emission after all measures | AU2: Emission in current state of building | AV2: Reduction after insulation of outer walls | AW2: Reduction after insulation of roof/ceiling | AX2: Reduction after replacement of widows and doors | AY2: Reduction after insulation of floors | AZ2: Reduction after all measures | BA2: Emission after all measures | BB2: Wall insulation | BC2: Roof/ceiling insulation | BD2: Windows replacement | BE2: Floor insulation | BF2: Total investment | BG2: U-wall | BH2: U-windows | BI2: U-floor | BJ2: U-roof | BK2: U-wall | BL2: U-roof | BM2: U-windows | BN2: U-floor | BU2: Qtr.req | BV2: Qtr. Ins wall | BW2: Qtr. Ins roof | BX2: Qtr. Ins win | BY2: Qtr. Ins floor | BZ2: Qtr.potr | CA2: Qtr. Iz zid | CB2: Qtr. Iz tav | CC2: Qtr. Iz proz | CD2: Qtr. Iz pod
D3: m2 | E3: m2 | F3: m | I3: m | J3: m2 | L3: m2 | M3: m2 | N3: m2 | S3: kWh/year | T3: kWh/m2year | U3: kWh/year | V3: kWh/year | W3: kWh/year | X3: kWh/year | Y3: kWh/year | Z3: kWh/year | AA3: kWh/year | AB3: kWh/year | AC3: kWh/year | AD3: kWh/year | AE3: kWh/m2year | AF3: % | AG3: t/year | AH3: t/year | AI3: t/year | AJ3: t/year | AK3: t/year | AL3: t/year | AM3: t/year | AN3: t/year | AO3: t/year | AP3: t/year | AQ3: t/year | AR3: t/year | AS3: t/year | AT3: t/year | AU3: t/year | AV3: t/year | AW3: t/year | AX3: t/year | AY3: t/year | AZ3: t/year | BA3: t/year | BB3: EUR | BC3: EUR | BD3: EUR | BE3: EUR | BF3: EUR | BG3: W/m2K | BH3: W/m2K | BI3: W/m2K | BJ3: W/m2K | BK3: W/m2K | BL3: W/m2K | BM3: W/m2K | BN3: W/m2K | BP3: m3 | BR3: m2 | BS3: m | BT3: m3 | BU3: kWh/god | BV3: kWh/god | BW3: kWh/god | BX3: kWh/god | BY3: kWh/god | BZ3: kWh/god | CA3: kWh/god | CB3: kWh/god | CC3: kWh/god | CD3: kWh/god
A4: 1 | B4: Burgas | C4: Aleksander Stamboliyski 26 | D4: 299.5 | E4: =0.8*D4*H4 -> 1677.2 | F4: 70 | G4: Ground | H4: 7 | I4: 22.25 | J4: =F4*I4-L4 -> 1246.1 | K4: Y | L4: 311.4 | M4: 311.4 | N4: 314.475 | O4: Sloped | P4: Y | Q4: Individual | R4: Electricity, natural gas | S4: =BZ4 -> 61944.504 | T4: =S4/E4 -> 36.933284 | U4: =CA4 -> 61944.504 | V4: =IF(ISBLANK(D4)," ",S4-U4) -> 0 | W4: =CB4 -> 60998.414 | X4: =IF(ISBLANK(D4)," ",S4-W4) -> 946.08998 | Y4: =CC4 -> 61944.504 | Z4: =IF(ISBLANK(D4)," ",S4-Y4) -> 0 | AA4: =CD4 -> 61944.504 | AB4: =IF(ISBLANK(D4)," ",S4-AA4) -> 0 | AC4: =V4+X4+Z4+AB4 -> 946.08998 | AD4: =IF(ISBLANK(D4)," ",S4-AC4) -> 60998.414 | AE4: =AD4/E4 -> 36.369195 | AF4: =1-AD4/S4 -> 0.015273187 | AG4: =IF(ISBLANK($D4),"",S4*_xlfn.XLOOKUP(Q4,DATA!$B$24:$B$25,DATA!$C$24:$C$25,"error",0,1)/1000) -> 8.2984905 | AH4: =IF(ISBLANK($D4),"",V4*_xlfn.XLOOKUP(Q4,DATA!$B$24:$B$25,DATA!$C$24:$C$25,"error",0,1)/1000) -> 0 | AI4: =IF(ISBLANK($D4),"",X4*_xlfn.XLOOKUP(Q4,DATA!$B$24:$B$25,DATA!$C$24:$C$25,"error",0,1)/1000) -> 0.12674439 | AJ4: =IF(ISBLANK($D4),"",Z4*_xlfn.XLOOKUP(Q4,DATA!$B$24:$B$25,DATA!$C$24:$C$25,"error",0,1)/1000) -> 0 | AK4: =IF(ISBLANK($D4),"",AB4*_xlfn.XLOOKUP(Q4,DATA!$B$24:$B$25,DATA!$C$24:$C$25,"error",0,1)/1000) -> 0 | AL4: =SUM(AH4:AK4) -> 0.12674439 | AM4: =IF(ISBLANK($D4),"",AG4-AL4) -> 8.1717461 | AN4: =IF(ISBLANK($D4),"",$S4*0.0135790158248428/1000) -> 0.84114541 | AO4: =IF(ISBLANK($D4),"",$V4*0.0135790158248428/1000) -> 0 | AP4: =IF(ISBLANK($D4),"",$X4*0.0135790158248428/1000) -> 0.012846971 | AQ4: =IF(ISBLANK($D4),"",$Z4*0.0135790158248428/1000) -> 0 | AR4: =IF(ISBLANK($D4),"",$AB4*0.0135790158248428/1000) -> 0 | AS4: =IF(ISBLANK($D4),"",$AC4*0.0135790158248428/1000) -> 0.012846971 | AT4: =IF(ISBLANK($D4),"",AN4-AS4) -> 0.82829844 | AU4: =IF(ISBLANK($D4),"",$S4*0.000738514285714286/1000) -> 0.045746901 | AV4: =IF(ISBLANK($D4),"",$V4*0.000738514285714286/1000) -> 0 | AW4: =IF(ISBLANK($D4),"",$X4*0.000738514285714286/1000) -> 0.00069870097 | AX4: =IF(ISBLANK($D4),"",$Z4*0.000738514285714286/1000) -> 0 | AY4: =IF(ISBLANK($D4),"",$AB4*0.000738514285714286/1000) -> 0 | AZ4: =IF(ISBLANK($D4),"",$AC4*0.000738514285714286/1000) -> 0.00069870097 | BA4: =IF(ISBLANK($D4),"",AU4-AZ4) -> 0.0450482 | BB4: =IF(V4>0,J4*DATA!$C$4,0) -> 0 | BC4: =IF(X4>0,N4*_xlfn.XLOOKUP(Burgas!O4,DATA!$B$5:$B$6,DATA!$C$5:$C$6,"error",0,1),0) -> 15094.8 | BD4: =IF(Z4>0,(L4-M4)*DATA!$C$7,"0,00 ") -> 0,00 | BE4: =IF(G4="basement",D4*DATA!$C$8,IF(G4="ground",0,"error")) -> 0 | BF4: =BB4+BC4+BD4+BE4 -> 15094.8 | BG4: 0.25 | BH4: 1.1 | BI4: =IF(G4="ground",0.57,IF(G4="basement",0.85,"error")) -> 0.57 | BJ4: 0.22 | BK4: =IF(K4="N",1/((1/BG4)+0.15/0.038),BG4) -> 0.25 | BL4: =IF(O4="sloped",1/(1/BJ4+0.15/0.04),IF(O4="flat",1/(1/BJ4+0.15/0.034),"error")) -> 0.12054795 | BM4: 1.1 | BN4: =IF(BI4=0.85,1/(1/BI4+0.05/0.038),BI4) -> 0.57 | BP4: =D4*BS4 -> 6663.875 | BQ4: =H4 -> 7 | BR4: =0.32*BP4 -> 2132.44 | BS4: =I4 -> 22.25 | BT4: =IF(BQ4<=3,0.76*BP4,0.8*BP4) -> 5331.1 | BU4: =(($D4*$BI4*($BU$1-$BX$1)+$J4*$BG4*($BU$1-$BW$1)+$L4*$BH4*($BU$1-$BW$1)+$N4*$BJ4*($BU$1-$BV$1))*1.05+$BT4*(5.95))/1000 -> 53.752607 | BV4: =(($D4*$BI4*($BU$1-$BX$1)+$J4*$BK4*($BU$1-$BW$1)+$L4*$BH4*($BU$1-$BW$1)+$N4*$BJ4*($BU$1-$BV$1))*1.05+$BT4*(5.95))/1000 -> 53.752607 | BW4: =(($D4*$BI4*($BU$1-$BX$1)+$J4*$BG4*($BU$1-$BW$1)+$L4*$BH4*($BU$1-$BW$1)+$N4*$BL4*($BU$1-$BV$1))*1.05+$BT4*(5.95))/1000 -> 52.931634 | BX4: =(($D4*$BI4*($BU$1-$BX$1)+$J4*$BG4*($BU$1-$BW$1)+$L4*$BM4*($BU$1-$BW$1)+$N4*$BJ4*($BU$1-$BV$1))*1.05+$BT4*(5.95))/1000 -> 53.752607 | BY4: =(($D4*$BN4*($BU$1-$BX$1)+$J4*$BG4*($BU$1-$BW$1)+$L4*$BH4*($BU$1-$BW$1)+$N4*$BJ4*($BU$1-$BV$1))*1.05+$BT4*(5.95))/1000 -> 53.752607 | BZ4: =BU4*1152.4 -> 61944.504 | CA4: =BV4*1152.4 -> 61944.504 | CB4: =BW4*1152.4 -> 60998.414 | CC4: =BX4*1152.4 -> 61944.504 | CD4: =BY4*1152.4 -> 61944.504
A5: 2 | B5: Burgas | C5: Aleksander Stamboliyski 28 | D5: 138.6 | E5: =0.8*D5*H5 -> 776.16 | F5: 50.2 | G5: Ground | H5: 7 | I5: 22.25 | J5: =F5*I5-L5 -> 893.56 | K5: Y | L5: 223.39 | M5: 0 | N5: 145.53 | O5: Sloped | P5: Y | Q5: Individual | R5: Electricity, natural gas | S5: =BZ5 -> 45526.829 | T5: =S5/E5 -> 58.6565 | U5: =CA5 -> 45526.829 | V5: =IF(ISBLANK(D5)," ",S5-U5) -> 0 | W5: =CB5 -> 45089.006 | X5: =IF(ISBLANK(D5)," ",S5-W5) -> 437.82328 | Y5: =CC5 -> 33700.925 | Z5: =IF(ISBLANK(D5)," ",S5-Y5) -> 11825.904 | AA5: =CD5 -> 45526.829 | AB5: =IF(ISBLANK(D5)," ",S5-AA5) -> 0 | AC5: =V5+X5+Z5+AB5 -> 12263.727 | AD5: =IF(ISBLANK(D5)," ",S5-AC5) -> 33263.102 | AE5: =AD5/E5 -> 42.855986 | AF5: =1-AD5/S5 -> 0.26937362 | AG5: =IF(ISBLANK($D5),"",S5*_xlfn.XLOOKUP(Q5,DATA!$B$24:$B$25,DATA!$C$24:$C$25,"error",0,1)/1000) -> 6.0990714 | AH5: =IF(ISBLANK($D5),"",V5*_xlfn.XLOOKUP(Q5,DATA!$B$24:$B$25,DATA!$C$24:$C$25,"error",0,1)/1000) -> 0 | AI5: =IF(ISBLANK($D5),"",X5*_xlfn.XLOOKUP(Q5,DATA!$B$24:$B$25,DATA!$C$24:$C$25,"error",0,1)/1000) -> 0.058653666 | AJ5: =IF(ISBLANK($D5),"",Z5*_xlfn.XLOOKUP(Q5,DATA!$B$24:$B$25,DATA!$C$24:$C$25,"error",0,1)/1000) -> 1.5842753 | AK5: =IF(ISBLANK($D5),"",AB5*_xlfn.XLOOKUP(Q5,DATA!$B$24:$B$25,DATA!$C$24:$C$25,"error",0,1)/1000) -> 0 | AL5: =SUM(AH5:AK5) -> 1.642929 | AM5: =IF(ISBLANK($D5),"",AG5-AL5) -> 4.4561424 | AN5: =IF(ISBLANK($D5),"",$S5*0.0135790158248428/1000) -> 0.61820953 | AO5: =IF(ISBLANK($D5),"",$V5*0.0135790158248428/1000) -> 0 | AP5: =IF(ISBLANK($D5),"",$X5*0.0135790158248428/1000) -> 0.0059452092 | AQ5: =IF(ISBLANK($D5),"",$Z5*0.0135790158248428/1000) -> 0.16058413 | AR5: =IF(ISBLANK($D5),"",$AB5*0.0135790158248428/1000) -> 0 | AS5: =IF(ISBLANK($D5),"",$AC5*0.0135790158248428/1000) -> 0.16652934 | AT5: =IF(ISBLANK($D5),"",AN5-AS5) -> 0.45168019 | AU5: =IF(ISBLANK($D5),"",$S5*0.000738514285714286/1000) -> 0.033622213 | AV5: =IF(ISBLANK($D5),"",$V5*0.000738514285714286/1000) -> 0 | AW5: =IF(ISBLANK($D5),"",$X5*0.000738514285714286/1000) -> 0.00032333874 | AX5: =IF(ISBLANK($D5),"",$Z5*0.000738514285714286/1000) -> 0.0087335987 | AY5: =IF(ISBLANK($D5),"",$AB5*0.000738514285714286/1000) -> 0 | AZ5: =IF(ISBLANK($D5),"",$AC5*0.000738514285714286/1000) -> 0.0090569375 | BA5: =IF(ISBLANK($D5),"",AU5-AZ5) -> 0.024565276 | BB5: =IF(V5>0,J5*DATA!$C$4,0) -> 0 | BC5: =IF(X5>0,N5*_xlfn.XLOOKUP(Burgas!O5,DATA!$B$5:$B$6,DATA!$C$5:$C$6,"error",0,1),0) -> 6985.44 | BD5: =IF(Z5>0,(L5-M5)*DATA!$C$7,"0,00 ") -> 33508.5 | BE5: =IF(G5="basement",D5*DATA!$C$8,IF(G5="ground",0,"error")) -> 0 | BF5: =BB5+BC5+BD5+BE5 -> 40493.94 | BG5: 0.25 | BH5: 2.85 | BI5: =IF(G5="ground",0.57,IF(G5="basement",0.85,"error")) -> 0.57 | BJ5: 0.22 | BK5: =IF(K5="N",1/((1/BG5)+0.15/0.038),BG5) -> 0.25 | BL5: =IF(O5="sloped",1/(1/BJ5+0.15/0.04),IF(O5="flat",1/(1/BJ5+0.15/0.034),"error")) -> 0.12054795 | BM5: 1.1 | BN5: =IF(BI5=0.85,1/(1/BI5+0.05/0.038),BI5) -> 0.57 | BP5: =D5*BS5 -> 3083.85 | BQ5: =H5 -> 7 | BR5: =0.32*BP5 -> 986.832 | BS5: =I5 -> 22.25 | BT5: =IF(BQ5<=3,0.76*BP5,0.8*BP5) -> 2467.08 | BU5: =(($D5*$BI5*($BU$1-$BX$1)+$J5*$BG5*($BU$1-$BW$1)+$L5*$BH5*($BU$1-$BW$1)+$N5*$BJ5*($BU$1-$BV$1))*1.05+$BT5*(5.95))/1000 -> 39.506099 | BV5: =(($D5*$BI5*($BU$1-$BX$1)+$J5*$BK5*($BU$1-$BW$1)+$L5*$BH5*($BU$1-$BW$1)+$N5*$BJ5*($BU$1-$BV$1))*1.05+$BT5*(5.95))/1000 -> 39.506099 | BW5: =(($D5*$BI5*($BU$1-$BX$1)+$J5*$BG5*($BU$1-$BW$1)+$L5*$BH5*($BU$1-$BW$1)+$N5*$BL5*($BU$1-$BV$1))*1.05+$BT5*(5.95))/1000 -> 39.126176 | BX5: =(($D5*$BI5*($BU$1-$BX$1)+$J5*$BG5*($BU$1-$BW$1)+$L5*$BM5*($BU$1-$BW$1)+$N5*$BJ5*($BU$1-$BV$1))*1.05+$BT5*(5.95))/1000 -> 29.244121 | BY5: =(($D5*$BN5*($BU$1-$BX$1)+$J5*$BG5*($BU$1-$BW$1)+$L5*$BH5*($BU$1-$BW$1)+$N5*$BJ5*($BU$1-$BV$1))*1.05+$BT5*(5.95))/1000 -> 39.506099 | BZ5: =BU5*1152.4 -> 45526.829 | CA5: =BV5*1152.4 -> 45526.829 | CB5: =BW5*1152.4 -> 45089.006 | CC5: =BX5*1152.4 -> 33700.925 | CD5: =BY5*1152.4 -> 45526.829
A6: 3 | B6: Burgas | C6: Aleksander Stamboliyski 30 | D6: 180.8 | E6: =0.8*D6*H6 -> 1012.48 | F6: 55.8 | G6: Ground | H6: 7 | I6: 22.25 | J6: =F6*I6-L6 -> 993.24 | K6: Y | L6: 248.31 | M6: 248.31 | N6: 189.84 | O6: Sloped | P6: Y | Q6: Individual | R6: Electricity, natural gas | S6: =BZ6 -> 41224.22 | T6: =S6/E6 -> 40.716083 | U6: =CA6 -> 41224.22 | V6: =IF(ISBLANK(D6)," ",S6-U6) -> 0 | W6: =CB6 -> 40653.091 | X6: =IF(ISBLANK(D6)," ",S6-W6) -> 571.12878 | Y6: =CC6 -> 41224.22 | Z6: =IF(ISBLANK(D6)," ",S6-Y6) -> 0 | AA6: =CD6 -> 41224.22 | AB6: =IF(ISBLANK(D6)," ",S6-AA6) -> 0 | AC6: =V6+X6+Z6+AB6 -> 571.12878 | AD6: =IF(ISBLANK(D6)," ",S6-AC6) -> 40653.091 | AE6: =AD6/E6 -> 40.151995 | AF6: =1-AD6/S6 -> 0.013854205 | AG6: =IF(ISBLANK($D6),"",S6*_xlfn.XLOOKUP(Q6,DATA!$B$24:$B$25,DATA!$C$24:$C$25,"error",0,1)/1000) -> 5.5226658 | AH6: =IF(ISBLANK($D6),"",V6*_xlfn.XLOOKUP(Q6,DATA!$B$24:$B$25,DATA!$C$24:$C$25,"error",0,1)/1000) -> 0 | AI6: =IF(ISBLANK($D6),"",X6*_xlfn.XLOOKUP(Q6,DATA!$B$24:$B$25,DATA!$C$24:$C$25,"error",0,1)/1000) -> 0.076512142 | AJ6: =IF(ISBLANK($D6),"",Z6*_xlfn.XLOOKUP(Q6,DATA!$B$24:$B$25,DATA!$C$24:$C$25,"error",0,1)/1000) -> 0 | AK6: =IF(ISBLANK($D6),"",AB6*_xlfn.XLOOKUP(Q6,DATA!$B$24:$B$25,DATA!$C$24:$C$25,"error",0,1)/1000) -> 0 | AL6: =SUM(AH6:AK6) -> 0.076512142 | AM6: =IF(ISBLANK($D6),"",AG6-AL6) -> 5.4461537 | AN6: =IF(ISBLANK($D6),"",$S6*0.0135790158248428/1000) -> 0.55978434 | AO6: =IF(ISBLANK($D6),"",$V6*0.0135790158248428/1000) -> 0 | AP6: =IF(ISBLANK($D6),"",$X6*0.0135790158248428/1000) -> 0.0077553667 | AQ6: =IF(ISBLANK($D6),"",$Z6*0.0135790158248428/1000) -> 0 | AR6: =IF(ISBLANK($D6),"",$AB6*0.0135790158248428/1000) -> 0 | AS6: =IF(ISBLANK($D6),"",$AC6*0.0135790158248428/1000) -> 0.0077553667 | AT6: =IF(ISBLANK($D6),"",AN6-AS6) -> 0.55202897 | AU6: =IF(ISBLANK($D6),"",$S6*0.000738514285714286/1000) -> 0.030444676 | AV6: =IF(ISBLANK($D6),"",$V6*0.000738514285714286/1000) -> 0 | AW6: =IF(ISBLANK($D6),"",$X6*0.000738514285714286/1000) -> 0.00042178676 | AX6: =IF(ISBLANK($D6),"",$Z6*0.000738514285714286/1000) -> 0 | AY6: =IF(ISBLANK($D6),"",$AB6*0.000738514285714286/1000) -> 0 | AZ6: =IF(ISBLANK($D6),"",$AC6*0.000738514285714286/1000) -> 0.00042178676 | BA6: =IF(ISBLANK($D6),"",AU6-AZ6) -> 0.030022889 | BB6: =IF(V6>0,J6*DATA!$C$4,0) -> 0 | BC6: =IF(X6>0,N6*_xlfn.XLOOKUP(Burgas!O6,DATA!$B$5:$B$6,DATA!$C$5:$C$6,"error",0,1),0) -> 9112.32 | BD6: =IF(Z6>0,(L6-M6)*DATA!$C$7,"0,00 ") -> 0,00 | BE6: =IF(G6="basement",D6*DATA!$C$8,IF(G6="ground",0,"error")) -> 0 | BF6: =BB6+BC6+BD6+BE6 -> 9112.32 | BG6: 0.25 | BH6: 1.1 | BI6: =IF(G6="ground",0.57,IF(G6="basement",0.85,"error")) -> 0.57 | BJ6: 0.22 | BK6: =IF(K6="N",1/((1/BG6)+0.15/0.038),BG6) -> 0.25 | BL6: =IF(O6="sloped",1/(1/BJ6+0.15/0.04),IF(O6="flat",1/(1/BJ6+0.15/0.034),"error")) -> 0.12054795 | BM6: 1.1 | BN6: =IF(BI6=0.85,1/(1/BI6+0.05/0.038),BI6) -> 0.57 | BP6: =D6*BS6 -> 4022.8 | BQ6: =H6 -> 7 | BR6: =0.32*BP6 -> 1287.296 | BS6: =I6 -> 22.25 | BT6: =IF(BQ6<=3,0.76*BP6,0.8*BP6) -> 3218.24 | BU6: =(($D6*$BI6*($BU$1-$BX$1)+$J6*$BG6*($BU$1-$BW$1)+$L6*$BH6*($BU$1-$BW$1)+$N6*$BJ6*($BU$1-$BV$1))*1.05+$BT6*(5.95))/1000 -> 35.772492 | BV6: =(($D6*$BI6*($BU$1-$BX$1)+$J6*$BK6*($BU$1-$BW$1)+$L6*$BH6*($BU$1-$BW$1)+$N6*$BJ6*($BU$1-$BV$1))*1.05+$BT6*(5.95))/1000 -> 35.772492 | BW6: =(($D6*$BI6*($BU$1-$BX$1)+$J6*$BG6*($BU$1-$BW$1)+$L6*$BH6*($BU$1-$BW$1)+$N6*$BL6*($BU$1-$BV$1))*1.05+$BT6*(5.95))/1000 -> 35.276893 | BX6: =(($D6*$BI6*($BU$1-$BX$1)+$J6*$BG6*($BU$1-$BW$1)+$L6*$BM6*($BU$1-$BW$1)+$N6*$BJ6*($BU$1-$BV$1))*1.05+$BT6*(5.95))/1000 -> 35.772492 | BY6: =(($D6*$BN6*($BU$1-$BX$1)+$J6*$BG6*($BU$1-$BW$1)+$L6*$BH6*($BU$1-$BW$1)+$N6*$BJ6*($BU$1-$BV$1))*1.05+$BT6*(5.95))/1000 -> 35.772492 | BZ6: =BU6*1152.4 -> 41224.22 | CA6: =BV6*1152.4 -> 41224.22 | CB6: =BW6*1152.4 -> 40653.091 | CC6: =BX6*1152.4 -> 41224.22 | CD6: =BY6*1152.4 -> 41224.22
A7: 4 | B7: Burgas | C7: Aleksander Stamboliyski 32 | D7: 145.1 | E7: =0.8*D7*H7 -> 928.64 | F7: 49.2 | G7: Ground | H7: 8 | I7: 25.5 | J7: =F7*I7-L7 -> 1003.68 | K7: N | L7: 250.92 | M7: 225.8 | N7: 152.355 | O7: Sloped | P7: N | Q7: Individual | R7: Electricity, natural gas | S7: =BZ7 -> 87351.002 | T7: =S7/E7 -> 94.063364 | U7: =CA7 -> 48983.002 | V7: =IF(ISBLANK(D7)," ",S7-U7) -> 38368.001 | W7: =CB7 -> 77715.266 | X7: =IF(ISBLANK(D7)," ",S7-W7) -> 9635.7363 | Y7: =CC7 -> 86021.19 | Z7: =IF(ISBLANK(D7)," ",S7-Y7) -> 1329.812 | AA7: =CD7 -> 87351.002 | AB7: =IF(ISBLANK(D7)," ",S7-AA7) -> 0 | AC7: =V7+X7+Z7+AB7 -> 49333.549 | AD7: =IF(ISBLANK(D7)," ",S7-AC7) -> 38017.453 | AE7: =AD7/E7 -> 40.93885 | AF7: =1-AD7/S7 -> 0.5647737 | AG7: =IF(ISBLANK($D7),"",S7*_xlfn.XLOOKUP(Q7,DATA!$B$24:$B$25,DATA!$C$24:$C$25,"error",0,1)/1000) -> 11.702111 | AH7: =IF(ISBLANK($D7),"",V7*_xlfn.XLOOKUP(Q7,DATA!$B$24:$B$25,DATA!$C$24:$C$25,"error",0,1)/1000) -> 5.140028 | AI7: =IF(ISBLANK($D7),"",X7*_xlfn.XLOOKUP(Q7,DATA!$B$24:$B$25,DATA!$C$24:$C$25,"error",0,1)/1000) -> 1.2908662 | AJ7: =IF(ISBLANK($D7),"",Z7*_xlfn.XLOOKUP(Q7,DATA!$B$24:$B$25,DATA!$C$24:$C$25,"error",0,1)/1000) -> 0.1781503 | AK7: =IF(ISBLANK($D7),"",AB7*_xlfn.XLOOKUP(Q7,DATA!$B$24:$B$25,DATA!$C$24:$C$25,"error",0,1)/1000) -> 0 | AL7: =SUM(AH7:AK7) -> 6.6090445 | AM7: =IF(ISBLANK($D7),"",AG7-AL7) -> 5.0930664 | AN7: =IF(ISBLANK($D7),"",$S7*0.0135790158248428/1000) -> 1.1861406 | AO7: =IF(ISBLANK($D7),"",$V7*0.0135790158248428/1000) -> 0.52099969 | AP7: =IF(ISBLANK($D7),"",$X7*0.0135790158248428/1000) -> 0.13084382 | AQ7: =IF(ISBLANK($D7),"",$Z7*0.0135790158248428/1000) -> 0.018057538 | AR7: =IF(ISBLANK($D7),"",$AB7*0.0135790158248428/1000) -> 0 | AS7: =IF(ISBLANK($D7),"",$AC7*0.0135790158248428/1000) -> 0.66990104 | AT7: =IF(ISBLANK($D7),"",AN7-AS7) -> 0.5162396 | AU7: =IF(ISBLANK($D7),"",$S7*0.000738514285714286/1000) -> 0.064509963 | AV7: =IF(ISBLANK($D7),"",$V7*0.000738514285714286/1000) -> 0.028335317 | AW7: =IF(ISBLANK($D7),"",$X7*0.000738514285714286/1000) -> 0.0071161289 | AX7: =IF(ISBLANK($D7),"",$Z7*0.000738514285714286/1000) -> 0.00098208514 | AY7: =IF(ISBLANK($D7),"",$AB7*0.000738514285714286/1000) -> 0 | AZ7: =IF(ISBLANK($D7),"",$AC7*0.000738514285714286/1000) -> 0.036433531 | BA7: =IF(ISBLANK($D7),"",AU7-AZ7) -> 0.028076432 | BB7: =IF(V7>0,J7*DATA!$C$4,0) -> 65239.2 | BC7: =IF(X7>0,N7*_xlfn.XLOOKUP(Burgas!O7,DATA!$B$5:$B$6,DATA!$C$5:$C$6,"error",0,1),0) -> 7313.04 | BD7: =IF(Z7>0,(L7-M7)*DATA!$C$7,"0,00 ") -> 3768 | BE7: =IF(G7="basement",D7*DATA!$C$8,IF(G7="ground",0,"error")) -> 0 | BF7: =BB7+BC7+BD7+BE7 -> 76320.24 | BG7: 1.48 | BH7: 1.2751953 | BI7: =IF(G7="ground",0.57,IF(G7="basement",0.85,"error")) -> 0.57 | BJ7: 2.33 | BK7: =IF(K7="N",1/((1/BG7)+0.15/0.038),BG7) -> 0.21630769 | BL7: =IF(O7="sloped",1/(1/BJ7+0.15/0.04),IF(O7="flat",1/(1/BJ7+0.15/0.034),"error")) -> 0.23928113 | BM7: 1.1 | BN7: =IF(BI7=0.85,1/(1/BI7+0.05/0.038),BI7) -> 0.57 | BP7: =D7*BS7 -> 3700.05 | BQ7: =H7 -> 8 | BR7: =0.32*BP7 -> 1184.016 | BS7: =I7 -> 25.5 | BT7: =IF(BQ7<=3,0.76*BP7,0.8*BP7) -> 2960.04 | BU7: =(($D7*$BI7*($BU$1-$BX$1)+$J7*$BG7*($BU$1-$BW$1)+$L7*$BH7*($BU$1-$BW$1)+$N7*$BJ7*($BU$1-$BV$1))*1.05+$BT7*(5.95))/1000 -> 75.799204 | BV7: =(($D7*$BI7*($BU$1-$BX$1)+$J7*$BK7*($BU$1-$BW$1)+$L7*$BH7*($BU$1-$BW$1)+$N7*$BJ7*($BU$1-$BV$1))*1.05+$BT7*(5.95))/1000 -> 42.505208 | BW7: =(($D7*$BI7*($BU$1-$BX$1)+$J7*$BG7*($BU$1-$BW$1)+$L7*$BH7*($BU$1-$BW$1)+$N7*$BL7*($BU$1-$BV$1))*1.05+$BT7*(5.95))/1000 -> 67.437752 | BX7: =(($D7*$BI7*($BU$1-$BX$1)+$J7*$BG7*($BU$1-$BW$1)+$L7*$BM7*($BU$1-$BW$1)+$N7*$BJ7*($BU$1-$BV$1))*1.05+$BT7*(5.95))/1000 -> 74.645254 | BY7: =(($D7*$BN7*($BU$1-$BX$1)+$J7*$BG7*($BU$1-$BW$1)+$L7*$BH7*($BU$1-$BW$1)+$N7*$BJ7*($BU$1-$BV$1))*1.05+$BT7*(5.95))/1000 -> 75.799204 | BZ7: =BU7*1152.4 -> 87351.002 | CA7: =BV7*1152.4 -> 48983.002 | CB7: =BW7*1152.4 -> 77715.266 | CC7: =BX7*1152.4 -> 86021.19 | CD7: =BY7*1152.4 -> 87351.002
A8: 5 | B8: Burgas | C8: Aleksander Stamboliyski 34 | D8: 97.7 | E8: =0.8*D8*H8 -> 625.28 | F8: 42.8 | G8: Ground | H8: 8 | I8: 25.5 | J8: =F8*I8-L8 -> 873.12 | K8: N | L8: 218.28 | M8: 152.8 | N8: 102.585 | O8: Sloped | P8: N | Q8: Individual | R8: Electricity, natural gas | S8: =BZ8 -> 71862.24 | T8: =S8/E8 -> 114.9281 | U8: =CA8 -> 38485.199 | V8: =IF(ISBLANK(D8)," ",S8-U8) -> 33377.041 | W8: =CB8 -> 65374.222 | X8: =IF(ISBLANK(D8)," ",S8-W8) -> 6488.0182 | Y8: =CC8 -> 68395.835 | Z8: =IF(ISBLANK(D8)," ",S8-Y8) -> 3466.4048 | AA8: =CD8 -> 71862.24 | AB8: =IF(ISBLANK(D8)," ",S8-AA8) -> 0 | AC8: =V8+X8+Z8+AB8 -> 43331.464 | AD8: =IF(ISBLANK(D8)," ",S8-AC8) -> 28530.776 | AE8: =AD8/E8 -> 45.628799 | AF8: =1-AD8/S8 -> 0.60297959 | AG8: =IF(ISBLANK($D8),"",S8*_xlfn.XLOOKUP(Q8,DATA!$B$24:$B$25,DATA!$C$24:$C$25,"error",0,1)/1000) -> 9.6271351 | AH8: =IF(ISBLANK($D8),"",V8*_xlfn.XLOOKUP(Q8,DATA!$B$24:$B$25,DATA!$C$24:$C$25,"error",0,1)/1000) -> 4.4714065 | AI8: =IF(ISBLANK($D8),"",X8*_xlfn.XLOOKUP(Q8,DATA!$B$24:$B$25,DATA!$C$24:$C$25,"error",0,1)/1000) -> 0.8691773 | AJ8: =IF(ISBLANK($D8),"",Z8*_xlfn.XLOOKUP(Q8,DATA!$B$24:$B$25,DATA!$C$24:$C$25,"error",0,1)/1000) -> 0.46438223 | AK8: =IF(ISBLANK($D8),"",AB8*_xlfn.XLOOKUP(Q8,DATA!$B$24:$B$25,DATA!$C$24:$C$25,"error",0,1)/1000) -> 0 | AL8: =SUM(AH8:AK8) -> 5.804966 | AM8: =IF(ISBLANK($D8),"",AG8-AL8) -> 3.8221691 | AN8: =IF(ISBLANK($D8),"",$S8*0.0135790158248428/1000) -> 0.97581849 | AO8: =IF(ISBLANK($D8),"",$V8*0.0135790158248428/1000) -> 0.45322737 | AP8: =IF(ISBLANK($D8),"",$X8*0.0135790158248428/1000) -> 0.088100902 | AQ8: =IF(ISBLANK($D8),"",$Z8*0.0135790158248428/1000) -> 0.047070366 | AR8: =IF(ISBLANK($D8),"",$AB8*0.0135790158248428/1000) -> 0 | AS8: =IF(ISBLANK($D8),"",$AC8*0.0135790158248428/1000) -> 0.58839864 | AT8: =IF(ISBLANK($D8),"",AN8-AS8) -> 0.38741985 | AU8: =IF(ISBLANK($D8),"",$S8*0.000738514285714286/1000) -> 0.053071291 | AV8: =IF(ISBLANK($D8),"",$V8*0.000738514285714286/1000) -> 0.024649422 | AW8: =IF(ISBLANK($D8),"",$X8*0.000738514285714286/1000) -> 0.0047914941 | AX8: =IF(ISBLANK($D8),"",$Z8*0.000738514285714286/1000) -> 0.0025599895 | AY8: =IF(ISBLANK($D8),"",$AB8*0.000738514285714286/1000) -> 0 | AZ8: =IF(ISBLANK($D8),"",$AC8*0.000738514285714286/1000) -> 0.032000905 | BA8: =IF(ISBLANK($D8),"",AU8-AZ8) -> 0.021070385 | BB8: =IF(V8>0,J8*DATA!$C$4,0) -> 56752.8 | BC8: =IF(X8>0,N8*_xlfn.XLOOKUP(Burgas!O8,DATA!$B$5:$B$6,DATA!$C$5:$C$6,"error",0,1),0) -> 4924.08 | BD8: =IF(Z8>0,(L8-M8)*DATA!$C$7,"0,00 ") -> 9822 | BE8: =IF(G8="basement",D8*DATA!$C$8,IF(G8="ground",0,"error")) -> 0 | BF8: =BB8+BC8+BD8+BE8 -> 71498.88 | BG8: 1.48 | BH8: 1.6249679 | BI8: =IF(G8="ground",0.57,IF(G8="basement",0.85,"error")) -> 0.57 | BJ8: 2.33 | BK8: =IF(K8="N",1/((1/BG8)+0.15/0.038),BG8) -> 0.21630769 | BL8: =IF(O8="sloped",1/(1/BJ8+0.15/0.04),IF(O8="flat",1/(1/BJ8+0.15/0.034),"error")) -> 0.23928113 | BM8: 1.1 | BN8: =IF(BI8=0.85,1/(1/BI8+0.05/0.038),BI8) -> 0.57 | BP8: =D8*BS8 -> 2491.35 | BQ8: =H8 -> 8 | BR8: =0.32*BP8 -> 797.232 | BS8: =I8 -> 25.5 | BT8: =IF(BQ8<=3,0.76*BP8,0.8*BP8) -> 1993.08 | BU8: =(($D8*$BI8*($BU$1-$BX$1)+$J8*$BG8*($BU$1-$BW$1)+$L8*$BH8*($BU$1-$BW$1)+$N8*$BJ8*($BU$1-$BV$1))*1.05+$BT8*(5.95))/1000 -> 62.358764 | BV8: =(($D8*$BI8*($BU$1-$BX$1)+$J8*$BK8*($BU$1-$BW$1)+$L8*$BH8*($BU$1-$BW$1)+$N8*$BJ8*($BU$1-$BV$1))*1.05+$BT8*(5.95))/1000 -> 33.395695 | BW8: =(($D8*$BI8*($BU$1-$BX$1)+$J8*$BG8*($BU$1-$BW$1)+$L8*$BH8*($BU$1-$BW$1)+$N8*$BL8*($BU$1-$BV$1))*1.05+$BT8*(5.95))/1000 -> 56.728759 | BX8: =(($D8*$BI8*($BU$1-$BX$1)+$J8*$BG8*($BU$1-$BW$1)+$L8*$BM8*($BU$1-$BW$1)+$N8*$BJ8*($BU$1-$BV$1))*1.05+$BT8*(5.95))/1000 -> 59.350777 | BY8: =(($D8*$BN8*($BU$1-$BX$1)+$J8*$BG8*($BU$1-$BW$1)+$L8*$BH8*($BU$1-$BW$1)+$N8*$BJ8*($BU$1-$BV$1))*1.05+$BT8*(5.95))/1000 -> 62.358764 | BZ8: =BU8*1152.4 -> 71862.24 | CA8: =BV8*1152.4 -> 38485.199 | CB8: =BW8*1152.4 -> 65374.222 | CC8: =BX8*1152.4 -> 68395.835 | CD8: =BY8*1152.4 -> 71862.24
A9: 6 | B9: Burgas | C9: Aleksander Stamboliyski 36 | D9: 88.6 | E9: =0.8*D9*H9 -> 496.16 | F9: 37.8 | G9: Ground | H9: 7 | I9: 22.25 | J9: =F9*I9-L9 -> 672.84 | K9: N | L9: 168.21 | M9: 58.9 | N9: 93.03 | O9: Sloped | P9: N | Q9: Individual | R9: Electricity, natural gas | S9: =BZ9 -> 59917.148 | T9: =S9/E9 -> 120.76175 | U9: =CA9 -> 34196.275 | V9: =IF(ISBLANK(D9)," ",S9-U9) -> 25720.873 | W9: =CB9 -> 54033.439 | X9: =IF(ISBLANK(D9)," ",S9-W9) -> 5883.7094 | Y9: =CC9 -> 54130.454 | Z9: =IF(ISBLANK(D9)," ",S9-Y9) -> 5786.6938 | AA9: =CD9 -> 59917.148 | AB9: =IF(ISBLANK(D9)," ",S9-AA9) -> 0 | AC9: =V9+X9+Z9+AB9 -> 37391.276 | AD9: =IF(ISBLANK(D9)," ",S9-AC9) -> 22525.872 | AE9: =AD9/E9 -> 45.400419 | AF9: =1-AD9/S9 -> 0.62404966 | AG9: =IF(ISBLANK($D9),"",S9*_xlfn.XLOOKUP(Q9,DATA!$B$24:$B$25,DATA!$C$24:$C$25,"error",0,1)/1000) -> 8.0268926 | AH9: =IF(ISBLANK($D9),"",V9*_xlfn.XLOOKUP(Q9,DATA!$B$24:$B$25,DATA!$C$24:$C$25,"error",0,1)/1000) -> 3.4457361 | AI9: =IF(ISBLANK($D9),"",X9*_xlfn.XLOOKUP(Q9,DATA!$B$24:$B$25,DATA!$C$24:$C$25,"error",0,1)/1000) -> 0.78822015 | AJ9: =IF(ISBLANK($D9),"",Z9*_xlfn.XLOOKUP(Q9,DATA!$B$24:$B$25,DATA!$C$24:$C$25,"error",0,1)/1000) -> 0.7752233 | AK9: =IF(ISBLANK($D9),"",AB9*_xlfn.XLOOKUP(Q9,DATA!$B$24:$B$25,DATA!$C$24:$C$25,"error",0,1)/1000) -> 0 | AL9: =SUM(AH9:AK9) -> 5.0091796 | AM9: =IF(ISBLANK($D9),"",AG9-AL9) -> 3.017713 | AN9: =IF(ISBLANK($D9),"",$S9*0.0135790158248428/1000) -> 0.8136159 | AO9: =IF(ISBLANK($D9),"",$V9*0.0135790158248428/1000) -> 0.34926414 | AP9: =IF(ISBLANK($D9),"",$X9*0.0135790158248428/1000) -> 0.079894984 | AQ9: =IF(ISBLANK($D9),"",$Z9*0.0135790158248428/1000) -> 0.078577606 | AR9: =IF(ISBLANK($D9),"",$AB9*0.0135790158248428/1000) -> 0 | AS9: =IF(ISBLANK($D9),"",$AC9*0.0135790158248428/1000) -> 0.50773673 | AT9: =IF(ISBLANK($D9),"",AN9-AS9) -> 0.30587917 | AU9: =IF(ISBLANK($D9),"",$S9*0.000738514285714286/1000) -> 0.04424967 | AV9: =IF(ISBLANK($D9),"",$V9*0.000738514285714286/1000) -> 0.018995232 | AW9: =IF(ISBLANK($D9),"",$X9*0.000738514285714286/1000) -> 0.0043452035 | AX9: =IF(ISBLANK($D9),"",$Z9*0.000738514285714286/1000) -> 0.004273556 | AY9: =IF(ISBLANK($D9),"",$AB9*0.000738514285714286/1000) -> 0 | AZ9: =IF(ISBLANK($D9),"",$AC9*0.000738514285714286/1000) -> 0.027613991 | BA9: =IF(ISBLANK($D9),"",AU9-AZ9) -> 0.016635678 | BB9: =IF(V9>0,J9*DATA!$C$4,0) -> 43734.6 | BC9: =IF(X9>0,N9*_xlfn.XLOOKUP(Burgas!O9,DATA!$B$5:$B$6,DATA!$C$5:$C$6,"error",0,1),0) -> 4465.44 | BD9: =IF(Z9>0,(L9-M9)*DATA!$C$7,"0,00 ") -> 16396.5 | BE9: =IF(G9="basement",D9*DATA!$C$8,IF(G9="ground",0,"error")) -> 0 | BF9: =BB9+BC9+BD9+BE9 -> 64596.54 | BG9: 1.48 | BH9: 2.2372243 | BI9: =IF(G9="ground",0.57,IF(G9="basement",0.85,"error")) -> 0.57 | BJ9: 2.33 | BK9: =IF(K9="N",1/((1/BG9)+0.15/0.038),BG9) -> 0.21630769 | BL9: =IF(O9="sloped",1/(1/BJ9+0.15/0.04),IF(O9="flat",1/(1/BJ9+0.15/0.034),"error")) -> 0.23928113 | BM9: 1.1 | BN9: =IF(BI9=0.85,1/(1/BI9+0.05/0.038),BI9) -> 0.57 | BP9: =D9*BS9 -> 1971.35 | BQ9: =H9 -> 7 | BR9: =0.32*BP9 -> 630.832 | BS9: =I9 -> 22.25 | BT9: =IF(BQ9<=3,0.76*BP9,0.8*BP9) -> 1577.08 | BU9: =(($D9*$BI9*($BU$1-$BX$1)+$J9*$BG9*($BU$1-$BW$1)+$L9*$BH9*($BU$1-$BW$1)+$N9*$BJ9*($BU$1-$BV$1))*1.05+$BT9*(5.95))/1000 -> 51.99336 | BV9: =(($D9*$BI9*($BU$1-$BX$1)+$J9*$BK9*($BU$1-$BW$1)+$L9*$BH9*($BU$1-$BW$1)+$N9*$BJ9*($BU$1-$BV$1))*1.05+$BT9*(5.95))/1000 -> 29.673963 | BW9: =(($D9*$BI9*($BU$1-$BX$1)+$J9*$BG9*($BU$1-$BW$1)+$L9*$BH9*($BU$1-$BW$1)+$N9*$BL9*($BU$1-$BV$1))*1.05+$BT9*(5.95))/1000 -> 46.887746 | BX9: =(($D9*$BI9*($BU$1-$BX$1)+$J9*$BG9*($BU$1-$BW$1)+$L9*$BM9*($BU$1-$BW$1)+$N9*$BJ9*($BU$1-$BV$1))*1.05+$BT9*(5.95))/1000 -> 46.971932 | BY9: =(($D9*$BN9*($BU$1-$BX$1)+$J9*$BG9*($BU$1-$BW$1)+$L9*$BH9*($BU$1-$BW$1)+$N9*$BJ9*($BU$1-$BV$1))*1.05+$BT9*(5.95))/1000 -> 51.99336 | BZ9: =BU9*1152.4 -> 59917.148 | CA9: =BV9*1152.4 -> 34196.275 | CB9: =BW9*1152.4 -> 54033.439 | CC9: =BX9*1152.4 -> 54130.454 | CD9: =BY9*1152.4 -> 59917.148
A10: 7 | B10: Burgas | C10: Aleksander Stamboliyski 38; Ivaylo 56 | D10: 288.8 | E10: =0.8*D10*H10 -> 1617.28 | F10: 85.7 | G10: Ground | H10: 7 | I10: 22.25 | J10: =F10*I10-L10 -> 1525.455 | K10: N | L10: 381.37 | M10: 113.6 | N10: 303.24 | O10: Sloped | P10: N | Q10: Individual | R10: Electricity, natural gas | S10: =BZ10 -> 155169.27 | T10: =S10/E10 -> 95.944589 | U10: =CA10 -> 96855.203 | V10: =IF(ISBLANK(D10)," ",S10-U10) -> 58314.063 | W10: =CB10 -> 135990.76 | X10: =IF(ISBLANK(D10)," ",S10-W10) -> 19178.502 | Y10: =CC10 -> 140993.96 | Z10: =IF(ISBLANK(D10)," ",S10-Y10) -> 14175.309 | AA10: =CD10 -> 155169.27 | AB10: =IF(ISBLANK(D10)," ",S10-AA10) -> 0 | AC10: =V10+X10+Z10+AB10 -> 91667.874 | AD10: =IF(ISBLANK(D10)," ",S10-AC10) -> 63501.392 | AE10: =AD10/E10 -> 39.264315 | AF10: =1-AD10/S10 -> 0.5907605 | AG10: =IF(ISBLANK($D10),"",S10*_xlfn.XLOOKUP(Q10,DATA!$B$24:$B$25,DATA!$C$24:$C$25,"error",0,1)/1000) -> 20.787488 | AH10: =IF(ISBLANK($D10),"",V10*_xlfn.XLOOKUP(Q10,DATA!$B$24:$B$25,DATA!$C$24:$C$25,"error",0,1)/1000) -> 7.8121328 | AI10: =IF(ISBLANK($D10),"",X10*_xlfn.XLOOKUP(Q10,DATA!$B$24:$B$25,DATA!$C$24:$C$25,"error",0,1)/1000) -> 2.5692774 | AJ10: =IF(ISBLANK($D10),"",Z10*_xlfn.XLOOKUP(Q10,DATA!$B$24:$B$25,DATA!$C$24:$C$25,"error",0,1)/1000) -> 1.899017 | AK10: =IF(ISBLANK($D10),"",AB10*_xlfn.XLOOKUP(Q10,DATA!$B$24:$B$25,DATA!$C$24:$C$25,"error",0,1)/1000) -> 0 | AL10: =SUM(AH10:AK10) -> 12.280427 | AM10: =IF(ISBLANK($D10),"",AG10-AL10) -> 8.5070613 | AN10: =IF(ISBLANK($D10),"",$S10*0.0135790158248428/1000) -> 2.1070459 | AO10: =IF(ISBLANK($D10),"",$V10*0.0135790158248428/1000) -> 0.79184758 | AP10: =IF(ISBLANK($D10),"",$X10*0.0135790158248428/1000) -> 0.26042518 | AQ10: =IF(ISBLANK($D10),"",$Z10*0.0135790158248428/1000) -> 0.19248674 | AR10: =IF(ISBLANK($D10),"",$AB10*0.0135790158248428/1000) -> 0 | AS10: =IF(ISBLANK($D10),"",$AC10*0.0135790158248428/1000) -> 1.2447595 | AT10: =IF(ISBLANK($D10),"",AN10-AS10) -> 0.86228641 | AU10: =IF(ISBLANK($D10),"",$S10*0.000738514285714286/1000) -> 0.11459472 | AV10: =IF(ISBLANK($D10),"",$V10*0.000738514285714286/1000) -> 0.043065768 | AW10: =IF(ISBLANK($D10),"",$X10*0.000738514285714286/1000) -> 0.014163598 | AX10: =IF(ISBLANK($D10),"",$Z10*0.000738514285714286/1000) -> 0.010468668 | AY10: =IF(ISBLANK($D10),"",$AB10*0.000738514285714286/1000) -> 0 | AZ10: =IF(ISBLANK($D10),"",$AC10*0.000738514285714286/1000) -> 0.067698034 | BA10: =IF(ISBLANK($D10),"",AU10-AZ10) -> 0.046896685 | BB10: =IF(V10>0,J10*DATA!$C$4,0) -> 99154.575 | BC10: =IF(X10>0,N10*_xlfn.XLOOKUP(Burgas!O10,DATA!$B$5:$B$6,DATA!$C$5:$C$6,"error",0,1),0) -> 14555.52 | BD10: =IF(Z10>0,(L10-M10)*DATA!$C$7,"0,00 ") -> 40165.5 | BE10: =IF(G10="basement",D10*DATA!$C$8,IF(G10="ground",0,"error")) -> 0 | BF10: =BB10+BC10+BD10+BE10 -> 153875.6 | BG10: 1.48 | BH10: 2.3287215 | BI10: =IF(G10="ground",0.57,IF(G10="basement",0.85,"error")) -> 0.57 | BJ10: 2.33 | BK10: =IF(K10="N",1/((1/BG10)+0.15/0.038),BG10) -> 0.21630769 | BL10: =IF(O10="sloped",1/(1/BJ10+0.15/0.04),IF(O10="flat",1/(1/BJ10+0.15/0.034),"error")) -> 0.23928113 | BM10: 1.1 | BN10: =IF(BI10=0.85,1/(1/BI10+0.05/0.038),BI10) -> 0.57 | BP10: =D10*BS10 -> 6425.8 | BQ10: =H10 -> 7 | BR10: =0.32*BP10 -> 2056.256 | BS10: =I10 -> 22.25 | BT10: =IF(BQ10<=3,0.76*BP10,0.8*BP10) -> 5140.64 | BU10: =(($D10*$BI10*($BU$1-$BX$1)+$J10*$BG10*($BU$1-$BW$1)+$L10*$BH10*($BU$1-$BW$1)+$N10*$BJ10*($BU$1-$BV$1))*1.05+$BT10*(5.95))/1000 -> 134.64879 | BV10: =(($D10*$BI10*($BU$1-$BX$1)+$J10*$BK10*($BU$1-$BW$1)+$L10*$BH10*($BU$1-$BW$1)+$N10*$BJ10*($BU$1-$BV$1))*1.05+$BT10*(5.95))/1000 -> 84.046514 | BW10: =(($D10*$BI10*($BU$1-$BX$1)+$J10*$BG10*($BU$1-$BW$1)+$L10*$BH10*($BU$1-$BW$1)+$N10*$BL10*($BU$1-$BV$1))*1.05+$BT10*(5.95))/1000 -> 118.00656 | BX10: =(($D10*$BI10*($BU$1-$BX$1)+$J10*$BG10*($BU$1-$BW$1)+$L10*$BM10*($BU$1-$BW$1)+$N10*$BJ10*($BU$1-$BV$1))*1.05+$BT10*(5.95))/1000 -> 122.34811 | BY10: =(($D10*$BN10*($BU$1-$BX$1)+$J10*$BG10*($BU$1-$BW$1)+$L10*$BH10*($BU$1-$BW$1)+$N10*$BJ10*($BU$1-$BV$1))*1.05+$BT10*(5.95))/1000 -> 134.64879 | BZ10: =BU10*1152.4 -> 155169.27 | CA10: =BV10*1152.4 -> 96855.203 | CB10: =BW10*1152.4 -> 135990.76 | CC10: =BX10*1152.4 -> 140993.96 | CD10: =BY10*1152.4 -> 155169.27
A11: 8 | B11: Burgas | C11: Aleksander Stamboliyski 38A | D11: 82.9 | E11: =0.8*D11*H11 -> 464.24 | F11: 36.8 | G11: Ground | H11: 7 | I11: 22.25 | J11: =F11*I11-L11 -> 655.04 | K11: Y | L11: 163.76 | M11: 163.76 | N11: 87.045 | O11: Sloped | P11: Y | Q11: Individual | R11: Electricity, natural gas | S11: =BZ11 -> 22072.332 | T11: =S11/E11 -> 47.545089 | U11: =CA11 -> 22072.332 | V11: =IF(ISBLANK(D11)," ",S11-U11) -> 0 | W11: =CB11 -> 21810.459 | X11: =IF(ISBLANK(D11)," ",S11-W11) -> 261.87265 | Y11: =CC11 -> 22072.332 | Z11: =IF(ISBLANK(D11)," ",S11-Y11) -> 0 | AA11: =CD11 -> 22072.332 | AB11: =IF(ISBLANK(D11)," ",S11-AA11) -> 0 | AC11: =V11+X11+Z11+AB11 -> 261.87265 | AD11: =IF(ISBLANK(D11)," ",S11-AC11) -> 21810.459 | AE11: =AD11/E11 -> 46.981 | AF11: =1-AD11/S11 -> 0.011864295 | AG11: =IF(ISBLANK($D11),"",S11*_xlfn.XLOOKUP(Q11,DATA!$B$24:$B$25,DATA!$C$24:$C$25,"error",0,1)/1000) -> 2.9569538 | AH11: =IF(ISBLANK($D11),"",V11*_xlfn.XLOOKUP(Q11,DATA!$B$24:$B$25,DATA!$C$24:$C$25,"error",0,1)/1000) -> 0 | AI11: =IF(ISBLANK($D11),"",X11*_xlfn.XLOOKUP(Q11,DATA!$B$24:$B$25,DATA!$C$24:$C$25,"error",0,1)/1000) -> 0.035082171 | AJ11: =IF(ISBLANK($D11),"",Z11*_xlfn.XLOOKUP(Q11,DATA!$B$24:$B$25,DATA!$C$24:$C$25,"error",0,1)/1000) -> 0 | AK11: =IF(ISBLANK($D11),"",AB11*_xlfn.XLOOKUP(Q11,DATA!$B$24:$B$25,DATA!$C$24:$C$25,"error",0,1)/1000) -> 0 | AL11: =SUM(AH11:AK11) -> 0.035082171 | AM11: =IF(ISBLANK($D11),"",AG11-AL11) -> 2.9218716 | AN11: =IF(ISBLANK($D11),"",$S11*0.0135790158248428/1000) -> 0.29972055 | AO11: =IF(ISBLANK($D11),"",$V11*0.0135790158248428/1000) -> 0 | AP11: =IF(ISBLANK($D11),"",$X11*0.0135790158248428/1000) -> 0.0035559729 | AQ11: =IF(ISBLANK($D11),"",$Z11*0.0135790158248428/1000) -> 0 | AR11: =IF(ISBLANK($D11),"",$AB11*0.0135790158248428/1000) -> 0 | AS11: =IF(ISBLANK($D11),"",$AC11*0.0135790158248428/1000) -> 0.0035559729 | AT11: =IF(ISBLANK($D11),"",AN11-AS11) -> 0.29616457 | AU11: =IF(ISBLANK($D11),"",$S11*0.000738514285714286/1000) -> 0.016300732 | AV11: =IF(ISBLANK($D11),"",$V11*0.000738514285714286/1000) -> 0 | AW11: =IF(ISBLANK($D11),"",$X11*0.000738514285714286/1000) -> 0.0001933967 | AX11: =IF(ISBLANK($D11),"",$Z11*0.000738514285714286/1000) -> 0 | AY11: =IF(ISBLANK($D11),"",$AB11*0.000738514285714286/1000) -> 0 | AZ11: =IF(ISBLANK($D11),"",$AC11*0.000738514285714286/1000) -> 0.0001933967 | BA11: =IF(ISBLANK($D11),"",AU11-AZ11) -> 0.016107336 | BB11: =IF(V11>0,J11*DATA!$C$4,0) -> 0 | BC11: =IF(X11>0,N11*_xlfn.XLOOKUP(Burgas!O11,DATA!$B$5:$B$6,DATA!$C$5:$C$6,"error",0,1),0) -> 4178.16 | BD11: =IF(Z11>0,(L11-M11)*DATA!$C$7,"0,00 ") -> 0,00 | BE11: =IF(G11="basement",D11*DATA!$C$8,IF(G11="ground",0,"error")) -> 0 | BF11: =BB11+BC11+BD11+BE11 -> 4178.16 | BG11: 0.25 | BH11: 1.1 | BI11: =IF(G11="ground",0.57,IF(G11="basement",0.85,"error")) -> 0.57 | BJ11: 0.22 | BK11: =IF(K11="N",1/((1/BG11)+0.15/0.038),BG11) -> 0.25 | BL11: =IF(O11="sloped",1/(1/BJ11+0.15/0.04),IF(O11="flat",1/(1/BJ11+0.15/0.034),"error")) -> 0.12054795 | BM11: 1.1 | BN11: =IF(BI11=0.85,1/(1/BI11+0.05/0.038),BI11) -> 0.57 | BP11: =D11*BS11 -> 1844.525 | BQ11: =H11 -> 7 | BR11: =0.32*BP11 -> 590.248 | BS11: =I11 -> 22.25 | BT11: =IF(BQ11<=3,0.76*BP11,0.8*BP11) -> 1475.62 | BU11: =(($D11*$BI11*($BU$1-$BX$1)+$J11*$BG11*($BU$1-$BW$1)+$L11*$BH11*($BU$1-$BW$1)+$N11*$BJ11*($BU$1-$BV$1))*1.05+$BT11*(5.95))/1000 -> 19.15336 | BV11: =(($D11*$BI11*($BU$1-$BX$1)+$J11*$BK11*($BU$1-$BW$1)+$L11*$BH11*($BU$1-$BW$1)+$N11*$BJ11*($BU$1-$BV$1))*1.05+$BT11*(5.95))/1000 -> 19.15336 | BW11: =(($D11*$BI11*($BU$1-$BX$1)+$J11*$BG11*($BU$1-$BW$1)+$L11*$BH11*($BU$1-$BW$1)+$N11*$BL11*($BU$1-$BV$1))*1.05+$BT11*(5.95))/1000 -> 18.926119 | BX11: =(($D11*$BI11*($BU$1-$BX$1)+$J11*$BG11*($BU$1-$BW$1)+$L11*$BM11*($BU$1-$BW$1)+$N11*$BJ11*($BU$1-$BV$1))*1.05+$BT11*(5.95))/1000 -> 19.15336 | BY11: =(($D11*$BN11*($BU$1-$BX$1)+$J11*$BG11*($BU$1-$BW$1)+$L11*$BH11*($BU$1-$BW$1)+$N11*$BJ11*($BU$1-$BV$1))*1.05+$BT11*(5.95))/1000 -> 19.15336 | BZ11: =BU11*1152.4 -> 22072.332 | CA11: =BV11*1152.4 -> 22072.332 | CB11: =BW11*1152.4 -> 21810.459 | CC11: =BX11*1152.4 -> 22072.332 | CD11: =BY11*1152.4 -> 22072.332
A12: 9 | B12: Burgas | C12: Aleksander Stamboliyski 39 | D12: 296.9 | E12: =0.8*D12*H12 -> 1425.12 | F12: 69 | G12: Ground | H12: 6 | I12: 20.5 | J12: =F12*I12-L12 -> 1131.6 | K12: Y | L12: 282.9 | M12: 226.32 | N12: 311.745 | O12: Sloped | P12: N | Q12: Individual | R12: Electricity, natural gas | S12: =BZ12 -> 79807.642 | T12: =S12/E12 -> 56.000647 | U12: =CA12 -> 79807.642 | V12: =IF(ISBLANK(D12)," ",S12-U12) -> 0 | W12: =CB12 -> 60091.239 | X12: =IF(ISBLANK(D12)," ",S12-W12) -> 19716.403 | Y12: =CC12 -> 76812.389 | Z12: =IF(ISBLANK(D12)," ",S12-Y12) -> 2995.2533 | AA12: =CD12 -> 79807.642 | AB12: =IF(ISBLANK(D12)," ",S12-AA12) -> 0 | AC12: =V12+X12+Z12+AB12 -> 22711.657 | AD12: =IF(ISBLANK(D12)," ",S12-AC12) -> 57095.986 | AE12: =AD12/E12 -> 40.063985 | AF12: =1-AD12/S12 -> 0.28457997 | AG12: =IF(ISBLANK($D12),"",S12*_xlfn.XLOOKUP(Q12,DATA!$B$24:$B$25,DATA!$C$24:$C$25,"error",0,1)/1000) -> 10.691553 | AH12: =IF(ISBLANK($D12),"",V12*_xlfn.XLOOKUP(Q12,DATA!$B$24:$B$25,DATA!$C$24:$C$25,"error",0,1)/1000) -> 0 | AI12: =IF(ISBLANK($D12),"",X12*_xlfn.XLOOKUP(Q12,DATA!$B$24:$B$25,DATA!$C$24:$C$25,"error",0,1)/1000) -> 2.6413382 | AJ12: =IF(ISBLANK($D12),"",Z12*_xlfn.XLOOKUP(Q12,DATA!$B$24:$B$25,DATA!$C$24:$C$25,"error",0,1)/1000) -> 0.40126369 | AK12: =IF(ISBLANK($D12),"",AB12*_xlfn.XLOOKUP(Q12,DATA!$B$24:$B$25,DATA!$C$24:$C$25,"error",0,1)/1000) -> 0 | AL12: =SUM(AH12:AK12) -> 3.0426019 | AM12: =IF(ISBLANK($D12),"",AG12-AL12) -> 7.6489512 | AN12: =IF(ISBLANK($D12),"",$S12*0.0135790158248428/1000) -> 1.0837092 | AO12: =IF(ISBLANK($D12),"",$V12*0.0135790158248428/1000) -> 0 | AP12: =IF(ISBLANK($D12),"",$X12*0.0135790158248428/1000) -> 0.26772935 | AQ12: =IF(ISBLANK($D12),"",$Z12*0.0135790158248428/1000) -> 0.040672591 | AR12: =IF(ISBLANK($D12),"",$AB12*0.0135790158248428/1000) -> 0 | AS12: =IF(ISBLANK($D12),"",$AC12*0.0135790158248428/1000) -> 0.30840194 | AT12: =IF(ISBLANK($D12),"",AN12-AS12) -> 0.77530729 | AU12: =IF(ISBLANK($D12),"",$S12*0.000738514285714286/1000) -> 0.058939084 | AV12: =IF(ISBLANK($D12),"",$V12*0.000738514285714286/1000) -> 0 | AW12: =IF(ISBLANK($D12),"",$X12*0.000738514285714286/1000) -> 0.014560846 | AX12: =IF(ISBLANK($D12),"",$Z12*0.000738514285714286/1000) -> 0.0022120373 | AY12: =IF(ISBLANK($D12),"",$AB12*0.000738514285714286/1000) -> 0 | AZ12: =IF(ISBLANK($D12),"",$AC12*0.000738514285714286/1000) -> 0.016772883 | BA12: =IF(ISBLANK($D12),"",AU12-AZ12) -> 0.042166201 | BB12: =IF(V12>0,J12*DATA!$C$4,0) -> 0 | BC12: =IF(X12>0,N12*_xlfn.XLOOKUP(Burgas!O12,DATA!$B$5:$B$6,DATA!$C$5:$C$6,"error",0,1),0) -> 14963.76 | BD12: =IF(Z12>0,(L12-M12)*DATA!$C$7,"0,00 ") -> 8487 | BE12: =IF(G12="basement",D12*DATA!$C$8,IF(G12="ground",0,"error")) -> 0 | BF12: =BB12+BC12+BD12+BE12 -> 23450.76 | BG12: 0.25 | BH12: 1.45 | BI12: =IF(G12="ground",0.57,IF(G12="basement",0.85,"error")) -> 0.57 | BJ12: 2.33 | BK12: =IF(K12="N",1/((1/BG12)+0.15/0.038),BG12) -> 0.25 | BL12: =IF(O12="sloped",1/(1/BJ12+0.15/0.04),IF(O12="flat",1/(1/BJ12+0.15/0.034),"error")) -> 0.23928113 | BM12: 1.1 | BN12: =IF(BI12=0.85,1/(1/BI12+0.05/0.038),BI12) -> 0.57 | BP12: =D12*BS12 -> 6086.45 | BQ12: =H12 -> 6 | BR12: =0.32*BP12 -> 1947.664 | BS12: =I12 -> 20.5 | BT12: =IF(BQ12<=3,0.76*BP12,0.8*BP12) -> 4869.16 | BU12: =(($D12*$BI12*($BU$1-$BX$1)+$J12*$BG12*($BU$1-$BW$1)+$L12*$BH12*($BU$1-$BW$1)+$N12*$BJ12*($BU$1-$BV$1))*1.05+$BT12*(5.95))/1000 -> 69.253421 | BV12: =(($D12*$BI12*($BU$1-$BX$1)+$J12*$BK12*($BU$1-$BW$1)+$L12*$BH12*($BU$1-$BW$1)+$N12*$BJ12*($BU$1-$BV$1))*1.05+$BT12*(5.95))/1000 -> 69.253421 | BW12: =(($D12*$BI12*($BU$1-$BX$1)+$J12*$BG12*($BU$1-$BW$1)+$L12*$BH12*($BU$1-$BW$1)+$N12*$BL12*($BU$1-$BV$1))*1.05+$BT12*(5.95))/1000 -> 52.144428 | BX12: =(($D12*$BI12*($BU$1-$BX$1)+$J12*$BG12*($BU$1-$BW$1)+$L12*$BM12*($BU$1-$BW$1)+$N12*$BJ12*($BU$1-$BV$1))*1.05+$BT12*(5.95))/1000 -> 66.654277 | BY12: =(($D12*$BN12*($BU$1-$BX$1)+$J12*$BG12*($BU$1-$BW$1)+$L12*$BH12*($BU$1-$BW$1)+$N12*$BJ12*($BU$1-$BV$1))*1.05+$BT12*(5.95))/1000 -> 69.253421 | BZ12: =BU12*1152.4 -> 79807.642 | CA12: =BV12*1152.4 -> 79807.642 | CB12: =BW12*1152.4 -> 60091.239 | CC12: =BX12*1152.4 -> 76812.389 | CD12: =BY12*1152.4 -> 79807.642
A13: 10 | B13: Burgas | C13: Aleksander Stamboliyski 40 | D13: 172.1 | E13: =0.8*D13*H13 -> 550.72 | F13: 52.6 | G13: Basement | H13: 4 | I13: 14.5 | J13: =F13*I13-L13 -> 610.16 | K13: N | L13: 152.54 | M13: 76.27 | N13: 180.705 | O13: Sloped | P13: N | Q13: Individual | R13: Electricity, natural gas | S13: =BZ13 -> 65865.261 | T13: =S13/E13 -> 119.59846 | U13: =CA13 -> 42540.477 | V13: =IF(ISBLANK(D13)," ",S13-U13) -> 23324.784 | W13: =CB13 -> 54436.521 | X13: =IF(ISBLANK(D13)," ",S13-W13) -> 11428.74 | Y13: =CC13 -> 61827.651 | Z13: =IF(ISBLANK(D13)," ",S13-Y13) -> 4037.6099 | AA13: =CD13 -> 64276.589 | AB13: =IF(ISBLANK(D13)," ",S13-AA13) -> 1588.6723 | AC13: =V13+X13+Z13+AB13 -> 40379.807 | AD13: =IF(ISBLANK(D13)," ",S13-AC13) -> 25485.455 | AE13: =AD13/E13 -> 46.27661 | AF13: =1-AD13/S13 -> 0.61306683 | AG13: =IF(ISBLANK($D13),"",S13*_xlfn.XLOOKUP(Q13,DATA!$B$24:$B$25,DATA!$C$24:$C$25,"error",0,1)/1000) -> 8.8237407 | AH13: =IF(ISBLANK($D13),"",V13*_xlfn.XLOOKUP(Q13,DATA!$B$24:$B$25,DATA!$C$24:$C$25,"error",0,1)/1000) -> 3.1247405 | AI13: =IF(ISBLANK($D13),"",X13*_xlfn.XLOOKUP(Q13,DATA!$B$24:$B$25,DATA!$C$24:$C$25,"error",0,1)/1000) -> 1.5310687 | AJ13: =IF(ISBLANK($D13),"",Z13*_xlfn.XLOOKUP(Q13,DATA!$B$24:$B$25,DATA!$C$24:$C$25,"error",0,1)/1000) -> 0.54090459 | AK13: =IF(ISBLANK($D13),"",AB13*_xlfn.XLOOKUP(Q13,DATA!$B$24:$B$25,DATA!$C$24:$C$25,"error",0,1)/1000) -> 0.21282892 | AL13: =SUM(AH13:AK13) -> 5.4095427 | AM13: =IF(ISBLANK($D13),"",AG13-AL13) -> 3.414198 | AN13: =IF(ISBLANK($D13),"",$S13*0.0135790158248428/1000) -> 0.89438542 | AO13: =IF(ISBLANK($D13),"",$V13*0.0135790158248428/1000) -> 0.31672761 | AP13: =IF(ISBLANK($D13),"",$X13*0.0135790158248428/1000) -> 0.15519105 | AQ13: =IF(ISBLANK($D13),"",$Z13*0.0135790158248428/1000) -> 0.054826768 | AR13: =IF(ISBLANK($D13),"",$AB13*0.0135790158248428/1000) -> 0.021572606 | AS13: =IF(ISBLANK($D13),"",$AC13*0.0135790158248428/1000) -> 0.54831803 | AT13: =IF(ISBLANK($D13),"",AN13-AS13) -> 0.34606739 | AU13: =IF(ISBLANK($D13),"",$S13*0.000738514285714286/1000) -> 0.048642436 | AV13: =IF(ISBLANK($D13),"",$V13*0.000738514285714286/1000) -> 0.017225686 | AW13: =IF(ISBLANK($D13),"",$X13*0.000738514285714286/1000) -> 0.008440288 | AX13: =IF(ISBLANK($D13),"",$Z13*0.000738514285714286/1000) -> 0.0029818326 | AY13: =IF(ISBLANK($D13),"",$AB13*0.000738514285714286/1000) -> 0.0011732572 | AZ13: =IF(ISBLANK($D13),"",$AC13*0.000738514285714286/1000) -> 0.029821064 | BA13: =IF(ISBLANK($D13),"",AU13-AZ13) -> 0.018821372 | BB13: =IF(V13>0,J13*DATA!$C$4,0) -> 39660.4 | BC13: =IF(X13>0,N13*_xlfn.XLOOKUP(Burgas!O13,DATA!$B$5:$B$6,DATA!$C$5:$C$6,"error",0,1),0) -> 8673.84 | BD13: =IF(Z13>0,(L13-M13)*DATA!$C$7,"0,00 ") -> 11440.5 | BE13: =IF(G13="basement",D13*DATA!$C$8,IF(G13="ground",0,"error")) -> 6884 | BF13: =BB13+BC13+BD13+BE13 -> 66658.74 | BG13: 1.48 | BH13: 1.975 | BI13: =IF(G13="ground",0.57,IF(G13="basement",0.85,"error")) -> 0.85 | BJ13: 2.33 | BK13: =IF(K13="N",1/((1/BG13)+0.15/0.038),BG13) -> 0.21630769 | BL13: =IF(O13="sloped",1/(1/BJ13+0.15/0.04),IF(O13="flat",1/(1/BJ13+0.15/0.034),"error")) -> 0.23928113 | BM13: 1.1 | BN13: =IF(BI13=0.85,1/(1/BI13+0.05/0.038),BI13) -> 0.40124224 | BP13: =D13*BS13 -> 2495.45 | BQ13: =H13 -> 4 | BR13: =0.32*BP13 -> 798.544 | BS13: =I13 -> 14.5 | BT13: =IF(BQ13<=3,0.76*BP13,0.8*BP13) -> 1996.36 | BU13: =(($D13*$BI13*($BU$1-$BX$1)+$J13*$BG13*($BU$1-$BW$1)+$L13*$BH13*($BU$1-$BW$1)+$N13*$BJ13*($BU$1-$BV$1))*1.05+$BT13*(5.95))/1000 -> 57.15486 | BV13: =(($D13*$BI13*($BU$1-$BX$1)+$J13*$BK13*($BU$1-$BW$1)+$L13*$BH13*($BU$1-$BW$1)+$N13*$BJ13*($BU$1-$BV$1))*1.05+$BT13*(5.95))/1000 -> 36.91468 | BW13: =(($D13*$BI13*($BU$1-$BX$1)+$J13*$BG13*($BU$1-$BW$1)+$L13*$BH13*($BU$1-$BW$1)+$N13*$BL13*($BU$1-$BV$1))*1.05+$BT13*(5.95))/1000 -> 47.237522 | BX13: =(($D13*$BI13*($BU$1-$BX$1)+$J13*$BG13*($BU$1-$BW$1)+$L13*$BM13*($BU$1-$BW$1)+$N13*$BJ13*($BU$1-$BV$1))*1.05+$BT13*(5.95))/1000 -> 53.651207 | BY13: =(($D13*$BN13*($BU$1-$BX$1)+$J13*$BG13*($BU$1-$BW$1)+$L13*$BH13*($BU$1-$BW$1)+$N13*$BJ13*($BU$1-$BV$1))*1.05+$BT13*(5.95))/1000 -> 55.776283 | BZ13: =BU13*1152.4 -> 65865.261 | CA13: =BV13*1152.4 -> 42540.477 | CB13: =BW13*1152.4 -> 54436.521 | CC13: =BX13*1152.4 -> 61827.651 | CD13: =BY13*1152.4 -> 64276.589
A14: 11 | B14: Burgas | C14: Aleksander Stamboliyski 41 | D14: 97.8 | E14: =0.8*D14*H14 -> 469.44 | F14: 48 | G14: Ground | H14: 6 | I14: 20.5 | J14: =F14*I14-L14 -> 787.2 | K14: N | L14: 196.8 | M14: 64.9 | N14: 102.69 | O14: Sloped | P14: N | Q14: Individual | R14: Electricity, natural gas | S14: =BZ14 -> 68157.135 | T14: =S14/E14 -> 145.18817 | U14: =CA14 -> 38064.585 | V14: =IF(ISBLANK(D14)," ",S14-U14) -> 30092.55 | W14: =CB14 -> 61662.476 | X14: =IF(ISBLANK(D14)," ",S14-W14) -> 6494.659 | Y14: =CC14 -> 61174.563 | Z14: =IF(ISBLANK(D14)," ",S14-Y14) -> 6982.5717 | AA14: =CD14 -> 68157.135 | AB14: =IF(ISBLANK(D14)," ",S14-AA14) -> 0 | AC14: =V14+X14+Z14+AB14 -> 43569.78 | AD14: =IF(ISBLANK(D14)," ",S14-AC14) -> 24587.355 | AE14: =AD14/E14 -> 52.375926 | AF14: =1-AD14/S14 -> 0.63925487 | AG14: =IF(ISBLANK($D14),"",S14*_xlfn.XLOOKUP(Q14,DATA!$B$24:$B$25,DATA!$C$24:$C$25,"error",0,1)/1000) -> 9.130775 | AH14: =IF(ISBLANK($D14),"",V14*_xlfn.XLOOKUP(Q14,DATA!$B$24:$B$25,DATA!$C$24:$C$25,"error",0,1)/1000) -> 4.0313945 | AI14: =IF(ISBLANK($D14),"",X14*_xlfn.XLOOKUP(Q14,DATA!$B$24:$B$25,DATA!$C$24:$C$25,"error",0,1)/1000) -> 0.87006694 | AJ14: =IF(ISBLANK($D14),"",Z14*_xlfn.XLOOKUP(Q14,DATA!$B$24:$B$25,DATA!$C$24:$C$25,"error",0,1)/1000) -> 0.93543091 | AK14: =IF(ISBLANK($D14),"",AB14*_xlfn.XLOOKUP(Q14,DATA!$B$24:$B$25,DATA!$C$24:$C$25,"error",0,1)/1000) -> 0 | AL14: =SUM(AH14:AK14) -> 5.8368924 | AM14: =IF(ISBLANK($D14),"",AG14-AL14) -> 3.2938826 | AN14: =IF(ISBLANK($D14),"",$S14*0.0135790158248428/1000) -> 0.92550681 | AO14: =IF(ISBLANK($D14),"",$V14*0.0135790158248428/1000) -> 0.40862721 | AP14: =IF(ISBLANK($D14),"",$X14*0.0135790158248428/1000) -> 0.088191077 | AQ14: =IF(ISBLANK($D14),"",$Z14*0.0135790158248428/1000) -> 0.094816451 | AR14: =IF(ISBLANK($D14),"",$AB14*0.0135790158248428/1000) -> 0 | AS14: =IF(ISBLANK($D14),"",$AC14*0.0135790158248428/1000) -> 0.59163473 | AT14: =IF(ISBLANK($D14),"",AN14-AS14) -> 0.33387208 | AU14: =IF(ISBLANK($D14),"",$S14*0.000738514285714286/1000) -> 0.050335018 | AV14: =IF(ISBLANK($D14),"",$V14*0.000738514285714286/1000) -> 0.022223778 | AW14: =IF(ISBLANK($D14),"",$X14*0.000738514285714286/1000) -> 0.0047963984 | AX14: =IF(ISBLANK($D14),"",$Z14*0.000738514285714286/1000) -> 0.0051567289 | AY14: =IF(ISBLANK($D14),"",$AB14*0.000738514285714286/1000) -> 0 | AZ14: =IF(ISBLANK($D14),"",$AC14*0.000738514285714286/1000) -> 0.032176905 | BA14: =IF(ISBLANK($D14),"",AU14-AZ14) -> 0.018158113 | BB14: =IF(V14>0,J14*DATA!$C$4,0) -> 51168 | BC14: =IF(X14>0,N14*_xlfn.XLOOKUP(Burgas!O14,DATA!$B$5:$B$6,DATA!$C$5:$C$6,"error",0,1),0) -> 4929.12 | BD14: =IF(Z14>0,(L14-M14)*DATA!$C$7,"0,00 ") -> 19785 | BE14: =IF(G14="basement",D14*DATA!$C$8,IF(G14="ground",0,"error")) -> 0 | BF14: =BB14+BC14+BD14+BE14 -> 75882.12 | BG14: 1.48 | BH14: 2.2728913 | BI14: =IF(G14="ground",0.57,IF(G14="basement",0.85,"error")) -> 0.57 | BJ14: 2.33 | BK14: =IF(K14="N",1/((1/BG14)+0.15/0.038),BG14) -> 0.21630769 | BL14: =IF(O14="sloped",1/(1/BJ14+0.15/0.04),IF(O14="flat",1/(1/BJ14+0.15/0.034),"error")) -> 0.23928113 | BM14: 1.1 | BN14: =IF(BI14=0.85,1/(1/BI14+0.05/0.038),BI14) -> 0.57 | BP14: =D14*BS14 -> 2004.9 | BQ14: =H14 -> 6 | BR14: =0.32*BP14 -> 641.568 | BS14: =I14 -> 20.5 | BT14: =IF(BQ14<=3,0.76*BP14,0.8*BP14) -> 1603.92 | BU14: =(($D14*$BI14*($BU$1-$BX$1)+$J14*$BG14*($BU$1-$BW$1)+$L14*$BH14*($BU$1-$BW$1)+$N14*$BJ14*($BU$1-$BV$1))*1.05+$BT14*(5.95))/1000 -> 59.143643 | BV14: =(($D14*$BI14*($BU$1-$BX$1)+$J14*$BK14*($BU$1-$BW$1)+$L14*$BH14*($BU$1-$BW$1)+$N14*$BJ14*($BU$1-$BV$1))*1.05+$BT14*(5.95))/1000 -> 33.030706 | BW14: =(($D14*$BI14*($BU$1-$BX$1)+$J14*$BG14*($BU$1-$BW$1)+$L14*$BH14*($BU$1-$BW$1)+$N14*$BL14*($BU$1-$BV$1))*1.05+$BT14*(5.95))/1000 -> 53.507876 | BX14: =(($D14*$BI14*($BU$1-$BX$1)+$J14*$BG14*($BU$1-$BW$1)+$L14*$BM14*($BU$1-$BW$1)+$N14*$BJ14*($BU$1-$BV$1))*1.05+$BT14*(5.95))/1000 -> 53.084487 | BY14: =(($D14*$BN14*($BU$1-$BX$1)+$J14*$BG14*($BU$1-$BW$1)+$L14*$BH14*($BU$1-$BW$1)+$N14*$BJ14*($BU$1-$BV$1))*1.05+$BT14*(5.95))/1000 -> 59.143643 | BZ14: =BU14*1152.4 -> 68157.135 | CA14: =BV14*1152.4 -> 38064.585 | CB14: =BW14*1152.4 -> 61662.476 | CC14: =BX14*1152.4 -> 61174.563 | CD14: =BY14*1152.4 -> 68157.135
A15: 12 | B15: Burgas | C15: Aleksander Stamboliyski 42 | D15: 270.3 | E15: =0.8*D15*H15 -> 1297.44 | F15: 69.6 | G15: Ground | H15: 6 | I15: 20.5 | J15: =F15*I15-L15 -> 1141.44 | K15: N | L15: 285.36 | M15: 285.36 | N15: 283.815 | O15: Sloped | P15: Y | Q15: Individual | R15: Electricity, natural gas | S15: =BZ15 -> 96052.295 | T15: =S15/E15 -> 74.032167 | U15: =CA15 -> 52418.098 | V15: =IF(ISBLANK(D15)," ",S15-U15) -> 43634.197 | W15: =CB15 -> 95198.444 | X15: =IF(ISBLANK(D15)," ",S15-W15) -> 853.85016 | Y15: =CC15 -> 96052.295 | Z15: =IF(ISBLANK(D15)," ",S15-Y15) -> 0 | AA15: =CD15 -> 96052.295 | AB15: =IF(ISBLANK(D15)," ",S15-AA15) -> 0 | AC15: =V15+X15+Z15+AB15 -> 44488.047 | AD15: =IF(ISBLANK(D15)," ",S15-AC15) -> 51564.247 | AE15: =AD15/E15 -> 39.743069 | AF15: =1-AD15/S15 -> 0.46316485 | AG15: =IF(ISBLANK($D15),"",S15*_xlfn.XLOOKUP(Q15,DATA!$B$24:$B$25,DATA!$C$24:$C$25,"error",0,1)/1000) -> 12.867793 | AH15: =IF(ISBLANK($D15),"",V15*_xlfn.XLOOKUP(Q15,DATA!$B$24:$B$25,DATA!$C$24:$C$25,"error",0,1)/1000) -> 5.8455221 | AI15: =IF(ISBLANK($D15),"",X15*_xlfn.XLOOKUP(Q15,DATA!$B$24:$B$25,DATA!$C$24:$C$25,"error",0,1)/1000) -> 0.11438735 | AJ15: =IF(ISBLANK($D15),"",Z15*_xlfn.XLOOKUP(Q15,DATA!$B$24:$B$25,DATA!$C$24:$C$25,"error",0,1)/1000) -> 0 | AK15: =IF(ISBLANK($D15),"",AB15*_xlfn.XLOOKUP(Q15,DATA!$B$24:$B$25,DATA!$C$24:$C$25,"error",0,1)/1000) -> 0 | AL15: =SUM(AH15:AK15) -> 5.9599094 | AM15: =IF(ISBLANK($D15),"",AG15-AL15) -> 6.9078834 | AN15: =IF(ISBLANK($D15),"",$S15*0.0135790158248428/1000) -> 1.3042956 | AO15: =IF(ISBLANK($D15),"",$V15*0.0135790158248428/1000) -> 0.59250945 | AP15: =IF(ISBLANK($D15),"",$X15*0.0135790158248428/1000) -> 0.011594445 | AQ15: =IF(ISBLANK($D15),"",$Z15*0.0135790158248428/1000) -> 0 | AR15: =IF(ISBLANK($D15),"",$AB15*0.0135790158248428/1000) -> 0 | AS15: =IF(ISBLANK($D15),"",$AC15*0.0135790158248428/1000) -> 0.60410389 | AT15: =IF(ISBLANK($D15),"",AN15-AS15) -> 0.70019173 | AU15: =IF(ISBLANK($D15),"",$S15*0.000738514285714286/1000) -> 0.070935992 | AV15: =IF(ISBLANK($D15),"",$V15*0.000738514285714286/1000) -> 0.032224478 | AW15: =IF(ISBLANK($D15),"",$X15*0.000738514285714286/1000) -> 0.00063058054 | AX15: =IF(ISBLANK($D15),"",$Z15*0.000738514285714286/1000) -> 0 | AY15: =IF(ISBLANK($D15),"",$AB15*0.000738514285714286/1000) -> 0 | AZ15: =IF(ISBLANK($D15),"",$AC15*0.000738514285714286/1000) -> 0.032855058 | BA15: =IF(ISBLANK($D15),"",AU15-AZ15) -> 0.038080933 | BB15: =IF(V15>0,J15*DATA!$C$4,0) -> 74193.6 | BC15: =IF(X15>0,N15*_xlfn.XLOOKUP(Burgas!O15,DATA!$B$5:$B$6,DATA!$C$5:$C$6,"error",0,1),0) -> 13623.12 | BD15: =IF(Z15>0,(L15-M15)*DATA!$C$7,"0,00 ") -> 0,00 | BE15: =IF(G15="basement",D15*DATA!$C$8,IF(G15="ground",0,"error")) -> 0 | BF15: =BB15+BC15+BD15+BE15 -> 87816.72 | BG15: 1.48 | BH15: 1.1 | BI15: =IF(G15="ground",0.57,IF(G15="basement",0.85,"error")) -> 0.57 | BJ15: 0.22 | BK15: =IF(K15="N",1/((1/BG15)+0.15/0.038),BG15) -> 0.21630769 | BL15: =IF(O15="sloped",1/(1/BJ15+0.15/0.04),IF(O15="flat",1/(1/BJ15+0.15/0.034),"error")) -> 0.12054795 | BM15: 1.1 | BN15: =IF(BI15=0.85,1/(1/BI15+0.05/0.038),BI15) -> 0.57 | BP15: =D15*BS15 -> 5541.15 | BQ15: =H15 -> 6 | BR15: =0.32*BP15 -> 1773.168 | BS15: =I15 -> 20.5 | BT15: =IF(BQ15<=3,0.76*BP15,0.8*BP15) -> 4432.92 | BU15: =(($D15*$BI15*($BU$1-$BX$1)+$J15*$BG15*($BU$1-$BW$1)+$L15*$BH15*($BU$1-$BW$1)+$N15*$BJ15*($BU$1-$BV$1))*1.05+$BT15*(5.95))/1000 -> 83.349787 | BV15: =(($D15*$BI15*($BU$1-$BX$1)+$J15*$BK15*($BU$1-$BW$1)+$L15*$BH15*($BU$1-$BW$1)+$N15*$BJ15*($BU$1-$BV$1))*1.05+$BT15*(5.95))/1000 -> 45.486027 | BW15: =(($D15*$BI15*($BU$1-$BX$1)+$J15*$BG15*($BU$1-$BW$1)+$L15*$BH15*($BU$1-$BW$1)+$N15*$BL15*($BU$1-$BV$1))*1.05+$BT15*(5.95))/1000 -> 82.608855 | BX15: =(($D15*$BI15*($BU$1-$BX$1)+$J15*$BG15*($BU$1-$BW$1)+$L15*$BM15*($BU$1-$BW$1)+$N15*$BJ15*($BU$1-$BV$1))*1.05+$BT15*(5.95))/1000 -> 83.349787 | BY15: =(($D15*$BN15*($BU$1-$BX$1)+$J15*$BG15*($BU$1-$BW$1)+$L15*$BH15*($BU$1-$BW$1)+$N15*$BJ15*($BU$1-$BV$1))*1.05+$BT15*(5.95))/1000 -> 83.349787 | BZ15: =BU15*1152.4 -> 96052.295 | CA15: =BV15*1152.4 -> 52418.098 | CB15: =BW15*1152.4 -> 95198.444 | CC15: =BX15*1152.4 -> 96052.295 | CD15: =BY15*1152.4 -> 96052.295
... A121: 118 | B121: Burgas | C121: Boulevard San Stefano 47, 49 | D121: 538.6 | E121: =0.8*D121*H121 -> 3016.16 | F121: 94.6 | G121: Basement | H121: 7 | I121: 22.25 | J121: =F121*I121-L121 -> 1705.05 | K121: N | L121: 399.8 | M121: 339.8 | N121: 565.53 | O121: Sloped | P121: N | Q121: Individual | R121: Electricity, natural gas | S121: =BZ121 -> 207830.65 | T121: =S121/E121 -> 68.905711 | U121: =CA121 -> 142651.15 | V121: =IF(ISBLANK(D121)," ",S121-U121) -> 65179.499 | W121: =CB121 -> 172063.54 | X121: =IF(ISBLANK(D121)," ",S121-W121) -> 35767.11 | Y121: =CC121 -> 204654.35 | Z121: =IF(ISBLANK(D121)," ",S121-Y121) -> 3176.3025 | AA121: =CD121 -> 202858.78 | AB121: =IF(ISBLANK(D121)," ",S121-AA121) -> 4971.8703 | AC121: =V121+X121+Z121+AB121 -> 109094.78 | AD121: =IF(ISBLANK(D121)," ",S121-AC121) -> 98735.869 | AE121: =AD121/E121 -> 32.73562 | AF121: =1-AD121/S121 -> 0.52492152 | AG121: =IF(ISBLANK($D121),"",S121*_xlfn.XLOOKUP(Q121,DATA!$B$24:$B$25,DATA!$C$24:$C$25,"error",0,1)/1000) -> 27.842352 | AH121: =IF(ISBLANK($D121),"",V121*_xlfn.XLOOKUP(Q121,DATA!$B$24:$B$25,DATA!$C$24:$C$25,"error",0,1)/1000) -> 8.7318715 | AI121: =IF(ISBLANK($D121),"",X121*_xlfn.XLOOKUP(Q121,DATA!$B$24:$B$25,DATA!$C$24:$C$25,"error",0,1)/1000) -> 4.7915956 | AJ121: =IF(ISBLANK($D121),"",Z121*_xlfn.XLOOKUP(Q121,DATA!$B$24:$B$25,DATA!$C$24:$C$25,"error",0,1)/1000) -> 0.42551823 | AK121: =IF(ISBLANK($D121),"",AB121*_xlfn.XLOOKUP(Q121,DATA!$B$24:$B$25,DATA!$C$24:$C$25,"error",0,1)/1000) -> 0.66606423 | AL121: =SUM(AH121:AK121) -> 14.61505 | AM121: =IF(ISBLANK($D121),"",AG121-AL121) -> 13.227302 | AN121: =IF(ISBLANK($D121),"",$S121*0.0135790158248428/1000) -> 2.8221357 | AO121: =IF(ISBLANK($D121),"",$V121*0.0135790158248428/1000) -> 0.88507345 | AP121: =IF(ISBLANK($D121),"",$X121*0.0135790158248428/1000) -> 0.48568215 | AQ121: =IF(ISBLANK($D121),"",$Z121*0.0135790158248428/1000) -> 0.043131062 | AR121: =IF(ISBLANK($D121),"",$AB121*0.0135790158248428/1000) -> 0.067513106 | AS121: =IF(ISBLANK($D121),"",$AC121*0.0135790158248428/1000) -> 1.4813998 | AT121: =IF(ISBLANK($D121),"",AN121-AS121) -> 1.3407359 | AU121: =IF(ISBLANK($D121),"",$S121*0.000738514285714286/1000) -> 0.1534859 | AV121: =IF(ISBLANK($D121),"",$V121*0.000738514285714286/1000) -> 0.048135991 | AW121: =IF(ISBLANK($D121),"",$X121*0.000738514285714286/1000) -> 0.026414521 | AX121: =IF(ISBLANK($D121),"",$Z121*0.000738514285714286/1000) -> 0.0023457448 | AY121: =IF(ISBLANK($D121),"",$AB121*0.000738514285714286/1000) -> 0.0036717973 | AZ121: =IF(ISBLANK($D121),"",$AC121*0.000738514285714286/1000) -> 0.080568055 | BA121: =IF(ISBLANK($D121),"",AU121-AZ121) -> 0.07291785 | BB121: =IF(V121>0,J121*DATA!$C$4,0) -> 110828.25 | BC121: =IF(X121>0,N121*_xlfn.XLOOKUP(Burgas!O121,DATA!$B$5:$B$6,DATA!$C$5:$C$6,"error",0,1),0) -> 27145.44 | BD121: =IF(Z121>0,(L121-M121)*DATA!$C$7,"0,00 ") -> 9000 | BE121: =IF(G121="basement",D121*DATA!$C$8,IF(G121="ground",0,"error")) -> 21544 | BF121: =BB121+BC121+BD121+BE121 -> 168517.69 | BG121: 1.48 | BH121: 1.3626313 | BI121: =IF(G121="ground",0.57,IF(G121="basement",0.85,"error")) -> 0.85 | BJ121: 2.33 | BK121: =IF(K121="N",1/((1/BG121)+0.15/0.038),BG121) -> 0.21630769 | BL121: =IF(O121="sloped",1/(1/BJ121+0.15/0.04),IF(O121="flat",1/(1/BJ121+0.15/0.034),"error")) -> 0.23928113 | BM121: 1.1 | BN121: =IF(BI121=0.85,1/(1/BI121+0.05/0.038),BI121) -> 0.40124224 | BP121: =D121*BS121 -> 11983.85 | BQ121: =H121 -> 7 | BR121: =0.32*BP121 -> 3834.832 | BS121: =I121 -> 22.25 | BT121: =IF(BQ121<=3,0.76*BP121,0.8*BP121) -> 9587.08 | BU121: =(($D121*$BI121*($BU$1-$BX$1)+$J121*$BG121*($BU$1-$BW$1)+$L121*$BH121*($BU$1-$BW$1)+$N121*$BJ121*($BU$1-$BV$1))*1.05+$BT121*(5.95))/1000 -> 180.34593 | BV121: =(($D121*$BI121*($BU$1-$BX$1)+$J121*$BK121*($BU$1-$BW$1)+$L121*$BH121*($BU$1-$BW$1)+$N121*$BJ121*($BU$1-$BV$1))*1.05+$BT121*(5.95))/1000 -> 123.78614 | BW121: =(($D121*$BI121*($BU$1-$BX$1)+$J121*$BG121*($BU$1-$BW$1)+$L121*$BH121*($BU$1-$BW$1)+$N121*$BL121*($BU$1-$BV$1))*1.05+$BT121*(5.95))/1000 -> 149.30887 | BX121: =(($D121*$BI121*($BU$1-$BX$1)+$J121*$BG121*($BU$1-$BW$1)+$L121*$BM121*($BU$1-$BW$1)+$N121*$BJ121*($BU$1-$BV$1))*1.05+$BT121*(5.95))/1000 -> 177.58968 | BY121: =(($D121*$BN121*($BU$1-$BX$1)+$J121*$BG121*($BU$1-$BW$1)+$L121*$BH121*($BU$1-$BW$1)+$N121*$BJ121*($BU$1-$BV$1))*1.05+$BT121*(5.95))/1000 -> 176.03157 | BZ121: =BU121*1152.4 -> 207830.65 | CA121: =BV121*1152.4 -> 142651.15 | CB121: =BW121*1152.4 -> 172063.54 | CC121: =BX121*1152.4 -> 204654.35 | CD121: =BY121*1152.4 -> 202858.78
