Workbook

Sheet Kaišiadorys
A1: Number | B1: LOCATION DATA | D1: BUILDING GEOMETRY | Q1: ENERGY NEEDS AND SAVINGS | AG1: CO2 EMISSION | AN1: SO2 EMISSION | AU1: NOx EMISSION | BB1: Investements | BG1: U-values, current condition | BK1: U-values, after insulation | BP1: MFAB volume Ve | BQ1: No of storeys | BR1: Akuk | BS1: H | BT1: Volume V | BU1: 20 | BV1: -20 | BW1: -20 | BX1: 3
B2: City | C2: Address | D2: Ground area | E2: Heated area | F2: Ground circumference | G2: Type of floor construction | H2: Total number of storeys | I2: Height | J2: Area of outer walls | K2: Outer walls insulation | L2: Total area of windows and doors | M2: Total area of PVC windows and doorsa | N2: Roof/ceiling area | O2: Type of roof | P2: Roof insulation | Q2: Heating system | R2: Primarly energy source | S2: Heat required in current state of building | T2: Specific heat required in current condition of building | U2: Heat required in after insulation of outer walls | V2: Potential saving after insulation of outer walls | W2: Heat required in after insulation of roof/ceiling | X2: Potential saving after insulation of roof/ceiling | Y2: Heat required in after replacement of windows and doors | Z2: Potential saving after replacement of widows and doors | AA2: Heat required in after insulation of floors | AB2: Potential saving after insulation of floors | AC2: Potential saving after all architectural measures | AD2: Heat required after all architectural measures | AE2: Specific heat required after all architectural measures | AF2: Total savings by architectural measures | AG2: Emission in current state of building | AH2: Reduction after insulation of outer walls | AI2: Reduction after insulation of roof/ceiling | AJ2: Reduction after replacement of widows and doors | AK2: Reduction after insulation of floors | AL2: Reduction after all measures | AM2: Emission after all measures | AN2: Emission in current state of building | AO2: Reduction after insulation of outer walls | AP2: Reduction after insulation of roof/ceiling | AQ2: Reduction after replacement of widows and doors | AR2: Reduction after insulation of floors | AS2: Reduction after all measures | AT2: Emission after all measures | AU2: Emission in current state of building | AV2: Reduction after insulation of outer walls | AW2: Reduction after insulation of roof/ceiling | AX2: Reduction after replacement of widows and doors | AY2: Reduction after insulation of floors | AZ2: Reduction after all measures | BA2: Emission after all measures | BB2: Wall insulation | BC2: Roof/ceiling insulation | BD2: Windows replacement | BE2: Floor insulation | BF2: Total investment | BG2: U-wall | BH2: U-windows | BI2: U-floor | BJ2: U-roof | BK2: U-wall | BL2: U-roof | BM2: U-windows | BN2: U-floor | BU2: Qtr.req | BV2: Qtr. Ins wall | BW2: Qtr. Ins roof | BX2: Qtr. Ins win | BY2: Qtr. Ins floor | BZ2: Qtr.potr | CA2: Qtr. Iz zid | CB2: Qtr. Iz tav | CC2: Qtr. Iz proz | CD2: Qtr. Iz pod
D3: m2 | E3: m2 | F3: m | I3: m | J3: m2 | L3: m2 | M3: m2 | N3: m2 | S3: kWh/year | T3: kWh/m2year | U3: kWh/year | V3: kWh/year | W3: kWh/year | X3: kWh/year | Y3: kWh/year | Z3: kWh/year | AA3: kWh/year | AB3: kWh/year | AC3: kWh/year | AD3: kWh/year | AE3: kWh/m2year | AF3: % | AG3: t/year | AH3: t/year | AI3: t/year | AJ3: t/year | AK3: t/year | AL3: t/year | AM3: t/year | AN3: t/year | AO3: t/year | AP3: t/year | AQ3: t/year | AR3: t/year | AS3: t/year | AT3: t/year | AU3: t/year | AV3: t/year | AW3: t/year | AX3: t/year | AY3: t/year | AZ3: t/year | BA3: t/year | BB3: EUR | BC3: EUR | BD3: EUR | BE3: EUR | BF3: EUR | BG3: W/m2K | BH3: W/m2K | BI3: W/m2K | BJ3: W/m2K | BK3: W/m2K | BL3: W/m2K | BM3: W/m2K | BN3: W/m2K | BP3: m3 | BR3: m2 | BS3: m | BT3: m3 | BU3: kWh/god | BV3: kWh/god | BW3: kWh/god | BX3: kWh/god | BY3: kWh/god | BZ3: kWh/god | CA3: kWh/god | CB3: kWh/god | CC3: kWh/god | CD3: kWh/god
A4: 1 | B4: Kaišiadorys | C4: Birutės gatvė 3 | D4: 166.09 | E4: =0.8*D4*H4 -> 664.36 | F4: 63.8 | G4: Basement | H4: 5 | I4: 17.5 | J4: =F4*I4-L4 -> 985.73 | K4: N | L4: 130.77 | M4: 130.77 | N4: 221.89 | O4: Flat | P4: Y | Q4: District heating | R4: Woodchips | S4: =BZ4 -> 95052.399 | T4: =S4/E4 -> 143.07363 | U4: =CA4 -> 44537.091 | V4: =IF(ISBLANK(D4)," ",S4-U4) -> 50515.309 | W4: =CB4 -> 87845.527 | X4: =IF(ISBLANK(D4)," ",S4-W4) -> 7206.8728 | Y4: =CC4 -> 95052.399 | Z4: =IF(ISBLANK(D4)," ",S4-Y4) -> 0 | AA4: =CD4 -> 95052.399 | AB4: =IF(ISBLANK(D4)," ",S4-AA4) -> 0 | AC4: =V4+X4+Z4+AB4 -> 57722.181 | AD4: =IF(ISBLANK(D4)," ",S4-AC4) -> 37330.218 | AE4: =(S4-AD4)/E4 -> 86.88389 | AF4: =1-AD4/S4 -> 0.60726696 | AG4: =IF(ISBLANK($D4),"",S4*_xlfn.XLOOKUP(Q4,DATA!$B$24:$B$25,DATA!$C$24:$C$25,"error",0,1)/1000) -> 37.85747 | AH4: =IF(ISBLANK($D4),"",V4*_xlfn.XLOOKUP(Q4,DATA!$B$24:$B$25,DATA!$C$24:$C$25,"error",0,1)/1000) -> 20.119237 | AI4: =IF(ISBLANK($D4),"",X4*_xlfn.XLOOKUP(Q4,DATA!$B$24:$B$25,DATA!$C$24:$C$25,"error",0,1)/1000) -> 2.8703533 | AJ4: =IF(ISBLANK($D4),"",Z4*_xlfn.XLOOKUP(Q4,DATA!$B$24:$B$25,DATA!$C$24:$C$25,"error",0,1)/1000) -> 0 | AK4: =IF(ISBLANK($D4),"",AB4*_xlfn.XLOOKUP(Q4,DATA!$B$24:$B$25,DATA!$C$24:$C$25,"error",0,1)/1000) -> 0 | AL4: =SUM(AH4:AK4) -> 22.98959 | AM4: =IF(ISBLANK($D4),"",AG4-AL4) -> 14.867879 | AN4: =IF(ISBLANK($D4),"",$S4*0.0135790158248428/1000) -> 1.290718 | AO4: =IF(ISBLANK($D4),"",$V4*0.0135790158248428/1000) -> 0.68594818 | AP4: =IF(ISBLANK($D4),"",$X4*0.0135790158248428/1000) -> 0.097862239 | AQ4: =IF(ISBLANK($D4),"",$Z4*0.0135790158248428/1000) -> 0 | AR4: =IF(ISBLANK($D4),"",$AB4*0.0135790158248428/1000) -> 0 | AS4: =IF(ISBLANK($D4),"",$AC4*0.0135790158248428/1000) -> 0.78381041 | AT4: =IF(ISBLANK($D4),"",AN4-AS4) -> 0.50690762 | AU4: =IF(ISBLANK($D4),"",$S4*0.000738514285714286/1000) -> 0.070197555 | AV4: =IF(ISBLANK($D4),"",$V4*0.000738514285714286/1000) -> 0.037306277 | AW4: =IF(ISBLANK($D4),"",$X4*0.000738514285714286/1000) -> 0.0053223785 | AX4: =IF(ISBLANK($D4),"",$Z4*0.000738514285714286/1000) -> 0 | AY4: =IF(ISBLANK($D4),"",$AB4*0.000738514285714286/1000) -> 0 | AZ4: =IF(ISBLANK($D4),"",$AC4*0.000738514285714286/1000) -> 0.042628656 | BA4: =IF(ISBLANK($D4),"",AU4-AZ4) -> 0.027568899 | BB4: =IF(V4>0,J4*DATA!$C$4,0) -> 64072.45 | BC4: =IF(X4>0,N4*_xlfn.XLOOKUP(Kaišiadorys!O4,DATA!$B$5:$B$6,DATA!$C$5:$C$6,"error",0,1),0) -> 18860.65 | BD4: =IF(Z4>0,(L4-M4)*DATA!$C$7,"0,00 ") -> 0,00 | BE4: =IF(G4="basement",D4*DATA!$C$8,IF(G4="ground",0,"error")) -> 6643.6 | BF4: =BB4+BC4+BD4+BE4 -> 89576.7 | BG4: 1.27 | BH4: 1.1 | BI4: 0.71 | BJ4: 0.85 | BK4: =IF(K4="N",1/((1/BG4)+0.15/0.038),BG4) -> 0.2112035 | BL4: =IF(O4="sloped",1/(1/BJ4+0.15/0.04),IF(O4="flat",1/(1/BJ4+0.15/0.034),"error")) -> 0.17894737 | BM4: 1.1 | BN4: =IF(BI4=0.85,1/(1/BI4+0.05/0.038),BI4) -> 0.71 | BP4: =D4*BS4 -> 2906.575 | BQ4: =H4 -> 5 | BR4: =0.32*BP4 -> 930.104 | BS4: =I4 -> 17.5 | BT4: =IF(BQ4<=3,0.76*BP4,0.8*BP4) -> 2325.26 | BU4: =(($D4*$BI4*($BU$1-$BX$1)+$J4*$BG4*($BU$1-$BW$1)+$L4*$BH4*($BU$1-$BW$1)+$N4*$BJ4*($BU$1-$BV$1))*1.05+$BT4*(5.95))/1000 -> 82.482124 | BV4: =(($D4*$BI4*($BU$1-$BX$1)+$J4*$BK4*($BU$1-$BW$1)+$L4*$BH4*($BU$1-$BW$1)+$N4*$BJ4*($BU$1-$BV$1))*1.05+$BT4*(5.95))/1000 -> 38.64725 | BW4: =(($D4*$BI4*($BU$1-$BX$1)+$J4*$BG4*($BU$1-$BW$1)+$L4*$BH4*($BU$1-$BW$1)+$N4*$BL4*($BU$1-$BV$1))*1.05+$BT4*(5.95))/1000 -> 76.228329 | BX4: =(($D4*$BI4*($BU$1-$BX$1)+$J4*$BG4*($BU$1-$BW$1)+$L4*$BM4*($BU$1-$BW$1)+$N4*$BJ4*($BU$1-$BV$1))*1.05+$BT4*(5.95))/1000 -> 82.482124 | BY4: =(($D4*$BN4*($BU$1-$BX$1)+$J4*$BG4*($BU$1-$BW$1)+$L4*$BH4*($BU$1-$BW$1)+$N4*$BJ4*($BU$1-$BV$1))*1.05+$BT4*(5.95))/1000 -> 82.482124 | BZ4: =BU4*1152.4 -> 95052.399 | CA4: =BV4*1152.4 -> 44537.091 | CB4: =BW4*1152.4 -> 87845.527 | CC4: =BX4*1152.4 -> 95052.399 | CD4: =BY4*1152.4 -> 95052.399
A5: 2 | B5: Kaišiadorys | C5: Birutės gatvė 5 | D5: 149.39 | E5: =0.8*D5*H5 -> 597.56 | F5: 63.2 | G5: Ground | H5: 5 | I5: 17.5 | J5: =F5*I5-L5 -> 910.1 | K5: N | L5: 195.9 | M5: 195.9 | N5: 217.96 | O5: Flat | P5: Y | Q5: District heating | R5: Woodchips | S5: =BZ5 -> 91862.376 | T5: =S5/E5 -> 153.72912 | U5: =CA5 -> 45222.847 | V5: =IF(ISBLANK(D5)," ",S5-U5) -> 46639.528 | W5: =CB5 -> 84783.147 | X5: =IF(ISBLANK(D5)," ",S5-W5) -> 7079.2284 | Y5: =CC5 -> 91862.376 | Z5: =IF(ISBLANK(D5)," ",S5-Y5) -> 0 | AA5: =CD5 -> 91862.376 | AB5: =IF(ISBLANK(D5)," ",S5-AA5) -> 0 | AC5: =V5+X5+Z5+AB5 -> 53718.757 | AD5: =IF(ISBLANK(D5)," ",S5-AC5) -> 38143.619 | AE5: =(S5-AD5)/E5 -> 89.896842 | AF5: =1-AD5/S5 -> 0.5847743 | AG5: =IF(ISBLANK($D5),"",S5*_xlfn.XLOOKUP(Q5,DATA!$B$24:$B$25,DATA!$C$24:$C$25,"error",0,1)/1000) -> 36.586947 | AH5: =IF(ISBLANK($D5),"",V5*_xlfn.XLOOKUP(Q5,DATA!$B$24:$B$25,DATA!$C$24:$C$25,"error",0,1)/1000) -> 18.575591 | AI5: =IF(ISBLANK($D5),"",X5*_xlfn.XLOOKUP(Q5,DATA!$B$24:$B$25,DATA!$C$24:$C$25,"error",0,1)/1000) -> 2.8195151 | AJ5: =IF(ISBLANK($D5),"",Z5*_xlfn.XLOOKUP(Q5,DATA!$B$24:$B$25,DATA!$C$24:$C$25,"error",0,1)/1000) -> 0 | AK5: =IF(ISBLANK($D5),"",AB5*_xlfn.XLOOKUP(Q5,DATA!$B$24:$B$25,DATA!$C$24:$C$25,"error",0,1)/1000) -> 0 | AL5: =SUM(AH5:AK5) -> 21.395106 | AM5: =IF(ISBLANK($D5),"",AG5-AL5) -> 15.191841 | AN5: =IF(ISBLANK($D5),"",$S5*0.0135790158248428/1000) -> 1.2474007 | AO5: =IF(ISBLANK($D5),"",$V5*0.0135790158248428/1000) -> 0.6333189 | AP5: =IF(ISBLANK($D5),"",$X5*0.0135790158248428/1000) -> 0.096128954 | AQ5: =IF(ISBLANK($D5),"",$Z5*0.0135790158248428/1000) -> 0 | AR5: =IF(ISBLANK($D5),"",$AB5*0.0135790158248428/1000) -> 0 | AS5: =IF(ISBLANK($D5),"",$AC5*0.0135790158248428/1000) -> 0.72944785 | AT5: =IF(ISBLANK($D5),"",AN5-AS5) -> 0.5179528 | AU5: =IF(ISBLANK($D5),"",$S5*0.000738514285714286/1000) -> 0.067841677 | AV5: =IF(ISBLANK($D5),"",$V5*0.000738514285714286/1000) -> 0.034443958 | AW5: =IF(ISBLANK($D5),"",$X5*0.000738514285714286/1000) -> 0.0052281113 | AX5: =IF(ISBLANK($D5),"",$Z5*0.000738514285714286/1000) -> 0 | AY5: =IF(ISBLANK($D5),"",$AB5*0.000738514285714286/1000) -> 0 | AZ5: =IF(ISBLANK($D5),"",$AC5*0.000738514285714286/1000) -> 0.039672069 | BA5: =IF(ISBLANK($D5),"",AU5-AZ5) -> 0.028169607 | BB5: =IF(V5>0,J5*DATA!$C$4,0) -> 59156.5 | BC5: =IF(X5>0,N5*_xlfn.XLOOKUP(Kaišiadorys!O5,DATA!$B$5:$B$6,DATA!$C$5:$C$6,"error",0,1),0) -> 18526.6 | BD5: =IF(Z5>0,(L5-M5)*DATA!$C$7,"0,00 ") -> 0,00 | BE5: =IF(G5="basement",D5*DATA!$C$8,IF(G5="ground",0,"error")) -> 0 | BF5: =BB5+BC5+BD5+BE5 -> 77683.1 | BG5: 1.27 | BH5: 1.1 | BI5: 0.71 | BJ5: 0.85 | BK5: =IF(K5="N",1/((1/BG5)+0.15/0.038),BG5) -> 0.2112035 | BL5: =IF(O5="sloped",1/(1/BJ5+0.15/0.04),IF(O5="flat",1/(1/BJ5+0.15/0.034),"error")) -> 0.17894737 | BM5: 1.1 | BN5: =IF(BI5=0.85,1/(1/BI5+0.05/0.038),BI5) -> 0.71 | BP5: =D5*BS5 -> 2614.325 | BQ5: =H5 -> 5 | BR5: =0.32*BP5 -> 836.584 | BS5: =I5 -> 17.5 | BT5: =IF(BQ5<=3,0.76*BP5,0.8*BP5) -> 2091.46 | BU5: =(($D5*$BI5*($BU$1-$BX$1)+$J5*$BG5*($BU$1-$BW$1)+$L5*$BH5*($BU$1-$BW$1)+$N5*$BJ5*($BU$1-$BV$1))*1.05+$BT5*(5.95))/1000 -> 79.713967 | BV5: =(($D5*$BI5*($BU$1-$BX$1)+$J5*$BK5*($BU$1-$BW$1)+$L5*$BH5*($BU$1-$BW$1)+$N5*$BJ5*($BU$1-$BV$1))*1.05+$BT5*(5.95))/1000 -> 39.242318 | BW5: =(($D5*$BI5*($BU$1-$BX$1)+$J5*$BG5*($BU$1-$BW$1)+$L5*$BH5*($BU$1-$BW$1)+$N5*$BL5*($BU$1-$BV$1))*1.05+$BT5*(5.95))/1000 -> 73.570937 | BX5: =(($D5*$BI5*($BU$1-$BX$1)+$J5*$BG5*($BU$1-$BW$1)+$L5*$BM5*($BU$1-$BW$1)+$N5*$BJ5*($BU$1-$BV$1))*1.05+$BT5*(5.95))/1000 -> 79.713967 | BY5: =(($D5*$BN5*($BU$1-$BX$1)+$J5*$BG5*($BU$1-$BW$1)+$L5*$BH5*($BU$1-$BW$1)+$N5*$BJ5*($BU$1-$BV$1))*1.05+$BT5*(5.95))/1000 -> 79.713967 | BZ5: =BU5*1152.4 -> 91862.376 | CA5: =BV5*1152.4 -> 45222.847 | CB5: =BW5*1152.4 -> 84783.147 | CC5: =BX5*1152.4 -> 91862.376 | CD5: =BY5*1152.4 -> 91862.376
A6: 3 | B6: Kaišiadorys | C6: Birutės gatvė 8 | D6: 304.6 | E6: =0.8*D6*H6 -> 487.36 | F6: 70.2 | G6: Basement | H6: 2 | I6: 8.5 | J6: =F6*I6-L6 -> 489.2 | K6: N | L6: 107.5 | M6: 96.8 | N6: 313.738 | O6: Sloped | P6: N | Q6: District heating | R6: Woodchips | S6: =BZ6 -> 68551.114 | T6: =S6/E6 -> 140.65806 | U6: =CA6 -> 43481.278 | V6: =IF(ISBLANK(D6)," ",S6-U6) -> 25069.836 | W6: =CB6 -> 58726.082 | X6: =IF(ISBLANK(D6)," ",S6-W6) -> 9825.0318 | Y6: =CC6 -> 67644.809 | Z6: =IF(ISBLANK(D6)," ",S6-Y6) -> 906.30498 | AA6: =CD6 -> 68551.114 | AB6: =IF(ISBLANK(D6)," ",S6-AA6) -> 0 | AC6: =V6+X6+Z6+AB6 -> 35801.172 | AD6: =IF(ISBLANK(D6)," ",S6-AC6) -> 32749.942 | AE6: =(S6-AD6)/E6 -> 73.459398 | AF6: =1-AD6/S6 -> 0.52225515 | AG6: =IF(ISBLANK($D6),"",S6*_xlfn.XLOOKUP(Q6,DATA!$B$24:$B$25,DATA!$C$24:$C$25,"error",0,1)/1000) -> 27.302538 | AH6: =IF(ISBLANK($D6),"",V6*_xlfn.XLOOKUP(Q6,DATA!$B$24:$B$25,DATA!$C$24:$C$25,"error",0,1)/1000) -> 9.9848141 | AI6: =IF(ISBLANK($D6),"",X6*_xlfn.XLOOKUP(Q6,DATA!$B$24:$B$25,DATA!$C$24:$C$25,"error",0,1)/1000) -> 3.9131136 | AJ6: =IF(ISBLANK($D6),"",Z6*_xlfn.XLOOKUP(Q6,DATA!$B$24:$B$25,DATA!$C$24:$C$25,"error",0,1)/1000) -> 0.36096315 | AK6: =IF(ISBLANK($D6),"",AB6*_xlfn.XLOOKUP(Q6,DATA!$B$24:$B$25,DATA!$C$24:$C$25,"error",0,1)/1000) -> 0 | AL6: =SUM(AH6:AK6) -> 14.258891 | AM6: =IF(ISBLANK($D6),"",AG6-AL6) -> 13.043647 | AN6: =IF(ISBLANK($D6),"",$S6*0.0135790158248428/1000) -> 0.93085666 | AO6: =IF(ISBLANK($D6),"",$V6*0.0135790158248428/1000) -> 0.34042369 | AP6: =IF(ISBLANK($D6),"",$X6*0.0135790158248428/1000) -> 0.13341426 | AQ6: =IF(ISBLANK($D6),"",$Z6*0.0135790158248428/1000) -> 0.01230673 | AR6: =IF(ISBLANK($D6),"",$AB6*0.0135790158248428/1000) -> 0 | AS6: =IF(ISBLANK($D6),"",$AC6*0.0135790158248428/1000) -> 0.48614468 | AT6: =IF(ISBLANK($D6),"",AN6-AS6) -> 0.44471197 | AU6: =IF(ISBLANK($D6),"",$S6*0.000738514285714286/1000) -> 0.050625977 | AV6: =IF(ISBLANK($D6),"",$V6*0.000738514285714286/1000) -> 0.018514432 | AW6: =IF(ISBLANK($D6),"",$X6*0.000738514285714286/1000) -> 0.0072559263 | AX6: =IF(ISBLANK($D6),"",$Z6*0.000738514285714286/1000) -> 0.00066931917 | AY6: =IF(ISBLANK($D6),"",$AB6*0.000738514285714286/1000) -> 0 | AZ6: =IF(ISBLANK($D6),"",$AC6*0.000738514285714286/1000) -> 0.026439677 | BA6: =IF(ISBLANK($D6),"",AU6-AZ6) -> 0.0241863 | BB6: =IF(V6>0,J6*DATA!$C$4,0) -> 31798 | BC6: =IF(X6>0,N6*_xlfn.XLOOKUP(Kaišiadorys!O6,DATA!$B$5:$B$6,DATA!$C$5:$C$6,"error",0,1),0) -> 15059.424 | BD6: =IF(Z6>0,(L6-M6)*DATA!$C$7,"0,00 ") -> 1605 | BE6: =IF(G6="basement",D6*DATA!$C$8,IF(G6="ground",0,"error")) -> 12184 | BF6: =BB6+BC6+BD6+BE6 -> 60646.424 | BG6: 1.27 | BH6: 1.274186 | BI6: 0.87 | BJ6: 0.85 | BK6: =IF(K6="N",1/((1/BG6)+0.15/0.038),BG6) -> 0.2112035 | BL6: =IF(O6="sloped",1/(1/BJ6+0.15/0.04),IF(O6="flat",1/(1/BJ6+0.15/0.034),"error")) -> 0.20298507 | BM6: 1.1 | BN6: =IF(BI6=0.85,1/(1/BI6+0.05/0.038),BI6) -> 0.87 | BP6: =D6*BS6 -> 2589.1 | BQ6: =H6 -> 2 | BR6: =0.32*BP6 -> 828.512 | BS6: =I6 -> 8.5 | BT6: =IF(BQ6<=3,0.76*BP6,0.8*BP6) -> 1967.716 | BU6: =(($D6*$BI6*($BU$1-$BX$1)+$J6*$BG6*($BU$1-$BW$1)+$L6*$BH6*($BU$1-$BW$1)+$N6*$BJ6*($BU$1-$BV$1))*1.05+$BT6*(5.95))/1000 -> 59.485521 | BV6: =(($D6*$BI6*($BU$1-$BX$1)+$J6*$BK6*($BU$1-$BW$1)+$L6*$BH6*($BU$1-$BW$1)+$N6*$BJ6*($BU$1-$BV$1))*1.05+$BT6*(5.95))/1000 -> 37.731064 | BW6: =(($D6*$BI6*($BU$1-$BX$1)+$J6*$BG6*($BU$1-$BW$1)+$L6*$BH6*($BU$1-$BW$1)+$N6*$BL6*($BU$1-$BV$1))*1.05+$BT6*(5.95))/1000 -> 50.959807 | BX6: =(($D6*$BI6*($BU$1-$BX$1)+$J6*$BG6*($BU$1-$BW$1)+$L6*$BM6*($BU$1-$BW$1)+$N6*$BJ6*($BU$1-$BV$1))*1.05+$BT6*(5.95))/1000 -> 58.699071 | BY6: =(($D6*$BN6*($BU$1-$BX$1)+$J6*$BG6*($BU$1-$BW$1)+$L6*$BH6*($BU$1-$BW$1)+$N6*$BJ6*($BU$1-$BV$1))*1.05+$BT6*(5.95))/1000 -> 59.485521 | BZ6: =BU6*1152.4 -> 68551.114 | CA6: =BV6*1152.4 -> 43481.278 | CB6: =BW6*1152.4 -> 58726.082 | CC6: =BX6*1152.4 -> 67644.809 | CD6: =BY6*1152.4 -> 68551.114
A7: 4 | B7: Kaišiadorys | C7: Birutės gatvė 10 | D7: 119.54 | E7: =0.8*D7*H7 -> 191.264 | F7: 74.6 | G7: Ground | H7: 2 | I7: 8.5 | J7: =F7*I7-L7 -> 580.04 | K7: N | L7: 54.06 | M7: 54.06 | N7: 325.38 | O7: Sloped | P7: N | Q7: District heating | R7: Woodchips | S7: =BZ7 -> 58959.919 | T7: =S7/E7 -> 308.26459 | U7: =CA7 -> 29234.843 | V7: =IF(ISBLANK(D7)," ",S7-U7) -> 29725.076 | W7: =CB7 -> 48770.306 | X7: =IF(ISBLANK(D7)," ",S7-W7) -> 10189.613 | Y7: =CC7 -> 58959.919 | Z7: =IF(ISBLANK(D7)," ",S7-Y7) -> 0 | AA7: =CD7 -> 58959.919 | AB7: =IF(ISBLANK(D7)," ",S7-AA7) -> 0 | AC7: =V7+X7+Z7+AB7 -> 39914.69 | AD7: =IF(ISBLANK(D7)," ",S7-AC7) -> 19045.23 | AE7: =(S7-AD7)/E7 -> 208.68898 | AF7: =1-AD7/S7 -> 0.67698006 | AG7: =IF(ISBLANK($D7),"",S7*_xlfn.XLOOKUP(Q7,DATA!$B$24:$B$25,DATA!$C$24:$C$25,"error",0,1)/1000) -> 23.482557 | AH7: =IF(ISBLANK($D7),"",V7*_xlfn.XLOOKUP(Q7,DATA!$B$24:$B$25,DATA!$C$24:$C$25,"error",0,1)/1000) -> 11.838903 | AI7: =IF(ISBLANK($D7),"",X7*_xlfn.XLOOKUP(Q7,DATA!$B$24:$B$25,DATA!$C$24:$C$25,"error",0,1)/1000) -> 4.0583191 | AJ7: =IF(ISBLANK($D7),"",Z7*_xlfn.XLOOKUP(Q7,DATA!$B$24:$B$25,DATA!$C$24:$C$25,"error",0,1)/1000) -> 0 | AK7: =IF(ISBLANK($D7),"",AB7*_xlfn.XLOOKUP(Q7,DATA!$B$24:$B$25,DATA!$C$24:$C$25,"error",0,1)/1000) -> 0 | AL7: =SUM(AH7:AK7) -> 15.897223 | AM7: =IF(ISBLANK($D7),"",AG7-AL7) -> 7.5853341 | AN7: =IF(ISBLANK($D7),"",$S7*0.0135790158248428/1000) -> 0.80061768 | AO7: =IF(ISBLANK($D7),"",$V7*0.0135790158248428/1000) -> 0.40363728 | AP7: =IF(ISBLANK($D7),"",$X7*0.0135790158248428/1000) -> 0.13836492 | AQ7: =IF(ISBLANK($D7),"",$Z7*0.0135790158248428/1000) -> 0 | AR7: =IF(ISBLANK($D7),"",$AB7*0.0135790158248428/1000) -> 0 | AS7: =IF(ISBLANK($D7),"",$AC7*0.0135790158248428/1000) -> 0.5420022 | AT7: =IF(ISBLANK($D7),"",AN7-AS7) -> 0.25861548 | AU7: =IF(ISBLANK($D7),"",$S7*0.000738514285714286/1000) -> 0.043542743 | AV7: =IF(ISBLANK($D7),"",$V7*0.000738514285714286/1000) -> 0.021952394 | AW7: =IF(ISBLANK($D7),"",$X7*0.000738514285714286/1000) -> 0.0075251748 | AX7: =IF(ISBLANK($D7),"",$Z7*0.000738514285714286/1000) -> 0 | AY7: =IF(ISBLANK($D7),"",$AB7*0.000738514285714286/1000) -> 0 | AZ7: =IF(ISBLANK($D7),"",$AC7*0.000738514285714286/1000) -> 0.029477568 | BA7: =IF(ISBLANK($D7),"",AU7-AZ7) -> 0.014065174 | BB7: =IF(V7>0,J7*DATA!$C$4,0) -> 37702.6 | BC7: =IF(X7>0,N7*_xlfn.XLOOKUP(Kaišiadorys!O7,DATA!$B$5:$B$6,DATA!$C$5:$C$6,"error",0,1),0) -> 15618.24 | BD7: =IF(Z7>0,(L7-M7)*DATA!$C$7,"0,00 ") -> 0,00 | BE7: =IF(G7="basement",D7*DATA!$C$8,IF(G7="ground",0,"error")) -> 0 | BF7: =BB7+BC7+BD7+BE7 -> 53320.84 | BG7: 1.27 | BH7: 1.1 | BI7: 0.71 | BJ7: 0.85 | BK7: =IF(K7="N",1/((1/BG7)+0.15/0.038),BG7) -> 0.2112035 | BL7: =IF(O7="sloped",1/(1/BJ7+0.15/0.04),IF(O7="flat",1/(1/BJ7+0.15/0.034),"error")) -> 0.20298507 | BM7: 1.1 | BN7: =IF(BI7=0.85,1/(1/BI7+0.05/0.038),BI7) -> 0.71 | BP7: =D7*BS7 -> 1016.09 | BQ7: =H7 -> 2 | BR7: =0.32*BP7 -> 325.1488 | BS7: =I7 -> 8.5 | BT7: =IF(BQ7<=3,0.76*BP7,0.8*BP7) -> 772.2284 | BU7: =(($D7*$BI7*($BU$1-$BX$1)+$J7*$BG7*($BU$1-$BW$1)+$L7*$BH7*($BU$1-$BW$1)+$N7*$BJ7*($BU$1-$BV$1))*1.05+$BT7*(5.95))/1000 -> 51.162721 | BV7: =(($D7*$BI7*($BU$1-$BX$1)+$J7*$BK7*($BU$1-$BW$1)+$L7*$BH7*($BU$1-$BW$1)+$N7*$BJ7*($BU$1-$BV$1))*1.05+$BT7*(5.95))/1000 -> 25.368659 | BW7: =(($D7*$BI7*($BU$1-$BX$1)+$J7*$BG7*($BU$1-$BW$1)+$L7*$BH7*($BU$1-$BW$1)+$N7*$BL7*($BU$1-$BV$1))*1.05+$BT7*(5.95))/1000 -> 42.320641 | BX7: =(($D7*$BI7*($BU$1-$BX$1)+$J7*$BG7*($BU$1-$BW$1)+$L7*$BM7*($BU$1-$BW$1)+$N7*$BJ7*($BU$1-$BV$1))*1.05+$BT7*(5.95))/1000 -> 51.162721 | BY7: =(($D7*$BN7*($BU$1-$BX$1)+$J7*$BG7*($BU$1-$BW$1)+$L7*$BH7*($BU$1-$BW$1)+$N7*$BJ7*($BU$1-$BV$1))*1.05+$BT7*(5.95))/1000 -> 51.162721 | BZ7: =BU7*1152.4 -> 58959.919 | CA7: =BV7*1152.4 -> 29234.843 | CB7: =BW7*1152.4 -> 48770.306 | CC7: =BX7*1152.4 -> 58959.919 | CD7: =BY7*1152.4 -> 58959.919
A8: 5 | B8: Kaišiadorys | C8: Gedimino gatvė 18 | D8: 260 | E8: =0.8*D8*H8 -> 624 | F8: 61 | G8: Ground | H8: 3 | I8: 11.25 | J8: =F8*I8-L8 -> 578.25 | K8: N | L8: 108 | M8: 97.2 | N8: 295 | O8: Sloped | P8: N | Q8: District heating | R8: Woodchips | S8: =BZ8 -> 76220.249 | T8: =S8/E8 -> 122.14783 | U8: =CA8 -> 46586.904 | V8: =IF(ISBLANK(D8)," ",S8-U8) -> 29633.345 | W8: =CB8 -> 66982.017 | X8: =IF(ISBLANK(D8)," ",S8-W8) -> 9238.2318 | Y8: =CC8 -> 75305.474 | Z8: =IF(ISBLANK(D8)," ",S8-Y8) -> 914.77512 | AA8: =CD8 -> 76220.249 | AB8: =IF(ISBLANK(D8)," ",S8-AA8) -> 0 | AC8: =V8+X8+Z8+AB8 -> 39786.352 | AD8: =IF(ISBLANK(D8)," ",S8-AC8) -> 36433.897 | AE8: =(S8-AD8)/E8 -> 63.760179 | AF8: =1-AD8/S8 -> 0.52199189 | AG8: =IF(ISBLANK($D8),"",S8*_xlfn.XLOOKUP(Q8,DATA!$B$24:$B$25,DATA!$C$24:$C$25,"error",0,1)/1000) -> 30.357001 | AH8: =IF(ISBLANK($D8),"",V8*_xlfn.XLOOKUP(Q8,DATA!$B$24:$B$25,DATA!$C$24:$C$25,"error",0,1)/1000) -> 11.802369 | AI8: =IF(ISBLANK($D8),"",X8*_xlfn.XLOOKUP(Q8,DATA!$B$24:$B$25,DATA!$C$24:$C$25,"error",0,1)/1000) -> 3.679403 | AJ8: =IF(ISBLANK($D8),"",Z8*_xlfn.XLOOKUP(Q8,DATA!$B$24:$B$25,DATA!$C$24:$C$25,"error",0,1)/1000) -> 0.36433663 | AK8: =IF(ISBLANK($D8),"",AB8*_xlfn.XLOOKUP(Q8,DATA!$B$24:$B$25,DATA!$C$24:$C$25,"error",0,1)/1000) -> 0 | AL8: =SUM(AH8:AK8) -> 15.846108 | AM8: =IF(ISBLANK($D8),"",AG8-AL8) -> 14.510892 | AN8: =IF(ISBLANK($D8),"",$S8*0.0135790158248428/1000) -> 1.034996 | AO8: =IF(ISBLANK($D8),"",$V8*0.0135790158248428/1000) -> 0.40239166 | AP8: =IF(ISBLANK($D8),"",$X8*0.0135790158248428/1000) -> 0.1254461 | AQ8: =IF(ISBLANK($D8),"",$Z8*0.0135790158248428/1000) -> 0.012421746 | AR8: =IF(ISBLANK($D8),"",$AB8*0.0135790158248428/1000) -> 0 | AS8: =IF(ISBLANK($D8),"",$AC8*0.0135790158248428/1000) -> 0.5402595 | AT8: =IF(ISBLANK($D8),"",AN8-AS8) -> 0.49473646 | AU8: =IF(ISBLANK($D8),"",$S8*0.000738514285714286/1000) -> 0.056289743 | AV8: =IF(ISBLANK($D8),"",$V8*0.000738514285714286/1000) -> 0.021884649 | AW8: =IF(ISBLANK($D8),"",$X8*0.000738514285714286/1000) -> 0.0068225662 | AX8: =IF(ISBLANK($D8),"",$Z8*0.000738514285714286/1000) -> 0.00067557449 | AY8: =IF(ISBLANK($D8),"",$AB8*0.000738514285714286/1000) -> 0 | AZ8: =IF(ISBLANK($D8),"",$AC8*0.000738514285714286/1000) -> 0.029382789 | BA8: =IF(ISBLANK($D8),"",AU8-AZ8) -> 0.026906953 | BB8: =IF(V8>0,J8*DATA!$C$4,0) -> 37586.25 | BC8: =IF(X8>0,N8*_xlfn.XLOOKUP(Kaišiadorys!O8,DATA!$B$5:$B$6,DATA!$C$5:$C$6,"error",0,1),0) -> 14160 | BD8: =IF(Z8>0,(L8-M8)*DATA!$C$7,"0,00 ") -> 1620 | BE8: =IF(G8="basement",D8*DATA!$C$8,IF(G8="ground",0,"error")) -> 0 | BF8: =BB8+BC8+BD8+BE8 -> 53366.25 | BG8: 1.27 | BH8: 1.275 | BI8: 1.24 | BJ8: 0.85 | BK8: =IF(K8="N",1/((1/BG8)+0.15/0.038),BG8) -> 0.2112035 | BL8: =IF(O8="sloped",1/(1/BJ8+0.15/0.04),IF(O8="flat",1/(1/BJ8+0.15/0.034),"error")) -> 0.20298507 | BM8: 1.1 | BN8: =IF(BI8=0.85,1/(1/BI8+0.05/0.038),BI8) -> 1.24 | BP8: =D8*BS8 -> 2925 | BQ8: =H8 -> 3 | BR8: =0.32*BP8 -> 936 | BS8: =I8 -> 11.25 | BT8: =IF(BQ8<=3,0.76*BP8,0.8*BP8) -> 2223 | BU8: =(($D8*$BI8*($BU$1-$BX$1)+$J8*$BG8*($BU$1-$BW$1)+$L8*$BH8*($BU$1-$BW$1)+$N8*$BJ8*($BU$1-$BV$1))*1.05+$BT8*(5.95))/1000 -> 66.140445 | BV8: =(($D8*$BI8*($BU$1-$BX$1)+$J8*$BK8*($BU$1-$BW$1)+$L8*$BH8*($BU$1-$BW$1)+$N8*$BJ8*($BU$1-$BV$1))*1.05+$BT8*(5.95))/1000 -> 40.425984 | BW8: =(($D8*$BI8*($BU$1-$BX$1)+$J8*$BG8*($BU$1-$BW$1)+$L8*$BH8*($BU$1-$BW$1)+$N8*$BL8*($BU$1-$BV$1))*1.05+$BT8*(5.95))/1000 -> 58.12393 | BX8: =(($D8*$BI8*($BU$1-$BX$1)+$J8*$BG8*($BU$1-$BW$1)+$L8*$BM8*($BU$1-$BW$1)+$N8*$BJ8*($BU$1-$BV$1))*1.05+$BT8*(5.95))/1000 -> 65.346645 | BY8: =(($D8*$BN8*($BU$1-$BX$1)+$J8*$BG8*($BU$1-$BW$1)+$L8*$BH8*($BU$1-$BW$1)+$N8*$BJ8*($BU$1-$BV$1))*1.05+$BT8*(5.95))/1000 -> 66.140445 | BZ8: =BU8*1152.4 -> 76220.249 | CA8: =BV8*1152.4 -> 46586.904 | CB8: =BW8*1152.4 -> 66982.017 | CC8: =BX8*1152.4 -> 75305.474 | CD8: =BY8*1152.4 -> 76220.249
A9: 6 | B9: Kaišiadorys | C9: Gedimino gatvė 20 | D9: 749.3 | E9: =0.8*D9*H9 -> 2997.2 | F9: 150.6 | G9: Ground | H9: 5 | I9: 17.5 | J9: =F9*I9-L9 -> 2213.8 | K9: N | L9: 421.7 | M9: 358.4 | N9: 771.779 | O9: Sloped | P9: Y | Q9: District heating | R9: Woodchips | S9: =BZ9 -> 280983.51 | T9: =S9/E9 -> 93.748669 | U9: =CA9 -> 167533.79 | V9: =IF(ISBLANK(D9)," ",S9-U9) -> 113449.72 | W9: =CB9 -> 256814.45 | X9: =IF(ISBLANK(D9)," ",S9-W9) -> 24169.062 | Y9: =CC9 -> 275621.91 | Z9: =IF(ISBLANK(D9)," ",S9-Y9) -> 5361.5986 | AA9: =CD9 -> 280983.51 | AB9: =IF(ISBLANK(D9)," ",S9-AA9) -> 0 | AC9: =V9+X9+Z9+AB9 -> 142980.38 | AD9: =IF(ISBLANK(D9)," ",S9-AC9) -> 138003.13 | AE9: =(S9-AD9)/E9 -> 47.70465 | AF9: =1-AD9/S9 -> 0.50885683 | AG9: =IF(ISBLANK($D9),"",S9*_xlfn.XLOOKUP(Q9,DATA!$B$24:$B$25,DATA!$C$24:$C$25,"error",0,1)/1000) -> 111.91011 | AH9: =IF(ISBLANK($D9),"",V9*_xlfn.XLOOKUP(Q9,DATA!$B$24:$B$25,DATA!$C$24:$C$25,"error",0,1)/1000) -> 45.184754 | AI9: =IF(ISBLANK($D9),"",X9*_xlfn.XLOOKUP(Q9,DATA!$B$24:$B$25,DATA!$C$24:$C$25,"error",0,1)/1000) -> 9.626054 | AJ9: =IF(ISBLANK($D9),"",Z9*_xlfn.XLOOKUP(Q9,DATA!$B$24:$B$25,DATA!$C$24:$C$25,"error",0,1)/1000) -> 2.1354175 | AK9: =IF(ISBLANK($D9),"",AB9*_xlfn.XLOOKUP(Q9,DATA!$B$24:$B$25,DATA!$C$24:$C$25,"error",0,1)/1000) -> 0 | AL9: =SUM(AH9:AK9) -> 56.946225 | AM9: =IF(ISBLANK($D9),"",AG9-AL9) -> 54.963888 | AN9: =IF(ISBLANK($D9),"",$S9*0.0135790158248428/1000) -> 3.8154795 | AO9: =IF(ISBLANK($D9),"",$V9*0.0135790158248428/1000) -> 1.5405355 | AP9: =IF(ISBLANK($D9),"",$X9*0.0135790158248428/1000) -> 0.32819208 | AQ9: =IF(ISBLANK($D9),"",$Z9*0.0135790158248428/1000) -> 0.072805233 | AR9: =IF(ISBLANK($D9),"",$AB9*0.0135790158248428/1000) -> 0 | AS9: =IF(ISBLANK($D9),"",$AC9*0.0135790158248428/1000) -> 1.9415328 | AT9: =IF(ISBLANK($D9),"",AN9-AS9) -> 1.8739467 | AU9: =IF(ISBLANK($D9),"",$S9*0.000738514285714286/1000) -> 0.20751034 | AV9: =IF(ISBLANK($D9),"",$V9*0.000738514285714286/1000) -> 0.083784237 | AW9: =IF(ISBLANK($D9),"",$X9*0.000738514285714286/1000) -> 0.017849198 | AX9: =IF(ISBLANK($D9),"",$Z9*0.000738514285714286/1000) -> 0.0039596172 | AY9: =IF(ISBLANK($D9),"",$AB9*0.000738514285714286/1000) -> 0 | AZ9: =IF(ISBLANK($D9),"",$AC9*0.000738514285714286/1000) -> 0.10559305 | BA9: =IF(ISBLANK($D9),"",AU9-AZ9) -> 0.10191729 | BB9: =IF(V9>0,J9*DATA!$C$4,0) -> 143897 | BC9: =IF(X9>0,N9*_xlfn.XLOOKUP(Kaišiadorys!O9,DATA!$B$5:$B$6,DATA!$C$5:$C$6,"error",0,1),0) -> 37045.392 | BD9: =IF(Z9>0,(L9-M9)*DATA!$C$7,"0,00 ") -> 9495 | BE9: =IF(G9="basement",D9*DATA!$C$8,IF(G9="ground",0,"error")) -> 0 | BF9: =BB9+BC9+BD9+BE9 -> 190437.39 | BG9: 1.27 | BH9: 1.3626867 | BI9: 0.87 | BJ9: 0.85 | BK9: =IF(K9="N",1/((1/BG9)+0.15/0.038),BG9) -> 0.2112035 | BL9: =IF(O9="sloped",1/(1/BJ9+0.15/0.04),IF(O9="flat",1/(1/BJ9+0.15/0.034),"error")) -> 0.20298507 | BM9: 1.1 | BN9: =IF(BI9=0.85,1/(1/BI9+0.05/0.038),BI9) -> 0.87 | BP9: =D9*BS9 -> 13112.75 | BQ9: =H9 -> 5 | BR9: =0.32*BP9 -> 4196.08 | BS9: =I9 -> 17.5 | BT9: =IF(BQ9<=3,0.76*BP9,0.8*BP9) -> 10490.2 | BU9: =(($D9*$BI9*($BU$1-$BX$1)+$J9*$BG9*($BU$1-$BW$1)+$L9*$BH9*($BU$1-$BW$1)+$N9*$BJ9*($BU$1-$BV$1))*1.05+$BT9*(5.95))/1000 -> 243.82464 | BV9: =(($D9*$BI9*($BU$1-$BX$1)+$J9*$BK9*($BU$1-$BW$1)+$L9*$BH9*($BU$1-$BW$1)+$N9*$BJ9*($BU$1-$BV$1))*1.05+$BT9*(5.95))/1000 -> 145.37816 | BW9: =(($D9*$BI9*($BU$1-$BX$1)+$J9*$BG9*($BU$1-$BW$1)+$L9*$BH9*($BU$1-$BW$1)+$N9*$BL9*($BU$1-$BV$1))*1.05+$BT9*(5.95))/1000 -> 222.85183 | BX9: =(($D9*$BI9*($BU$1-$BX$1)+$J9*$BG9*($BU$1-$BW$1)+$L9*$BM9*($BU$1-$BW$1)+$N9*$BJ9*($BU$1-$BV$1))*1.05+$BT9*(5.95))/1000 -> 239.17209 | BY9: =(($D9*$BN9*($BU$1-$BX$1)+$J9*$BG9*($BU$1-$BW$1)+$L9*$BH9*($BU$1-$BW$1)+$N9*$BJ9*($BU$1-$BV$1))*1.05+$BT9*(5.95))/1000 -> 243.82464 | BZ9: =BU9*1152.4 -> 280983.51 | CA9: =BV9*1152.4 -> 167533.79 | CB9: =BW9*1152.4 -> 256814.45 | CC9: =BX9*1152.4 -> 275621.91 | CD9: =BY9*1152.4 -> 280983.51
A10: 7 | B10: Kaišiadorys | C10: Gedimino gatvė 22 | D10: 817.1 | E10: =0.8*D10*H10 -> 3268.4 | F10: 150.2 | G10: Ground | H10: 5 | I10: 17.5 | J10: =F10*I10-L10 -> 2234.3 | K10: N | L10: 394.2 | M10: 275.9 | N10: 817.1 | O10: Flat | P10: Y | Q10: District heating | R10: Woodchips | S10: =BZ10 -> 295024.43 | T10: =S10/E10 -> 90.265706 | U10: =CA10 -> 180524.16 | V10: =IF(ISBLANK(D10)," ",S10-U10) -> 114500.27 | W10: =CB10 -> 268485.45 | X10: =IF(ISBLANK(D10)," ",S10-W10) -> 26538.987 | Y10: =CC10 -> 285004.26 | Z10: =IF(ISBLANK(D10)," ",S10-Y10) -> 10020.176 | AA10: =CD10 -> 295024.43 | AB10: =IF(ISBLANK(D10)," ",S10-AA10) -> 0 | AC10: =V10+X10+Z10+AB10 -> 151059.44 | AD10: =IF(ISBLANK(D10)," ",S10-AC10) -> 143965 | AE10: =(S10-AD10)/E10 -> 46.21816 | AF10: =1-AD10/S10 -> 0.51202347 | AG10: =IF(ISBLANK($D10),"",S10*_xlfn.XLOOKUP(Q10,DATA!$B$24:$B$25,DATA!$C$24:$C$25,"error",0,1)/1000) -> 117.50233 | AH10: =IF(ISBLANK($D10),"",V10*_xlfn.XLOOKUP(Q10,DATA!$B$24:$B$25,DATA!$C$24:$C$25,"error",0,1)/1000) -> 45.603169 | AI10: =IF(ISBLANK($D10),"",X10*_xlfn.XLOOKUP(Q10,DATA!$B$24:$B$25,DATA!$C$24:$C$25,"error",0,1)/1000) -> 10.569948 | AJ10: =IF(ISBLANK($D10),"",Z10*_xlfn.XLOOKUP(Q10,DATA!$B$24:$B$25,DATA!$C$24:$C$25,"error",0,1)/1000) -> 3.9908355 | AK10: =IF(ISBLANK($D10),"",AB10*_xlfn.XLOOKUP(Q10,DATA!$B$24:$B$25,DATA!$C$24:$C$25,"error",0,1)/1000) -> 0 | AL10: =SUM(AH10:AK10) -> 60.163952 | AM10: =IF(ISBLANK($D10),"",AG10-AL10) -> 57.338379 | AN10: =IF(ISBLANK($D10),"",$S10*0.0135790158248428/1000) -> 4.0061414 | AO10: =IF(ISBLANK($D10),"",$V10*0.0135790158248428/1000) -> 1.554801 | AP10: =IF(ISBLANK($D10),"",$X10*0.0135790158248428/1000) -> 0.36037332 | AQ10: =IF(ISBLANK($D10),"",$Z10*0.0135790158248428/1000) -> 0.13606412 | AR10: =IF(ISBLANK($D10),"",$AB10*0.0135790158248428/1000) -> 0 | AS10: =IF(ISBLANK($D10),"",$AC10*0.0135790158248428/1000) -> 2.0512385 | AT10: =IF(ISBLANK($D10),"",AN10-AS10) -> 1.954903 | AU10: =IF(ISBLANK($D10),"",$S10*0.000738514285714286/1000) -> 0.21787976 | AV10: =IF(ISBLANK($D10),"",$V10*0.000738514285714286/1000) -> 0.084560087 | AW10: =IF(ISBLANK($D10),"",$X10*0.000738514285714286/1000) -> 0.019599421 | AX10: =IF(ISBLANK($D10),"",$Z10*0.000738514285714286/1000) -> 0.0074000428 | AY10: =IF(ISBLANK($D10),"",$AB10*0.000738514285714286/1000) -> 0 | AZ10: =IF(ISBLANK($D10),"",$AC10*0.000738514285714286/1000) -> 0.11155955 | BA10: =IF(ISBLANK($D10),"",AU10-AZ10) -> 0.10632021 | BB10: =IF(V10>0,J10*DATA!$C$4,0) -> 145229.5 | BC10: =IF(X10>0,N10*_xlfn.XLOOKUP(Kaišiadorys!O10,DATA!$B$5:$B$6,DATA!$C$5:$C$6,"error",0,1),0) -> 69453.5 | BD10: =IF(Z10>0,(L10-M10)*DATA!$C$7,"0,00 ") -> 17745 | BE10: =IF(G10="basement",D10*DATA!$C$8,IF(G10="ground",0,"error")) -> 0 | BF10: =BB10+BC10+BD10+BE10 -> 232428 | BG10: 1.27 | BH10: 1.6251776 | BI10: 0.87 | BJ10: 0.85 | BK10: =IF(K10="N",1/((1/BG10)+0.15/0.038),BG10) -> 0.2112035 | BL10: =IF(O10="sloped",1/(1/BJ10+0.15/0.04),IF(O10="flat",1/(1/BJ10+0.15/0.034),"error")) -> 0.17894737 | BM10: 1.1 | BN10: =IF(BI10=0.85,1/(1/BI10+0.05/0.038),BI10) -> 0.87 | BP10: =D10*BS10 -> 14299.25 | BQ10: =H10 -> 5 | BR10: =0.32*BP10 -> 4575.76 | BS10: =I10 -> 17.5 | BT10: =IF(BQ10<=3,0.76*BP10,0.8*BP10) -> 11439.4 | BU10: =(($D10*$BI10*($BU$1-$BX$1)+$J10*$BG10*($BU$1-$BW$1)+$L10*$BH10*($BU$1-$BW$1)+$N10*$BJ10*($BU$1-$BV$1))*1.05+$BT10*(5.95))/1000 -> 256.00871 | BV10: =(($D10*$BI10*($BU$1-$BX$1)+$J10*$BK10*($BU$1-$BW$1)+$L10*$BH10*($BU$1-$BW$1)+$N10*$BJ10*($BU$1-$BV$1))*1.05+$BT10*(5.95))/1000 -> 156.65061 | BW10: =(($D10*$BI10*($BU$1-$BX$1)+$J10*$BG10*($BU$1-$BW$1)+$L10*$BH10*($BU$1-$BW$1)+$N10*$BL10*($BU$1-$BV$1))*1.05+$BT10*(5.95))/1000 -> 232.97939 | BX10: =(($D10*$BI10*($BU$1-$BX$1)+$J10*$BG10*($BU$1-$BW$1)+$L10*$BM10*($BU$1-$BW$1)+$N10*$BJ10*($BU$1-$BV$1))*1.05+$BT10*(5.95))/1000 -> 247.31366 | BY10: =(($D10*$BN10*($BU$1-$BX$1)+$J10*$BG10*($BU$1-$BW$1)+$L10*$BH10*($BU$1-$BW$1)+$N10*$BJ10*($BU$1-$BV$1))*1.05+$BT10*(5.95))/1000 -> 256.00871 | BZ10: =BU10*1152.4 -> 295024.43 | CA10: =BV10*1152.4 -> 180524.16 | CB10: =BW10*1152.4 -> 268485.45 | CC10: =BX10*1152.4 -> 285004.26 | CD10: =BY10*1152.4 -> 295024.43
A11: 8 | B11: Kaišiadorys | C11: Gedimino gatvė 24 | D11: 621.09 | E11: =0.8*D11*H11 -> 2484.36 | F11: 153.6 | G11: Ground | H11: 5 | I11: 17.5 | J11: =F11*I11-L11 -> 2202.24 | K11: N | L11: 485.76 | M11: 364.29 | N11: 805.16 | O11: Flat | P11: Y | Q11: District heating | R11: Woodchips | S11: =BZ11 -> 273337.79 | T11: =S11/E11 -> 110.02342 | U11: =CA11 -> 160480.49 | V11: =IF(ISBLANK(D11)," ",S11-U11) -> 112857.31 | W11: =CB11 -> 247186.61 | X11: =IF(ISBLANK(D11)," ",S11-W11) -> 26151.182 | Y11: =CC11 -> 263049.11 | Z11: =IF(ISBLANK(D11)," ",S11-Y11) -> 10288.679 | AA11: =CD11 -> 273337.79 | AB11: =IF(ISBLANK(D11)," ",S11-AA11) -> 0 | AC11: =V11+X11+Z11+AB11 -> 149297.17 | AD11: =IF(ISBLANK(D11)," ",S11-AC11) -> 124040.62 | AE11: =(S11-AD11)/E11 -> 60.09482 | AF11: =1-AD11/S11 -> 0.54620024 | AG11: =IF(ISBLANK($D11),"",S11*_xlfn.XLOOKUP(Q11,DATA!$B$24:$B$25,DATA!$C$24:$C$25,"error",0,1)/1000) -> 108.86498 | AH11: =IF(ISBLANK($D11),"",V11*_xlfn.XLOOKUP(Q11,DATA!$B$24:$B$25,DATA!$C$24:$C$25,"error",0,1)/1000) -> 44.948808 | AI11: =IF(ISBLANK($D11),"",X11*_xlfn.XLOOKUP(Q11,DATA!$B$24:$B$25,DATA!$C$24:$C$25,"error",0,1)/1000) -> 10.415493 | AJ11: =IF(ISBLANK($D11),"",Z11*_xlfn.XLOOKUP(Q11,DATA!$B$24:$B$25,DATA!$C$24:$C$25,"error",0,1)/1000) -> 4.0977751 | AK11: =IF(ISBLANK($D11),"",AB11*_xlfn.XLOOKUP(Q11,DATA!$B$24:$B$25,DATA!$C$24:$C$25,"error",0,1)/1000) -> 0 | AL11: =SUM(AH11:AK11) -> 59.462076 | AM11: =IF(ISBLANK($D11),"",AG11-AL11) -> 49.4029 | AN11: =IF(ISBLANK($D11),"",$S11*0.0135790158248428/1000) -> 3.7116582 | AO11: =IF(ISBLANK($D11),"",$V11*0.0135790158248428/1000) -> 1.5324912 | AP11: =IF(ISBLANK($D11),"",$X11*0.0135790158248428/1000) -> 0.35510731 | AQ11: =IF(ISBLANK($D11),"",$Z11*0.0135790158248428/1000) -> 0.13971014 | AR11: =IF(ISBLANK($D11),"",$AB11*0.0135790158248428/1000) -> 0 | AS11: =IF(ISBLANK($D11),"",$AC11*0.0135790158248428/1000) -> 2.0273086 | AT11: =IF(ISBLANK($D11),"",AN11-AS11) -> 1.6843496 | AU11: =IF(ISBLANK($D11),"",$S11*0.000738514285714286/1000) -> 0.20186386 | AV11: =IF(ISBLANK($D11),"",$V11*0.000738514285714286/1000) -> 0.083346734 | AW11: =IF(ISBLANK($D11),"",$X11*0.000738514285714286/1000) -> 0.019313021 | AX11: =IF(ISBLANK($D11),"",$Z11*0.000738514285714286/1000) -> 0.0075983365 | AY11: =IF(ISBLANK($D11),"",$AB11*0.000738514285714286/1000) -> 0 | AZ11: =IF(ISBLANK($D11),"",$AC11*0.000738514285714286/1000) -> 0.11025809 | BA11: =IF(ISBLANK($D11),"",AU11-AZ11) -> 0.091605774 | BB11: =IF(V11>0,J11*DATA!$C$4,0) -> 143145.6 | BC11: =IF(X11>0,N11*_xlfn.XLOOKUP(Kaišiadorys!O11,DATA!$B$5:$B$6,DATA!$C$5:$C$6,"error",0,1),0) -> 68438.6 | BD11: =IF(Z11>0,(L11-M11)*DATA!$C$7,"0,00 ") -> 18220.5 | BE11: =IF(G11="basement",D11*DATA!$C$8,IF(G11="ground",0,"error")) -> 0 | BF11: =BB11+BC11+BD11+BE11 -> 229804.7 | BG11: 1.27 | BH11: 1.5376081 | BI11: 0.71 | BJ11: 0.85 | BK11: =IF(K11="N",1/((1/BG11)+0.15/0.038),BG11) -> 0.2112035 | BL11: =IF(O11="sloped",1/(1/BJ11+0.15/0.04),IF(O11="flat",1/(1/BJ11+0.15/0.034),"error")) -> 0.17894737 | BM11: 1.1 | BN11: =IF(BI11=0.85,1/(1/BI11+0.05/0.038),BI11) -> 0.71 | BP11: =D11*BS11 -> 10869.075 | BQ11: =H11 -> 5 | BR11: =0.32*BP11 -> 3478.104 | BS11: =I11 -> 17.5 | BT11: =IF(BQ11<=3,0.76*BP11,0.8*BP11) -> 8695.26 | BU11: =(($D11*$BI11*($BU$1-$BX$1)+$J11*$BG11*($BU$1-$BW$1)+$L11*$BH11*($BU$1-$BW$1)+$N11*$BJ11*($BU$1-$BV$1))*1.05+$BT11*(5.95))/1000 -> 237.19003 | BV11: =(($D11*$BI11*($BU$1-$BX$1)+$J11*$BK11*($BU$1-$BW$1)+$L11*$BH11*($BU$1-$BW$1)+$N11*$BJ11*($BU$1-$BV$1))*1.05+$BT11*(5.95))/1000 -> 139.25762 | BW11: =(($D11*$BI11*($BU$1-$BX$1)+$J11*$BG11*($BU$1-$BW$1)+$L11*$BH11*($BU$1-$BW$1)+$N11*$BL11*($BU$1-$BV$1))*1.05+$BT11*(5.95))/1000 -> 214.49723 | BX11: =(($D11*$BI11*($BU$1-$BX$1)+$J11*$BG11*($BU$1-$BW$1)+$L11*$BM11*($BU$1-$BW$1)+$N11*$BJ11*($BU$1-$BV$1))*1.05+$BT11*(5.95))/1000 -> 228.26199 | BY11: =(($D11*$BN11*($BU$1-$BX$1)+$J11*$BG11*($BU$1-$BW$1)+$L11*$BH11*($BU$1-$BW$1)+$N11*$BJ11*($BU$1-$BV$1))*1.05+$BT11*(5.95))/1000 -> 237.19003 | BZ11: =BU11*1152.4 -> 273337.79 | CA11: =BV11*1152.4 -> 160480.49 | CB11: =BW11*1152.4 -> 247186.61 | CC11: =BX11*1152.4 -> 263049.11 | CD11: =BY11*1152.4 -> 273337.79
A12: 9 | B12: Kaišiadorys | C12: Gedimino gatvė 26 | D12: 782.3 | E12: =0.8*D12*H12 -> 3129.2 | F12: 151.8 | G12: Basement | H12: 5 | I12: 17.5 | J12: =F12*I12-L12 -> 2204.9 | K12: N | L12: 451.6 | M12: 293.5 | N12: 782.3 | O12: Flat | P12: Y | Q12: District heating | R12: Woodchips | S12: =BZ12 -> 294249.28 | T12: =S12/E12 -> 94.033389 | U12: =CA12 -> 181255.66 | V12: =IF(ISBLANK(D12)," ",S12-U12) -> 112993.62 | W12: =CB12 -> 268840.58 | X12: =IF(ISBLANK(D12)," ",S12-W12) -> 25408.7 | Y12: =CC12 -> 280857.99 | Z12: =IF(ISBLANK(D12)," ",S12-Y12) -> 13391.291 | AA12: =CD12 -> 294249.28 | AB12: =IF(ISBLANK(D12)," ",S12-AA12) -> 0 | AC12: =V12+X12+Z12+AB12 -> 151793.61 | AD12: =IF(ISBLANK(D12)," ",S12-AC12) -> 142455.67 | AE12: =(S12-AD12)/E12 -> 48.508761 | AF12: =1-AD12/S12 -> 0.51586741 | AG12: =IF(ISBLANK($D12),"",S12*_xlfn.XLOOKUP(Q12,DATA!$B$24:$B$25,DATA!$C$24:$C$25,"error",0,1)/1000) -> 117.1936 | AH12: =IF(ISBLANK($D12),"",V12*_xlfn.XLOOKUP(Q12,DATA!$B$24:$B$25,DATA!$C$24:$C$25,"error",0,1)/1000) -> 45.0031 | AI12: =IF(ISBLANK($D12),"",X12*_xlfn.XLOOKUP(Q12,DATA!$B$24:$B$25,DATA!$C$24:$C$25,"error",0,1)/1000) -> 10.119777 | AJ12: =IF(ISBLANK($D12),"",Z12*_xlfn.XLOOKUP(Q12,DATA!$B$24:$B$25,DATA!$C$24:$C$25,"error",0,1)/1000) -> 5.3334835 | AK12: =IF(ISBLANK($D12),"",AB12*_xlfn.XLOOKUP(Q12,DATA!$B$24:$B$25,DATA!$C$24:$C$25,"error",0,1)/1000) -> 0 | AL12: =SUM(AH12:AK12) -> 60.456361 | AM12: =IF(ISBLANK($D12),"",AG12-AL12) -> 56.737242 | AN12: =IF(ISBLANK($D12),"",$S12*0.0135790158248428/1000) -> 3.9956156 | AO12: =IF(ISBLANK($D12),"",$V12*0.0135790158248428/1000) -> 1.5343422 | AP12: =IF(ISBLANK($D12),"",$X12*0.0135790158248428/1000) -> 0.34502515 | AQ12: =IF(ISBLANK($D12),"",$Z12*0.0135790158248428/1000) -> 0.18184056 | AR12: =IF(ISBLANK($D12),"",$AB12*0.0135790158248428/1000) -> 0 | AS12: =IF(ISBLANK($D12),"",$AC12*0.0135790158248428/1000) -> 2.0612079 | AT12: =IF(ISBLANK($D12),"",AN12-AS12) -> 1.9344077 | AU12: =IF(ISBLANK($D12),"",$S12*0.000738514285714286/1000) -> 0.2173073 | AV12: =IF(ISBLANK($D12),"",$V12*0.000738514285714286/1000) -> 0.083447405 | AW12: =IF(ISBLANK($D12),"",$X12*0.000738514285714286/1000) -> 0.018764688 | AX12: =IF(ISBLANK($D12),"",$Z12*0.000738514285714286/1000) -> 0.00988966 | AY12: =IF(ISBLANK($D12),"",$AB12*0.000738514285714286/1000) -> 0 | AZ12: =IF(ISBLANK($D12),"",$AC12*0.000738514285714286/1000) -> 0.11210175 | BA12: =IF(ISBLANK($D12),"",AU12-AZ12) -> 0.10520554 | BB12: =IF(V12>0,J12*DATA!$C$4,0) -> 143318.5 | BC12: =IF(X12>0,N12*_xlfn.XLOOKUP(Kaišiadorys!O12,DATA!$B$5:$B$6,DATA!$C$5:$C$6,"error",0,1),0) -> 66495.5 | BD12: =IF(Z12>0,(L12-M12)*DATA!$C$7,"0,00 ") -> 23715 | BE12: =IF(G12="basement",D12*DATA!$C$8,IF(G12="ground",0,"error")) -> 31292 | BF12: =BB12+BC12+BD12+BE12 -> 264821 | BG12: 1.27 | BH12: 1.712655 | BI12: 0.87 | BJ12: 0.85 | BK12: =IF(K12="N",1/((1/BG12)+0.15/0.038),BG12) -> 0.2112035 | BL12: =IF(O12="sloped",1/(1/BJ12+0.15/0.04),IF(O12="flat",1/(1/BJ12+0.15/0.034),"error")) -> 0.17894737 | BM12: 1.1 | BN12: =IF(BI12=0.85,1/(1/BI12+0.05/0.038),BI12) -> 0.87 | BP12: =D12*BS12 -> 13690.25 | BQ12: =H12 -> 5 | BR12: =0.32*BP12 -> 4380.88 | BS12: =I12 -> 17.5 | BT12: =IF(BQ12<=3,0.76*BP12,0.8*BP12) -> 10952.2 | BU12: =(($D12*$BI12*($BU$1-$BX$1)+$J12*$BG12*($BU$1-$BW$1)+$L12*$BH12*($BU$1-$BW$1)+$N12*$BJ12*($BU$1-$BV$1))*1.05+$BT12*(5.95))/1000 -> 255.33606 | BV12: =(($D12*$BI12*($BU$1-$BX$1)+$J12*$BK12*($BU$1-$BW$1)+$L12*$BH12*($BU$1-$BW$1)+$N12*$BJ12*($BU$1-$BV$1))*1.05+$BT12*(5.95))/1000 -> 157.28537 | BW12: =(($D12*$BI12*($BU$1-$BX$1)+$J12*$BG12*($BU$1-$BW$1)+$L12*$BH12*($BU$1-$BW$1)+$N12*$BL12*($BU$1-$BV$1))*1.05+$BT12*(5.95))/1000 -> 233.28756 | BX12: =(($D12*$BI12*($BU$1-$BX$1)+$J12*$BG12*($BU$1-$BW$1)+$L12*$BM12*($BU$1-$BW$1)+$N12*$BJ12*($BU$1-$BV$1))*1.05+$BT12*(5.95))/1000 -> 243.71571 | BY12: =(($D12*$BN12*($BU$1-$BX$1)+$J12*$BG12*($BU$1-$BW$1)+$L12*$BH12*($BU$1-$BW$1)+$N12*$BJ12*($BU$1-$BV$1))*1.05+$BT12*(5.95))/1000 -> 255.33606 | BZ12: =BU12*1152.4 -> 294249.28 | CA12: =BV12*1152.4 -> 181255.66 | CB12: =BW12*1152.4 -> 268840.58 | CC12: =BX12*1152.4 -> 280857.99 | CD12: =BY12*1152.4 -> 294249.28
A13: 10 | B13: Kaišiadorys | C13: Gedimino gatvė 28 | D13: 838.4 | E13: =0.8*D13*H13 -> 3353.6 | F13: 154.2 | G13: Basement | H13: 5 | I13: 17.5 | J13: =F13*I13-L13 -> 2158.8 | K13: N | L13: 539.7 | M13: 512.7 | N13: 838.4 | O13: Flat | P13: Y | Q13: District heating | R13: Woodchips | S13: =BZ13 -> 293699.01 | T13: =S13/E13 -> 87.577233 | U13: =CA13 -> 183067.86 | V13: =IF(ISBLANK(D13)," ",S13-U13) -> 110631.15 | W13: =CB13 -> 266468.21 | X13: =IF(ISBLANK(D13)," ",S13-W13) -> 27230.8 | Y13: =CC13 -> 291412.07 | Z13: =IF(ISBLANK(D13)," ",S13-Y13) -> 2286.9378 | AA13: =CD13 -> 293699.01 | AB13: =IF(ISBLANK(D13)," ",S13-AA13) -> 0 | AC13: =V13+X13+Z13+AB13 -> 140148.89 | AD13: =IF(ISBLANK(D13)," ",S13-AC13) -> 153550.12 | AE13: =(S13-AD13)/E13 -> 41.790581 | AF13: =1-AD13/S13 -> 0.47718544 | AG13: =IF(ISBLANK($D13),"",S13*_xlfn.XLOOKUP(Q13,DATA!$B$24:$B$25,DATA!$C$24:$C$25,"error",0,1)/1000) -> 116.97444 | AH13: =IF(ISBLANK($D13),"",V13*_xlfn.XLOOKUP(Q13,DATA!$B$24:$B$25,DATA!$C$24:$C$25,"error",0,1)/1000) -> 44.062176 | AI13: =IF(ISBLANK($D13),"",X13*_xlfn.XLOOKUP(Q13,DATA!$B$24:$B$25,DATA!$C$24:$C$25,"error",0,1)/1000) -> 10.845483 | AJ13: =IF(ISBLANK($D13),"",Z13*_xlfn.XLOOKUP(Q13,DATA!$B$24:$B$25,DATA!$C$24:$C$25,"error",0,1)/1000) -> 0.91084159 | AK13: =IF(ISBLANK($D13),"",AB13*_xlfn.XLOOKUP(Q13,DATA!$B$24:$B$25,DATA!$C$24:$C$25,"error",0,1)/1000) -> 0 | AL13: =SUM(AH13:AK13) -> 55.818501 | AM13: =IF(ISBLANK($D13),"",AG13-AL13) -> 61.155941 | AN13: =IF(ISBLANK($D13),"",$S13*0.0135790158248428/1000) -> 3.9881435 | AO13: =IF(ISBLANK($D13),"",$V13*0.0135790158248428/1000) -> 1.5022622 | AP13: =IF(ISBLANK($D13),"",$X13*0.0135790158248428/1000) -> 0.36976746 | AQ13: =IF(ISBLANK($D13),"",$Z13*0.0135790158248428/1000) -> 0.031054365 | AR13: =IF(ISBLANK($D13),"",$AB13*0.0135790158248428/1000) -> 0 | AS13: =IF(ISBLANK($D13),"",$AC13*0.0135790158248428/1000) -> 1.903084 | AT13: =IF(ISBLANK($D13),"",AN13-AS13) -> 2.0850595 | AU13: =IF(ISBLANK($D13),"",$S13*0.000738514285714286/1000) -> 0.21690091 | AV13: =IF(ISBLANK($D13),"",$V13*0.000738514285714286/1000) -> 0.081702688 | AW13: =IF(ISBLANK($D13),"",$X13*0.000738514285714286/1000) -> 0.020110334 | AX13: =IF(ISBLANK($D13),"",$Z13*0.000738514285714286/1000) -> 0.0016889362 | AY13: =IF(ISBLANK($D13),"",$AB13*0.000738514285714286/1000) -> 0 | AZ13: =IF(ISBLANK($D13),"",$AC13*0.000738514285714286/1000) -> 0.10350196 | BA13: =IF(ISBLANK($D13),"",AU13-AZ13) -> 0.11339896 | BB13: =IF(V13>0,J13*DATA!$C$4,0) -> 140322 | BC13: =IF(X13>0,N13*_xlfn.XLOOKUP(Kaišiadorys!O13,DATA!$B$5:$B$6,DATA!$C$5:$C$6,"error",0,1),0) -> 71264 | BD13: =IF(Z13>0,(L13-M13)*DATA!$C$7,"0,00 ") -> 4050 | BE13: =IF(G13="basement",D13*DATA!$C$8,IF(G13="ground",0,"error")) -> 33536 | BF13: =BB13+BC13+BD13+BE13 -> 249172 | BG13: 1.27 | BH13: 1.1875486 | BI13: 0.87 | BJ13: 0.85 | BK13: =IF(K13="N",1/((1/BG13)+0.15/0.038),BG13) -> 0.2112035 | BL13: =IF(O13="sloped",1/(1/BJ13+0.15/0.04),IF(O13="flat",1/(1/BJ13+0.15/0.034),"error")) -> 0.17894737 | BM13: 1.1 | BN13: =IF(BI13=0.85,1/(1/BI13+0.05/0.038),BI13) -> 0.87 | BP13: =D13*BS13 -> 14672 | BQ13: =H13 -> 5 | BR13: =0.32*BP13 -> 4695.04 | BS13: =I13 -> 17.5 | BT13: =IF(BQ13<=3,0.76*BP13,0.8*BP13) -> 11737.6 | BU13: =(($D13*$BI13*($BU$1-$BX$1)+$J13*$BG13*($BU$1-$BW$1)+$L13*$BH13*($BU$1-$BW$1)+$N13*$BJ13*($BU$1-$BV$1))*1.05+$BT13*(5.95))/1000 -> 254.85856 | BV13: =(($D13*$BI13*($BU$1-$BX$1)+$J13*$BK13*($BU$1-$BW$1)+$L13*$BH13*($BU$1-$BW$1)+$N13*$BJ13*($BU$1-$BV$1))*1.05+$BT13*(5.95))/1000 -> 158.85791 | BW13: =(($D13*$BI13*($BU$1-$BX$1)+$J13*$BG13*($BU$1-$BW$1)+$L13*$BH13*($BU$1-$BW$1)+$N13*$BL13*($BU$1-$BV$1))*1.05+$BT13*(5.95))/1000 -> 231.22892 | BX13: =(($D13*$BI13*($BU$1-$BX$1)+$J13*$BG13*($BU$1-$BW$1)+$L13*$BM13*($BU$1-$BW$1)+$N13*$BJ13*($BU$1-$BV$1))*1.05+$BT13*(5.95))/1000 -> 252.87406 | BY13: =(($D13*$BN13*($BU$1-$BX$1)+$J13*$BG13*($BU$1-$BW$1)+$L13*$BH13*($BU$1-$BW$1)+$N13*$BJ13*($BU$1-$BV$1))*1.05+$BT13*(5.95))/1000 -> 254.85856 | BZ13: =BU13*1152.4 -> 293699.01 | CA13: =BV13*1152.4 -> 183067.86 | CB13: =BW13*1152.4 -> 266468.21 | CC13: =BX13*1152.4 -> 291412.07 | CD13: =BY13*1152.4 -> 293699.01
A14: 11 | B14: Kaišiadorys | C14: Gedimino gatvė 30 | D14: 492 | E14: =0.8*D14*H14 -> 1968 | F14: 106.8 | G14: Ground | H14: 5 | I14: 17.5 | J14: =F14*I14-L14 -> 1574.4 | K14: N | L14: 294.6 | M14: 279.3 | N14: 591 | O14: Flat | P14: Y | Q14: District heating | R14: Woodchips | S14: =BZ14 -> 192486.79 | T14: =S14/E14 -> 97.808327 | U14: =CA14 -> 111804.14 | V14: =IF(ISBLANK(D14)," ",S14-U14) -> 80682.643 | W14: =CB14 -> 173291.41 | X14: =IF(ISBLANK(D14)," ",S14-W14) -> 19195.375 | Y14: =CC14 -> 191190.86 | Z14: =IF(ISBLANK(D14)," ",S14-Y14) -> 1295.9314 | AA14: =CD14 -> 192486.79 | AB14: =IF(ISBLANK(D14)," ",S14-AA14) -> 0 | AC14: =V14+X14+Z14+AB14 -> 101173.95 | AD14: =IF(ISBLANK(D14)," ",S14-AC14) -> 91312.837 | AE14: =(S14-AD14)/E14 -> 51.409527 | AF14: =1-AD14/S14 -> 0.52561504 | AG14: =IF(ISBLANK($D14),"",S14*_xlfn.XLOOKUP(Q14,DATA!$B$24:$B$25,DATA!$C$24:$C$25,"error",0,1)/1000) -> 76.663638 | AH14: =IF(ISBLANK($D14),"",V14*_xlfn.XLOOKUP(Q14,DATA!$B$24:$B$25,DATA!$C$24:$C$25,"error",0,1)/1000) -> 32.134283 | AI14: =IF(ISBLANK($D14),"",X14*_xlfn.XLOOKUP(Q14,DATA!$B$24:$B$25,DATA!$C$24:$C$25,"error",0,1)/1000) -> 7.645134 | AJ14: =IF(ISBLANK($D14),"",Z14*_xlfn.XLOOKUP(Q14,DATA!$B$24:$B$25,DATA!$C$24:$C$25,"error",0,1)/1000) -> 0.51614357 | AK14: =IF(ISBLANK($D14),"",AB14*_xlfn.XLOOKUP(Q14,DATA!$B$24:$B$25,DATA!$C$24:$C$25,"error",0,1)/1000) -> 0 | AL14: =SUM(AH14:AK14) -> 40.295561 | AM14: =IF(ISBLANK($D14),"",AG14-AL14) -> 36.368077 | AN14: =IF(ISBLANK($D14),"",$S14*0.0135790158248428/1000) -> 2.6137811 | AO14: =IF(ISBLANK($D14),"",$V14*0.0135790158248428/1000) -> 1.0955909 | AP14: =IF(ISBLANK($D14),"",$X14*0.0135790158248428/1000) -> 0.2606543 | AQ14: =IF(ISBLANK($D14),"",$Z14*0.0135790158248428/1000) -> 0.017597473 | AR14: =IF(ISBLANK($D14),"",$AB14*0.0135790158248428/1000) -> 0 | AS14: =IF(ISBLANK($D14),"",$AC14*0.0135790158248428/1000) -> 1.3738427 | AT14: =IF(ISBLANK($D14),"",AN14-AS14) -> 1.2399385 | AU14: =IF(ISBLANK($D14),"",$S14*0.000738514285714286/1000) -> 0.14215424 | AV14: =IF(ISBLANK($D14),"",$V14*0.000738514285714286/1000) -> 0.059585285 | AW14: =IF(ISBLANK($D14),"",$X14*0.000738514285714286/1000) -> 0.014176059 | AX14: =IF(ISBLANK($D14),"",$Z14*0.000738514285714286/1000) -> 0.00095706387 | AY14: =IF(ISBLANK($D14),"",$AB14*0.000738514285714286/1000) -> 0 | AZ14: =IF(ISBLANK($D14),"",$AC14*0.000738514285714286/1000) -> 0.074718407 | BA14: =IF(ISBLANK($D14),"",AU14-AZ14) -> 0.067435835 | BB14: =IF(V14>0,J14*DATA!$C$4,0) -> 102336 | BC14: =IF(X14>0,N14*_xlfn.XLOOKUP(Kaišiadorys!O14,DATA!$B$5:$B$6,DATA!$C$5:$C$6,"error",0,1),0) -> 50235 | BD14: =IF(Z14>0,(L14-M14)*DATA!$C$7,"0,00 ") -> 2295 | BE14: =IF(G14="basement",D14*DATA!$C$8,IF(G14="ground",0,"error")) -> 0 | BF14: =BB14+BC14+BD14+BE14 -> 154866 | BG14: 1.27 | BH14: 1.1908859 | BI14: 0.71 | BJ14: 0.85 | BK14: =IF(K14="N",1/((1/BG14)+0.15/0.038),BG14) -> 0.2112035 | BL14: =IF(O14="sloped",1/(1/BJ14+0.15/0.04),IF(O14="flat",1/(1/BJ14+0.15/0.034),"error")) -> 0.17894737 | BM14: 1.1 | BN14: =IF(BI14=0.85,1/(1/BI14+0.05/0.038),BI14) -> 0.71 | BP14: =D14*BS14 -> 8610 | BQ14: =H14 -> 5 | BR14: =0.32*BP14 -> 2755.2 | BS14: =I14 -> 17.5 | BT14: =IF(BQ14<=3,0.76*BP14,0.8*BP14) -> 6888 | BU14: =(($D14*$BI14*($BU$1-$BX$1)+$J14*$BG14*($BU$1-$BW$1)+$L14*$BH14*($BU$1-$BW$1)+$N14*$BJ14*($BU$1-$BV$1))*1.05+$BT14*(5.95))/1000 -> 167.03123 | BV14: =(($D14*$BI14*($BU$1-$BX$1)+$J14*$BK14*($BU$1-$BW$1)+$L14*$BH14*($BU$1-$BW$1)+$N14*$BJ14*($BU$1-$BV$1))*1.05+$BT14*(5.95))/1000 -> 97.018521 | BW14: =(($D14*$BI14*($BU$1-$BX$1)+$J14*$BG14*($BU$1-$BW$1)+$L14*$BH14*($BU$1-$BW$1)+$N14*$BL14*($BU$1-$BV$1))*1.05+$BT14*(5.95))/1000 -> 150.37436 | BX14: =(($D14*$BI14*($BU$1-$BX$1)+$J14*$BG14*($BU$1-$BW$1)+$L14*$BM14*($BU$1-$BW$1)+$N14*$BJ14*($BU$1-$BV$1))*1.05+$BT14*(5.95))/1000 -> 165.90668 | BY14: =(($D14*$BN14*($BU$1-$BX$1)+$J14*$BG14*($BU$1-$BW$1)+$L14*$BH14*($BU$1-$BW$1)+$N14*$BJ14*($BU$1-$BV$1))*1.05+$BT14*(5.95))/1000 -> 167.03123 | BZ14: =BU14*1152.4 -> 192486.79 | CA14: =BV14*1152.4 -> 111804.14 | CB14: =BW14*1152.4 -> 173291.41 | CC14: =BX14*1152.4 -> 191190.86 | CD14: =BY14*1152.4 -> 192486.79
A15: 12 | B15: Kaišiadorys | C15: Gedimino gatvė 44 | D15: 247.95 | E15: =0.8*D15*H15 -> 396.72 | F15: 75 | G15: Ground | H15: 2 | I15: 8.5 | J15: =F15*I15-L15 -> 574.44 | K15: N | L15: 63.06 | M15: 63.06 | N15: 348.81 | O15: Sloped | P15: Y | Q15: District heating | R15: Woodchips | S15: =BZ15 -> 68132.144 | T15: =S15/E15 -> 171.73862 | U15: =CA15 -> 38694.049 | V15: =IF(ISBLANK(D15)," ",S15-U15) -> 29438.096 | W15: =CB15 -> 57208.796 | X15: =IF(ISBLANK(D15)," ",S15-W15) -> 10923.348 | Y15: =CC15 -> 68132.144 | Z15: =IF(ISBLANK(D15)," ",S15-Y15) -> 0 | AA15: =CD15 -> 68132.144 | AB15: =IF(ISBLANK(D15)," ",S15-AA15) -> 0 | AC15: =V15+X15+Z15+AB15 -> 40361.443 | AD15: =IF(ISBLANK(D15)," ",S15-AC15) -> 27770.701 | AE15: =(S15-AD15)/E15 -> 101.73786 | AF15: =1-AD15/S15 -> 0.59239943 | AG15: =IF(ISBLANK($D15),"",S15*_xlfn.XLOOKUP(Q15,DATA!$B$24:$B$25,DATA!$C$24:$C$25,"error",0,1)/1000) -> 27.13567 | AH15: =IF(ISBLANK($D15),"",V15*_xlfn.XLOOKUP(Q15,DATA!$B$24:$B$25,DATA!$C$24:$C$25,"error",0,1)/1000) -> 11.724605 | AI15: =IF(ISBLANK($D15),"",X15*_xlfn.XLOOKUP(Q15,DATA!$B$24:$B$25,DATA!$C$24:$C$25,"error",0,1)/1000) -> 4.350551 | AJ15: =IF(ISBLANK($D15),"",Z15*_xlfn.XLOOKUP(Q15,DATA!$B$24:$B$25,DATA!$C$24:$C$25,"error",0,1)/1000) -> 0 | AK15: =IF(ISBLANK($D15),"",AB15*_xlfn.XLOOKUP(Q15,DATA!$B$24:$B$25,DATA!$C$24:$C$25,"error",0,1)/1000) -> 0 | AL15: =SUM(AH15:AK15) -> 16.075156 | AM15: =IF(ISBLANK($D15),"",AG15-AL15) -> 11.060515 | AN15: =IF(ISBLANK($D15),"",$S15*0.0135790158248428/1000) -> 0.92516746 | AO15: =IF(ISBLANK($D15),"",$V15*0.0135790158248428/1000) -> 0.39974036 | AP15: =IF(ISBLANK($D15),"",$X15*0.0135790158248428/1000) -> 0.14832831 | AQ15: =IF(ISBLANK($D15),"",$Z15*0.0135790158248428/1000) -> 0 | AR15: =IF(ISBLANK($D15),"",$AB15*0.0135790158248428/1000) -> 0 | AS15: =IF(ISBLANK($D15),"",$AC15*0.0135790158248428/1000) -> 0.54806868 | AT15: =IF(ISBLANK($D15),"",AN15-AS15) -> 0.37709879 | AU15: =IF(ISBLANK($D15),"",$S15*0.000738514285714286/1000) -> 0.050316562 | AV15: =IF(ISBLANK($D15),"",$V15*0.000738514285714286/1000) -> 0.021740454 | AW15: =IF(ISBLANK($D15),"",$X15*0.000738514285714286/1000) -> 0.0080670485 | AX15: =IF(ISBLANK($D15),"",$Z15*0.000738514285714286/1000) -> 0 | AY15: =IF(ISBLANK($D15),"",$AB15*0.000738514285714286/1000) -> 0 | AZ15: =IF(ISBLANK($D15),"",$AC15*0.000738514285714286/1000) -> 0.029807503 | BA15: =IF(ISBLANK($D15),"",AU15-AZ15) -> 0.020509059 | BB15: =IF(V15>0,J15*DATA!$C$4,0) -> 37338.6 | BC15: =IF(X15>0,N15*_xlfn.XLOOKUP(Kaišiadorys!O15,DATA!$B$5:$B$6,DATA!$C$5:$C$6,"error",0,1),0) -> 16742.88 | BD15: =IF(Z15>0,(L15-M15)*DATA!$C$7,"0,00 ") -> 0,00 | BE15: =IF(G15="basement",D15*DATA!$C$8,IF(G15="ground",0,"error")) -> 0 | BF15: =BB15+BC15+BD15+BE15 -> 54081.48 | BG15: 1.27 | BH15: 1.1 | BI15: 0.81 | BJ15: 0.85 | BK15: =IF(K15="N",1/((1/BG15)+0.15/0.038),BG15) -> 0.2112035 | BL15: =IF(O15="sloped",1/(1/BJ15+0.15/0.04),IF(O15="flat",1/(1/BJ15+0.15/0.034),"error")) -> 0.20298507 | BM15: 1.1 | BN15: =IF(BI15=0.85,1/(1/BI15+0.05/0.038),BI15) -> 0.81 | BP15: =D15*BS15 -> 2107.575 | BQ15: =H15 -> 2 | BR15: =0.32*BP15 -> 674.424 | BS15: =I15 -> 8.5 | BT15: =IF(BQ15<=3,0.76*BP15,0.8*BP15) -> 1601.757 | BU15: =(($D15*$BI15*($BU$1-$BX$1)+$J15*$BG15*($BU$1-$BW$1)+$L15*$BH15*($BU$1-$BW$1)+$N15*$BJ15*($BU$1-$BV$1))*1.05+$BT15*(5.95))/1000 -> 59.121958 | BV15: =(($D15*$BI15*($BU$1-$BX$1)+$J15*$BK15*($BU$1-$BW$1)+$L15*$BH15*($BU$1-$BW$1)+$N15*$BJ15*($BU$1-$BV$1))*1.05+$BT15*(5.95))/1000 -> 33.576925 | BW15: =(($D15*$BI15*($BU$1-$BX$1)+$J15*$BG15*($BU$1-$BW$1)+$L15*$BH15*($BU$1-$BW$1)+$N15*$BL15*($BU$1-$BV$1))*1.05+$BT15*(5.95))/1000 -> 49.643176 | BX15: =(($D15*$BI15*($BU$1-$BX$1)+$J15*$BG15*($BU$1-$BW$1)+$L15*$BM15*($BU$1-$BW$1)+$N15*$BJ15*($BU$1-$BV$1))*1.05+$BT15*(5.95))/1000 -> 59.121958 | BY15: =(($D15*$BN15*($BU$1-$BX$1)+$J15*$BG15*($BU$1-$BW$1)+$L15*$BH15*($BU$1-$BW$1)+$N15*$BJ15*($BU$1-$BV$1))*1.05+$BT15*(5.95))/1000 -> 59.121958 | BZ15: =BU15*1152.4 -> 68132.144 | CA15: =BV15*1152.4 -> 38694.049 | CB15: =BW15*1152.4 -> 57208.796 | CC15: =BX15*1152.4 -> 68132.144 | CD15: =BY15*1152.4 -> 68132.144
... A75: 72 | B75: Kaišiadorys | C75: Viktoro Ruokio gatvė 5 | D75: 272.8 | E75: =0.8*D75*H75 -> 872.96 | F75: 93.2 | G75: Basement | H75: 4 | I75: 14.5 | J75: =F75*I75-L75 -> 1108.1 | K75: Y | L75: 243.3 | M75: 243.3 | N75: 430.67 | O75: Flat | P75: Y | Q75: District heating | R75: Woodchips | S75: =BZ75 -> 118597.42 | T75: =S75/E75 -> 135.85665 | U75: =CA75 -> 118597.42 | V75: =IF(ISBLANK(D75)," ",S75-U75) -> 0 | W75: =CB75 -> 104609.48 | X75: =IF(ISBLANK(D75)," ",S75-W75) -> 13987.939 | Y75: =CC75 -> 118597.42 | Z75: =IF(ISBLANK(D75)," ",S75-Y75) -> 0 | AA75: =CD75 -> 118597.42 | AB75: =IF(ISBLANK(D75)," ",S75-AA75) -> 0 | AC75: =V75+X75+Z75+AB75 -> 13987.939 | AD75: =IF(ISBLANK(D75)," ",S75-AC75) -> 104609.48 | AE75: =(S75-AD75)/E75 -> 16.023574 | AF75: =1-AD75/S75 -> 0.11794472 | AG75: =IF(ISBLANK($D75),"",S75*_xlfn.XLOOKUP(Q75,DATA!$B$24:$B$25,DATA!$C$24:$C$25,"error",0,1)/1000) -> 47.234981 | AH75: =IF(ISBLANK($D75),"",V75*_xlfn.XLOOKUP(Q75,DATA!$B$24:$B$25,DATA!$C$24:$C$25,"error",0,1)/1000) -> 0 | AI75: =IF(ISBLANK($D75),"",X75*_xlfn.XLOOKUP(Q75,DATA!$B$24:$B$25,DATA!$C$24:$C$25,"error",0,1)/1000) -> 5.5711165 | AJ75: =IF(ISBLANK($D75),"",Z75*_xlfn.XLOOKUP(Q75,DATA!$B$24:$B$25,DATA!$C$24:$C$25,"error",0,1)/1000) -> 0 | AK75: =IF(ISBLANK($D75),"",AB75*_xlfn.XLOOKUP(Q75,DATA!$B$24:$B$25,DATA!$C$24:$C$25,"error",0,1)/1000) -> 0 | AL75: =SUM(AH75:AK75) -> 5.5711165 | AM75: =IF(ISBLANK($D75),"",AG75-AL75) -> 41.663864 | AN75: =IF(ISBLANK($D75),"",$S75*0.0135790158248428/1000) -> 1.6104363 | AO75: =IF(ISBLANK($D75),"",$V75*0.0135790158248428/1000) -> 0 | AP75: =IF(ISBLANK($D75),"",$X75*0.0135790158248428/1000) -> 0.18994245 | AQ75: =IF(ISBLANK($D75),"",$Z75*0.0135790158248428/1000) -> 0 | AR75: =IF(ISBLANK($D75),"",$AB75*0.0135790158248428/1000) -> 0 | AS75: =IF(ISBLANK($D75),"",$AC75*0.0135790158248428/1000) -> 0.18994245 | AT75: =IF(ISBLANK($D75),"",AN75-AS75) -> 1.4204938 | AU75: =IF(ISBLANK($D75),"",$S75*0.000738514285714286/1000) -> 0.08758589 | AV75: =IF(ISBLANK($D75),"",$V75*0.000738514285714286/1000) -> 0 | AW75: =IF(ISBLANK($D75),"",$X75*0.000738514285714286/1000) -> 0.010330293 | AX75: =IF(ISBLANK($D75),"",$Z75*0.000738514285714286/1000) -> 0 | AY75: =IF(ISBLANK($D75),"",$AB75*0.000738514285714286/1000) -> 0 | AZ75: =IF(ISBLANK($D75),"",$AC75*0.000738514285714286/1000) -> 0.010330293 | BA75: =IF(ISBLANK($D75),"",AU75-AZ75) -> 0.077255596 | BB75: =IF(V75>0,J75*DATA!$C$4,0) -> 0 | BC75: =IF(X75>0,N75*_xlfn.XLOOKUP(Kaišiadorys!O75,DATA!$B$5:$B$6,DATA!$C$5:$C$6,"error",0,1),0) -> 36606.95 | BD75: =IF(Z75>0,(L75-M75)*DATA!$C$7,"0,00 ") -> 0,00 | BE75: =IF(G75="basement",D75*DATA!$C$8,IF(G75="ground",0,"error")) -> 10912 | BF75: =BB75+BC75+BD75+BE75 -> 47518.95 | BG75: 0.99 | BH75: 1.1 | BI75: 2.34 | BJ75: 0.85 | BK75: =IF(K75="N",1/((1/BG75)+0.15/0.038),BG75) -> 0.99 | BL75: =IF(O75="sloped",1/(1/BJ75+0.15/0.04),IF(O75="flat",1/(1/BJ75+0.15/0.034),"error")) -> 0.17894737 | BM75: 1.1 | BN75: =IF(BI75=0.85,1/(1/BI75+0.05/0.038),BI75) -> 2.34 | BP75: =D75*BS75 -> 3955.6 | BQ75: =H75 -> 4 | BR75: =0.32*BP75 -> 1265.792 | BS75: =I75 -> 14.5 | BT75: =IF(BQ75<=3,0.76*BP75,0.8*BP75) -> 3164.48 | BU75: =(($D75*$BI75*($BU$1-$BX$1)+$J75*$BG75*($BU$1-$BW$1)+$L75*$BH75*($BU$1-$BW$1)+$N75*$BJ75*($BU$1-$BV$1))*1.05+$BT75*(5.95))/1000 -> 102.91342 | BV75: =(($D75*$BI75*($BU$1-$BX$1)+$J75*$BK75*($BU$1-$BW$1)+$L75*$BH75*($BU$1-$BW$1)+$N75*$BJ75*($BU$1-$BV$1))*1.05+$BT75*(5.95))/1000 -> 102.91342 | BW75: =(($D75*$BI75*($BU$1-$BX$1)+$J75*$BG75*($BU$1-$BW$1)+$L75*$BH75*($BU$1-$BW$1)+$N75*$BL75*($BU$1-$BV$1))*1.05+$BT75*(5.95))/1000 -> 90.775322 | BX75: =(($D75*$BI75*($BU$1-$BX$1)+$J75*$BG75*($BU$1-$BW$1)+$L75*$BM75*($BU$1-$BW$1)+$N75*$BJ75*($BU$1-$BV$1))*1.05+$BT75*(5.95))/1000 -> 102.91342 | BY75: =(($D75*$BN75*($BU$1-$BX$1)+$J75*$BG75*($BU$1-$BW$1)+$L75*$BH75*($BU$1-$BW$1)+$N75*$BJ75*($BU$1-$BV$1))*1.05+$BT75*(5.95))/1000 -> 102.91342 | BZ75: =BU75*1152.4 -> 118597.42 | CA75: =BV75*1152.4 -> 118597.42 | CB75: =BW75*1152.4 -> 104609.48 | CC75: =BX75*1152.4 -> 118597.42 | CD75: =BY75*1152.4 -> 118597.42

Sheet DATA
B2: Unit prices for EE measures
B3: Measure | C3: Price | D3: Unit
B4: Outer walls | C4: 65 | D4: EUR/m2
B5: Sloped | C5: 48 | D5: EUR/m2
B6: Flat | C6: 85 | D6: EUR/m2
B7: Replacement of windows | C7: 150 | D7: EUR/m2
B8: Insulation of the unheated basement ceiling | C8: 40 | D8: EUR/m2
B10: Energy prices
B11: Energy source | C11: Price per kWh | E11: Price per unit | G11: Lower heating value
B12: District heating | C12: =0.14*1.17 -> 0.1638 | D12: EUR/kWh | E12: 2.5 | F12: EUR/m2 | G12: - | H12: -
B13: Firewood | C13: =E13/G13 -> 0.057142857 | D13: EUR/kWh | E13: 80 | F13: EUR/m | G13: 1400 | H13: kWh/m
B14: Coal | C14: =E14/G14 -> 0.020117657 | D14: EUR/kWh | E14: 95 | F14: EUR/t | G14: 4722.22 | H14: kWh/t
B15: Pellets | C15: =E15/G15 -> 0.037777778 | D15: EUR/kWh | E15: 170 | F15: EUR/t | G15: 4500 | H15: kWh/t
B16: Natural gas | C16: =E16/G16 -> 0.10564794 | D16: EUR/kWh | E16: 1 | F16: EUR/Sm3 | G16: 9.4654 | H16: kWh/Sm3
B17: LNG | C17: =E17/G17 -> 0.13669065 | D17: EUR/kWh | E17: 0.95 | F17: EUR/l | G17: 6.95 | H17: kWh/l
B18: Fuel oil | C18: =E18/G18 -> 0.19668737 | D18: EUR/kWh | E18: 1.9 | F18: EUR/l | G18: 9.66 | H18: kWh/l
B19: Woodchips | C19: =E19/G19 -> 0.074285714 | D19: EUR/kWh | E19: 260 | F19: EUR/t | G19: 3500 | H19: kWh/kg
B20: Electricity | C20: 0.21 | D20: EUR/kWh | E20: 0.21 | F20: EUR/kWh | G20: - | H20: -
B22: CO2 EMISSION
B23: Energy source | C23: Emission coefficient
B24: Individual | C24: 0.20095 | D24: kgCO2/kWh
B25: District heating | C25: 0.39828 | D25: kgCO2/kWh
