Workbook

Sheet Elektrenai
A1: Number | B1: LOCATION DATA | D1: BUILDING GEOMETRY | Q1: ENERGY NEEDS AND SAVINGS | AG1: CO2 EMISSION | AN1: SO2 EMISSION | AU1: NOx EMISSION | BB1: Investements | BG1: U-values, current condition | BK1: U-values, after insulation | BP1: MFAB volume Ve | BQ1: No of storeys | BR1: Akuk | BS1: H | BT1: Volume V | BU1: 20 | BV1: -20 | BW1: -20 | BX1: 3
B2: City | C2: Address | D2: Ground area | E2: Heated area | F2: Ground circumference | G2: Type of floor construction | H2: Total number of storeys | I2: Height | J2: Area of outer walls | K2: Outer walls insulation | L2: Total area of windows and doors | M2: Total area of PVC windows and doorsa | N2: Roof/ceiling area | O2: Type of roof | P2: Roof insulation | Q2: Heating system | R2: Primarly energy source | S2: Heat required in current state of building | T2: Specific heat required in current condition of building | U2: Heat required in after insulation of outer walls | V2: Potential saving after insulation of outer walls | W2: Heat required in after insulation of roof/ceiling | X2: Potential saving after insulation of roof/ceiling | Y2: Heat required in after replacement of windows and doors | Z2: Potential saving after replacement of widows and doors | AA2: Heat required in after insulation of floors | AB2: Potential saving after insulation of floors | AC2: Potential saving after all architectural measures | AD2: Heat required after all architectural measures | AE2: Specific heat required after all architectural measures | AF2: Total savings by architectural measures | AG2: Emission in current state of building | AH2: Reduction after insulation of outer walls | AI2: Reduction after insulation of roof/ceiling | AJ2: Reduction after replacement of widows and doors | AK2: Reduction after insulation of floors | AL2: Reduction after all measures | AM2: Emission after all measures | AN2: Emission in current state of building | AO2: Reduction after insulation of outer walls | AP2: Reduction after insulation of roof/ceiling | AQ2: Reduction after replacement of widows and doors | AR2: Reduction after insulation of floors | AS2: Reduction after all measures | AT2: Emission after all measures | AU2: Emission in current state of building | AV2: Reduction after insulation of outer walls | AW2: Reduction after insulation of roof/ceiling | AX2: Reduction after replacement of widows and doors | AY2: Reduction after insulation of floors | AZ2: Reduction after all measures | BA2: Emission after all measures | BB2: Wall insulation | BC2: Roof/ceiling insulation | BD2: Windows replacement | BE2: Floor insulation | BF2: Total investment | BG2: U-wall | BH2: U-windows | BI2: U-floor | BJ2: U-roof | BK2: U-wall | BL2: U-roof | BM2: U-windows | BN2: U-floor | BU2: Qtr.req | BV2: Qtr. Ins wall | BW2: Qtr. Ins roof | BX2: Qtr. Ins win | BY2: Qtr. Ins floor | BZ2: Qtr.potr | CA2: Qtr. Iz zid | CB2: Qtr. Iz tav | CC2: Qtr. Iz proz | CD2: Qtr. Iz pod
D3: m2 | E3: m2 | F3: m | I3: m | J3: m2 | L3: m2 | M3: m2 | N3: m2 | S3: kWh/year | T3: kWh/m2year | U3: kWh/year | V3: kWh/year | W3: kWh/year | X3: kWh/year | Y3: kWh/year | Z3: kWh/year | AA3: kWh/year | AB3: kWh/year | AC3: kWh/year | AD3: kWh/year | AE3: kWh/m2year | AF3: % | AG3: t/year | AH3: t/year | AI3: t/year | AJ3: t/year | AK3: t/year | AL3: t/year | AM3: t/year | AN3: t/year | AO3: t/year | AP3: t/year | AQ3: t/year | AR3: t/year | AS3: t/year | AT3: t/year | AU3: t/year | AV3: t/year | AW3: t/year | AX3: t/year | AY3: t/year | AZ3: t/year | BA3: t/year | BB3: EUR | BC3: EUR | BD3: EUR | BE3: EUR | BF3: EUR | BG3: W/m2K | BH3: W/m2K | BI3: W/m2K | BJ3: W/m2K | BK3: W/m2K | BL3: W/m2K | BM3: W/m2K | BN3: W/m2K | BP3: m3 | BR3: m2 | BS3: m | BT3: m3 | BU3: kWh/god | BV3: kWh/god | BW3: kWh/god | BX3: kWh/god | BY3: kWh/god | BZ3: kWh/god | CA3: kWh/god | CB3: kWh/god | CC3: kWh/god | CD3: kWh/god
A4: 1 | B4: Elektrenai | C4: Draugystės gatve 4 | D4: 720.7 | E4: =0.8*D4*H4 -> 2306.24 | F4: 135.6 | G4: Basement | H4: 4 | I4: 14.5 | J4: =F4*I4-L4 -> 1671.3 | K4: Y | L4: 294.9 | M4: 294.9 | N4: 742.321 | O4: Sloped | P4: Y | Q4: District heating | R4: Natural gas | S4: =BZ4 -> 113393.67 | T4: =S4/E4 -> 49.168199 | U4: =CA4 -> 113393.67 | V4: =IF(ISBLANK(D4)," ",S4-U4) -> 0 | W4: =CB4 -> 110069.61 | X4: =IF(ISBLANK(D4)," ",S4-W4) -> 3324.0542 | Y4: =CC4 -> 113393.67 | Z4: =IF(ISBLANK(D4)," ",S4-Y4) -> 0 | AA4: =CD4 -> 106740.81 | AB4: =IF(ISBLANK(D4)," ",S4-AA4) -> 6652.8536 | AC4: =V4+X4+Z4+AB4 -> 9976.9078 | AD4: =IF(ISBLANK(D4)," ",S4-AC4) -> 103416.76 | AE4: =(S4-AD4)/E4 -> 4.3260492 | AF4: =1-AD4/S4 -> 0.087984701 | AG4: =IF(ISBLANK($D4),"",S4*_xlfn.XLOOKUP(Q4,DATA!$B$24:$B$25,DATA!$C$24:$C$25,"error",0,1)/1000) -> 45.162429 | AH4: =IF(ISBLANK($D4),"",V4*_xlfn.XLOOKUP(Q4,DATA!$B$24:$B$25,DATA!$C$24:$C$25,"error",0,1)/1000) -> 0 | AI4: =IF(ISBLANK($D4),"",X4*_xlfn.XLOOKUP(Q4,DATA!$B$24:$B$25,DATA!$C$24:$C$25,"error",0,1)/1000) -> 1.3239043 | AJ4: =IF(ISBLANK($D4),"",Z4*_xlfn.XLOOKUP(Q4,DATA!$B$24:$B$25,DATA!$C$24:$C$25,"error",0,1)/1000) -> 0 | AK4: =IF(ISBLANK($D4),"",AB4*_xlfn.XLOOKUP(Q4,DATA!$B$24:$B$25,DATA!$C$24:$C$25,"error",0,1)/1000) -> 2.6496985 | AL4: =SUM(AH4:AK4) -> 3.9736028 | AM4: =IF(ISBLANK($D4),"",AG4-AL4) -> 41.188827 | AN4: =IF(ISBLANK($D4),"",$S4*0.0135790158248428/1000) -> 1.5397744 | AO4: =IF(ISBLANK($D4),"",$V4*0.0135790158248428/1000) -> 0 | AP4: =IF(ISBLANK($D4),"",$X4*0.0135790158248428/1000) -> 0.045137384 | AQ4: =IF(ISBLANK($D4),"",$Z4*0.0135790158248428/1000) -> 0 | AR4: =IF(ISBLANK($D4),"",$AB4*0.0135790158248428/1000) -> 0.090339204 | AS4: =IF(ISBLANK($D4),"",$AC4*0.0135790158248428/1000) -> 0.13547659 | AT4: =IF(ISBLANK($D4),"",AN4-AS4) -> 1.4042978 | AU4: =IF(ISBLANK($D4),"",$S4*0.000738514285714286/1000) -> 0.083742842 | AV4: =IF(ISBLANK($D4),"",$V4*0.000738514285714286/1000) -> 0 | AW4: =IF(ISBLANK($D4),"",$X4*0.000738514285714286/1000) -> 0.0024548615 | AX4: =IF(ISBLANK($D4),"",$Z4*0.000738514285714286/1000) -> 0 | AY4: =IF(ISBLANK($D4),"",$AB4*0.000738514285714286/1000) -> 0.0049132274 | AZ4: =IF(ISBLANK($D4),"",$AC4*0.000738514285714286/1000) -> 0.0073680889 | BA4: =IF(ISBLANK($D4),"",AU4-AZ4) -> 0.076374753 | BB4: =IF(V4>0,J4*DATA!$C$4,0) -> 0 | BC4: =IF(X4>0,N4*_xlfn.XLOOKUP(Elektrenai!O4,DATA!$B$5:$B$6,DATA!$C$5:$C$6,"error",0,1),0) -> 35631.408 | BD4: =IF(Z4>0,(L4-M4)*DATA!$C$7,"0,00 ") -> 0,00 | BE4: =IF(G4="basement",D4*DATA!$C$8,IF(G4="ground",0,"error")) -> 28828 | BF4: =BB4+BC4+BD4+BE4 -> 64459.408 | BG4: 0.25 | BH4: 1.1 | BI4: =IF(G4="ground",0.57,IF(G4="basement",0.85,"error")) -> 0.85 | BJ4: 0.21 | BK4: =IF(K4="N",1/((1/BG4)+0.15/0.038),BG4) -> 0.25 | BL4: =IF(O4="sloped",1/(1/BJ4+0.15/0.04),IF(O4="flat",1/(1/BJ4+0.15/0.034),"error")) -> 0.11748252 | BM4: 1.1 | BN4: =IF(BI4=0.85,1/(1/BI4+0.05/0.038),BI4) -> 0.40124224 | BP4: =D4*BS4 -> 10450.15 | BQ4: =H4 -> 4 | BR4: =0.32*BP4 -> 3344.048 | BS4: =I4 -> 14.5 | BT4: =IF(BQ4<=3,0.76*BP4,0.8*BP4) -> 8360.12 | BU4: =(($D4*$BI4*($BU$1-$BX$1)+$J4*$BG4*($BU$1-$BW$1)+$L4*$BH4*($BU$1-$BW$1)+$N4*$BJ4*($BU$1-$BV$1))*1.05+$BT4*(5.95))/1000 -> 98.397836 | BV4: =(($D4*$BI4*($BU$1-$BX$1)+$J4*$BK4*($BU$1-$BW$1)+$L4*$BH4*($BU$1-$BW$1)+$N4*$BJ4*($BU$1-$BV$1))*1.05+$BT4*(5.95))/1000 -> 98.397836 | BW4: =(($D4*$BI4*($BU$1-$BX$1)+$J4*$BG4*($BU$1-$BW$1)+$L4*$BH4*($BU$1-$BW$1)+$N4*$BL4*($BU$1-$BV$1))*1.05+$BT4*(5.95))/1000 -> 95.513374 | BX4: =(($D4*$BI4*($BU$1-$BX$1)+$J4*$BG4*($BU$1-$BW$1)+$L4*$BM4*($BU$1-$BW$1)+$N4*$BJ4*($BU$1-$BV$1))*1.05+$BT4*(5.95))/1000 -> 98.397836 | BY4: =(($D4*$BN4*($BU$1-$BX$1)+$J4*$BG4*($BU$1-$BW$1)+$L4*$BH4*($BU$1-$BW$1)+$N4*$BJ4*($BU$1-$BV$1))*1.05+$BT4*(5.95))/1000 -> 92.624794 | BZ4: =BU4*1152.4 -> 113393.67 | CA4: =BV4*1152.4 -> 113393.67 | CB4: =BW4*1152.4 -> 110069.61 | CC4: =BX4*1152.4 -> 113393.67 | CD4: =BY4*1152.4 -> 106740.81
A5: 2 | B5: Elektrenai | C5: Draugystės gatve 6 | D5: 874.5 | E5: =0.8*D5*H5 -> 2798.4 | F5: 139 | G5: Ground | H5: 4 | I5: 14.5 | J5: =F5*I5-L5 -> 1693 | K5: N | L5: 322.5 | M5: 258 | N5: 900.735 | O5: Sloped | P5: N | Q5: District heating | R5: Natural gas | S5: =BZ5 -> 325297.91 | T5: =S5/E5 -> 116.24425 | U5: =CA5 -> 221747.74 | V5: =IF(ISBLANK(D5)," ",S5-U5) -> 103550.18 | W5: =CB5 -> 234150.32 | X5: =IF(ISBLANK(D5)," ",S5-W5) -> 91147.596 | Y5: =CC5 -> 319834.67 | Z5: =IF(ISBLANK(D5)," ",S5-Y5) -> 5463.2403 | AA5: =CD5 -> 325297.91 | AB5: =IF(ISBLANK(D5)," ",S5-AA5) -> 0 | AC5: =V5+X5+Z5+AB5 -> 200161.01 | AD5: =IF(ISBLANK(D5)," ",S5-AC5) -> 125136.9 | AE5: =(S5-AD5)/E5 -> 71.526948 | AF5: =1-AD5/S5 -> 0.615316 | AG5: =IF(ISBLANK($D5),"",S5*_xlfn.XLOOKUP(Q5,DATA!$B$24:$B$25,DATA!$C$24:$C$25,"error",0,1)/1000) -> 129.55965 | AH5: =IF(ISBLANK($D5),"",V5*_xlfn.XLOOKUP(Q5,DATA!$B$24:$B$25,DATA!$C$24:$C$25,"error",0,1)/1000) -> 41.241964 | AI5: =IF(ISBLANK($D5),"",X5*_xlfn.XLOOKUP(Q5,DATA!$B$24:$B$25,DATA!$C$24:$C$25,"error",0,1)/1000) -> 36.302264 | AJ5: =IF(ISBLANK($D5),"",Z5*_xlfn.XLOOKUP(Q5,DATA!$B$24:$B$25,DATA!$C$24:$C$25,"error",0,1)/1000) -> 2.1758993 | AK5: =IF(ISBLANK($D5),"",AB5*_xlfn.XLOOKUP(Q5,DATA!$B$24:$B$25,DATA!$C$24:$C$25,"error",0,1)/1000) -> 0 | AL5: =SUM(AH5:AK5) -> 79.720128 | AM5: =IF(ISBLANK($D5),"",AG5-AL5) -> 49.839525 | AN5: =IF(ISBLANK($D5),"",$S5*0.0135790158248428/1000) -> 4.4172255 | AO5: =IF(ISBLANK($D5),"",$V5*0.0135790158248428/1000) -> 1.4061095 | AP5: =IF(ISBLANK($D5),"",$X5*0.0135790158248428/1000) -> 1.2376946 | AQ5: =IF(ISBLANK($D5),"",$Z5*0.0135790158248428/1000) -> 0.074185426 | AR5: =IF(ISBLANK($D5),"",$AB5*0.0135790158248428/1000) -> 0 | AS5: =IF(ISBLANK($D5),"",$AC5*0.0135790158248428/1000) -> 2.7179895 | AT5: =IF(ISBLANK($D5),"",AN5-AS5) -> 1.699236 | AU5: =IF(ISBLANK($D5),"",$S5*0.000738514285714286/1000) -> 0.24023716 | AV5: =IF(ISBLANK($D5),"",$V5*0.000738514285714286/1000) -> 0.076473284 | AW5: =IF(ISBLANK($D5),"",$X5*0.000738514285714286/1000) -> 0.067313802 | AX5: =IF(ISBLANK($D5),"",$Z5*0.000738514285714286/1000) -> 0.004034681 | AY5: =IF(ISBLANK($D5),"",$AB5*0.000738514285714286/1000) -> 0 | AZ5: =IF(ISBLANK($D5),"",$AC5*0.000738514285714286/1000) -> 0.14782177 | BA5: =IF(ISBLANK($D5),"",AU5-AZ5) -> 0.092415389 | BB5: =IF(V5>0,J5*DATA!$C$4,0) -> 110045 | BC5: =IF(X5>0,N5*_xlfn.XLOOKUP(Elektrenai!O5,DATA!$B$5:$B$6,DATA!$C$5:$C$6,"error",0,1),0) -> 43235.28 | BD5: =IF(Z5>0,(L5-M5)*DATA!$C$7,"0,00 ") -> 9675 | BE5: =IF(G5="basement",D5*DATA!$C$8,IF(G5="ground",0,"error")) -> 0 | BF5: =BB5+BC5+BD5+BE5 -> 162955.28 | BG5: 1.48 | BH5: 1.45 | BI5: =IF(G5="ground",0.57,IF(G5="basement",0.85,"error")) -> 0.57 | BJ5: 2.33 | BK5: =IF(K5="N",1/((1/BG5)+0.15/0.038),BG5) -> 0.21630769 | BL5: =IF(O5="sloped",1/(1/BJ5+0.15/0.04),IF(O5="flat",1/(1/BJ5+0.15/0.034),"error")) -> 0.23928113 | BM5: 1.1 | BN5: =IF(BI5=0.85,1/(1/BI5+0.05/0.038),BI5) -> 0.57 | BP5: =D5*BS5 -> 12680.25 | BQ5: =H5 -> 4 | BR5: =0.32*BP5 -> 4057.68 | BS5: =I5 -> 14.5 | BT5: =IF(BQ5<=3,0.76*BP5,0.8*BP5) -> 10144.2 | BU5: =(($D5*$BI5*($BU$1-$BX$1)+$J5*$BG5*($BU$1-$BW$1)+$L5*$BH5*($BU$1-$BW$1)+$N5*$BJ5*($BU$1-$BV$1))*1.05+$BT5*(5.95))/1000 -> 282.27865 | BV5: =(($D5*$BI5*($BU$1-$BX$1)+$J5*$BK5*($BU$1-$BW$1)+$L5*$BH5*($BU$1-$BW$1)+$N5*$BJ5*($BU$1-$BV$1))*1.05+$BT5*(5.95))/1000 -> 192.42254 | BW5: =(($D5*$BI5*($BU$1-$BX$1)+$J5*$BG5*($BU$1-$BW$1)+$L5*$BH5*($BU$1-$BW$1)+$N5*$BL5*($BU$1-$BV$1))*1.05+$BT5*(5.95))/1000 -> 203.18493 | BX5: =(($D5*$BI5*($BU$1-$BX$1)+$J5*$BG5*($BU$1-$BW$1)+$L5*$BM5*($BU$1-$BW$1)+$N5*$BJ5*($BU$1-$BV$1))*1.05+$BT5*(5.95))/1000 -> 277.5379 | BY5: =(($D5*$BN5*($BU$1-$BX$1)+$J5*$BG5*($BU$1-$BW$1)+$L5*$BH5*($BU$1-$BW$1)+$N5*$BJ5*($BU$1-$BV$1))*1.05+$BT5*(5.95))/1000 -> 282.27865 | BZ5: =BU5*1152.4 -> 325297.91 | CA5: =BV5*1152.4 -> 221747.74 | CB5: =BW5*1152.4 -> 234150.32 | CC5: =BX5*1152.4 -> 319834.67 | CD5: =BY5*1152.4 -> 325297.91
A6: 3 | B6: Elektrenai | C6: Draugystės gatve 8 | D6: 474.9 | E6: =0.8*D6*H6 -> 1519.68 | F6: 105.6 | G6: Basement | H6: 4 | I6: 14.5 | J6: =F6*I6-L6 -> 1270.9 | K6: Y | L6: 260.3 | M6: 260.3 | N6: 489.147 | O6: Sloped | P6: Y | Q6: District heating | R6: Natural gas | S6: =BZ6 -> 80284.948 | T6: =S6/E6 -> 52.830167 | U6: =CA6 -> 80284.948 | V6: =IF(ISBLANK(D6)," ",S6-U6) -> 0 | W6: =CB6 -> 78094.587 | X6: =IF(ISBLANK(D6)," ",S6-W6) -> 2190.3612 | Y6: =CC6 -> 80284.948 | Z6: =IF(ISBLANK(D6)," ",S6-Y6) -> 0 | AA6: =CD6 -> 75901.098 | AB6: =IF(ISBLANK(D6)," ",S6-AA6) -> 4383.8493 | AC6: =V6+X6+Z6+AB6 -> 6574.2105 | AD6: =IF(ISBLANK(D6)," ",S6-AC6) -> 73710.737 | AE6: =(S6-AD6)/E6 -> 4.3260492 | AF6: =1-AD6/S6 -> 0.081885966 | AG6: =IF(ISBLANK($D6),"",S6*_xlfn.XLOOKUP(Q6,DATA!$B$24:$B$25,DATA!$C$24:$C$25,"error",0,1)/1000) -> 31.975889 | AH6: =IF(ISBLANK($D6),"",V6*_xlfn.XLOOKUP(Q6,DATA!$B$24:$B$25,DATA!$C$24:$C$25,"error",0,1)/1000) -> 0 | AI6: =IF(ISBLANK($D6),"",X6*_xlfn.XLOOKUP(Q6,DATA!$B$24:$B$25,DATA!$C$24:$C$25,"error",0,1)/1000) -> 0.87237707 | AJ6: =IF(ISBLANK($D6),"",Z6*_xlfn.XLOOKUP(Q6,DATA!$B$24:$B$25,DATA!$C$24:$C$25,"error",0,1)/1000) -> 0 | AK6: =IF(ISBLANK($D6),"",AB6*_xlfn.XLOOKUP(Q6,DATA!$B$24:$B$25,DATA!$C$24:$C$25,"error",0,1)/1000) -> 1.7459995 | AL6: =SUM(AH6:AK6) -> 2.6183766 | AM6: =IF(ISBLANK($D6),"",AG6-AL6) -> 29.357512 | AN6: =IF(ISBLANK($D6),"",$S6*0.0135790158248428/1000) -> 1.0901906 | AO6: =IF(ISBLANK($D6),"",$V6*0.0135790158248428/1000) -> 0 | AP6: =IF(ISBLANK($D6),"",$X6*0.0135790158248428/1000) -> 0.02974295 | AQ6: =IF(ISBLANK($D6),"",$Z6*0.0135790158248428/1000) -> 0 | AR6: =IF(ISBLANK($D6),"",$AB6*0.0135790158248428/1000) -> 0.059528359 | AS6: =IF(ISBLANK($D6),"",$AC6*0.0135790158248428/1000) -> 0.089271308 | AT6: =IF(ISBLANK($D6),"",AN6-AS6) -> 1.0009193 | AU6: =IF(ISBLANK($D6),"",$S6*0.000738514285714286/1000) -> 0.059291581 | AV6: =IF(ISBLANK($D6),"",$V6*0.000738514285714286/1000) -> 0 | AW6: =IF(ISBLANK($D6),"",$X6*0.000738514285714286/1000) -> 0.001617613 | AX6: =IF(ISBLANK($D6),"",$Z6*0.000738514285714286/1000) -> 0 | AY6: =IF(ISBLANK($D6),"",$AB6*0.000738514285714286/1000) -> 0.0032375353 | AZ6: =IF(ISBLANK($D6),"",$AC6*0.000738514285714286/1000) -> 0.0048551484 | BA6: =IF(ISBLANK($D6),"",AU6-AZ6) -> 0.054436432 | BB6: =IF(V6>0,J6*DATA!$C$4,0) -> 0 | BC6: =IF(X6>0,N6*_xlfn.XLOOKUP(Elektrenai!O6,DATA!$B$5:$B$6,DATA!$C$5:$C$6,"error",0,1),0) -> 23479.056 | BD6: =IF(Z6>0,(L6-M6)*DATA!$C$7,"0,00 ") -> 0,00 | BE6: =IF(G6="basement",D6*DATA!$C$8,IF(G6="ground",0,"error")) -> 18996 | BF6: =BB6+BC6+BD6+BE6 -> 42475.056 | BG6: 0.25 | BH6: 1.1 | BI6: =IF(G6="ground",0.57,IF(G6="basement",0.85,"error")) -> 0.85 | BJ6: 0.21 | BK6: =IF(K6="N",1/((1/BG6)+0.15/0.038),BG6) -> 0.25 | BL6: =IF(O6="sloped",1/(1/BJ6+0.15/0.04),IF(O6="flat",1/(1/BJ6+0.15/0.034),"error")) -> 0.11748252 | BM6: 1.1 | BN6: =IF(BI6=0.85,1/(1/BI6+0.05/0.038),BI6) -> 0.40124224 | BP6: =D6*BS6 -> 6886.05 | BQ6: =H6 -> 4 | BR6: =0.32*BP6 -> 2203.536 | BS6: =I6 -> 14.5 | BT6: =IF(BQ6<=3,0.76*BP6,0.8*BP6) -> 5508.84 | BU6: =(($D6*$BI6*($BU$1-$BX$1)+$J6*$BG6*($BU$1-$BW$1)+$L6*$BH6*($BU$1-$BW$1)+$N6*$BJ6*($BU$1-$BV$1))*1.05+$BT6*(5.95))/1000 -> 69.667605 | BV6: =(($D6*$BI6*($BU$1-$BX$1)+$J6*$BK6*($BU$1-$BW$1)+$L6*$BH6*($BU$1-$BW$1)+$N6*$BJ6*($BU$1-$BV$1))*1.05+$BT6*(5.95))/1000 -> 69.667605 | BW6: =(($D6*$BI6*($BU$1-$BX$1)+$J6*$BG6*($BU$1-$BW$1)+$L6*$BH6*($BU$1-$BW$1)+$N6*$BL6*($BU$1-$BV$1))*1.05+$BT6*(5.95))/1000 -> 67.76691 | BX6: =(($D6*$BI6*($BU$1-$BX$1)+$J6*$BG6*($BU$1-$BW$1)+$L6*$BM6*($BU$1-$BW$1)+$N6*$BJ6*($BU$1-$BV$1))*1.05+$BT6*(5.95))/1000 -> 69.667605 | BY6: =(($D6*$BN6*($BU$1-$BX$1)+$J6*$BG6*($BU$1-$BW$1)+$L6*$BH6*($BU$1-$BW$1)+$N6*$BJ6*($BU$1-$BV$1))*1.05+$BT6*(5.95))/1000 -> 65.863501 | BZ6: =BU6*1152.4 -> 80284.948 | CA6: =BV6*1152.4 -> 80284.948 | CB6: =BW6*1152.4 -> 78094.587 | CC6: =BX6*1152.4 -> 80284.948 | CD6: =BY6*1152.4 -> 75901.098
A7: 4 | B7: Elektrenai | C7: Draugystės gatve 10 | D7: 471.2 | E7: =0.8*D7*H7 -> 1507.84 | F7: 100.4 | G7: Basement | H7: 4 | I7: 14.5 | J7: =F7*I7-L7 -> 1193.7 | K7: Y | L7: 262.1 | M7: 262.1 | N7: 485.336 | O7: Sloped | P7: Y | Q7: District heating | R7: Natural gas | S7: =BZ7 -> 79048.924 | T7: =S7/E7 -> 52.425273 | U7: =CA7 -> 79048.924 | V7: =IF(ISBLANK(D7)," ",S7-U7) -> 0 | W7: =CB7 -> 76875.628 | X7: =IF(ISBLANK(D7)," ",S7-W7) -> 2173.2959 | Y7: =CC7 -> 79048.924 | Z7: =IF(ISBLANK(D7)," ",S7-Y7) -> 0 | AA7: =CD7 -> 74699.229 | AB7: =IF(ISBLANK(D7)," ",S7-AA7) -> 4349.6942 | AC7: =V7+X7+Z7+AB7 -> 6522.9901 | AD7: =IF(ISBLANK(D7)," ",S7-AC7) -> 72525.933 | AE7: =(S7-AD7)/E7 -> 4.3260492 | AF7: =1-AD7/S7 -> 0.082518392 | AG7: =IF(ISBLANK($D7),"",S7*_xlfn.XLOOKUP(Q7,DATA!$B$24:$B$25,DATA!$C$24:$C$25,"error",0,1)/1000) -> 31.483605 | AH7: =IF(ISBLANK($D7),"",V7*_xlfn.XLOOKUP(Q7,DATA!$B$24:$B$25,DATA!$C$24:$C$25,"error",0,1)/1000) -> 0 | AI7: =IF(ISBLANK($D7),"",X7*_xlfn.XLOOKUP(Q7,DATA!$B$24:$B$25,DATA!$C$24:$C$25,"error",0,1)/1000) -> 0.86558028 | AJ7: =IF(ISBLANK($D7),"",Z7*_xlfn.XLOOKUP(Q7,DATA!$B$24:$B$25,DATA!$C$24:$C$25,"error",0,1)/1000) -> 0 | AK7: =IF(ISBLANK($D7),"",AB7*_xlfn.XLOOKUP(Q7,DATA!$B$24:$B$25,DATA!$C$24:$C$25,"error",0,1)/1000) -> 1.7323962 | AL7: =SUM(AH7:AK7) -> 2.5979765 | AM7: =IF(ISBLANK($D7),"",AG7-AL7) -> 28.885629 | AN7: =IF(ISBLANK($D7),"",$S7*0.0135790158248428/1000) -> 1.0734066 | AO7: =IF(ISBLANK($D7),"",$V7*0.0135790158248428/1000) -> 0 | AP7: =IF(ISBLANK($D7),"",$X7*0.0135790158248428/1000) -> 0.029511219 | AQ7: =IF(ISBLANK($D7),"",$Z7*0.0135790158248428/1000) -> 0 | AR7: =IF(ISBLANK($D7),"",$AB7*0.0135790158248428/1000) -> 0.059064567 | AS7: =IF(ISBLANK($D7),"",$AC7*0.0135790158248428/1000) -> 0.088575786 | AT7: =IF(ISBLANK($D7),"",AN7-AS7) -> 0.9848308 | AU7: =IF(ISBLANK($D7),"",$S7*0.000738514285714286/1000) -> 0.058378759 | AV7: =IF(ISBLANK($D7),"",$V7*0.000738514285714286/1000) -> 0 | AW7: =IF(ISBLANK($D7),"",$X7*0.000738514285714286/1000) -> 0.00160501 | AX7: =IF(ISBLANK($D7),"",$Z7*0.000738514285714286/1000) -> 0 | AY7: =IF(ISBLANK($D7),"",$AB7*0.000738514285714286/1000) -> 0.0032123113 | AZ7: =IF(ISBLANK($D7),"",$AC7*0.000738514285714286/1000) -> 0.0048173214 | BA7: =IF(ISBLANK($D7),"",AU7-AZ7) -> 0.053561438 | BB7: =IF(V7>0,J7*DATA!$C$4,0) -> 0 | BC7: =IF(X7>0,N7*_xlfn.XLOOKUP(Elektrenai!O7,DATA!$B$5:$B$6,DATA!$C$5:$C$6,"error",0,1),0) -> 23296.128 | BD7: =IF(Z7>0,(L7-M7)*DATA!$C$7,"0,00 ") -> 0,00 | BE7: =IF(G7="basement",D7*DATA!$C$8,IF(G7="ground",0,"error")) -> 18848 | BF7: =BB7+BC7+BD7+BE7 -> 42144.128 | BG7: 0.25 | BH7: 1.1 | BI7: =IF(G7="ground",0.57,IF(G7="basement",0.85,"error")) -> 0.85 | BJ7: 0.21 | BK7: =IF(K7="N",1/((1/BG7)+0.15/0.038),BG7) -> 0.25 | BL7: =IF(O7="sloped",1/(1/BJ7+0.15/0.04),IF(O7="flat",1/(1/BJ7+0.15/0.034),"error")) -> 0.11748252 | BM7: 1.1 | BN7: =IF(BI7=0.85,1/(1/BI7+0.05/0.038),BI7) -> 0.40124224 | BP7: =D7*BS7 -> 6832.4 | BQ7: =H7 -> 4 | BR7: =0.32*BP7 -> 2186.368 | BS7: =I7 -> 14.5 | BT7: =IF(BQ7<=3,0.76*BP7,0.8*BP7) -> 5465.92 | BU7: =(($D7*$BI7*($BU$1-$BX$1)+$J7*$BG7*($BU$1-$BW$1)+$L7*$BH7*($BU$1-$BW$1)+$N7*$BJ7*($BU$1-$BV$1))*1.05+$BT7*(5.95))/1000 -> 68.59504 | BV7: =(($D7*$BI7*($BU$1-$BX$1)+$J7*$BK7*($BU$1-$BW$1)+$L7*$BH7*($BU$1-$BW$1)+$N7*$BJ7*($BU$1-$BV$1))*1.05+$BT7*(5.95))/1000 -> 68.59504 | BW7: =(($D7*$BI7*($BU$1-$BX$1)+$J7*$BG7*($BU$1-$BW$1)+$L7*$BH7*($BU$1-$BW$1)+$N7*$BL7*($BU$1-$BV$1))*1.05+$BT7*(5.95))/1000 -> 66.709153 | BX7: =(($D7*$BI7*($BU$1-$BX$1)+$J7*$BG7*($BU$1-$BW$1)+$L7*$BM7*($BU$1-$BW$1)+$N7*$BJ7*($BU$1-$BV$1))*1.05+$BT7*(5.95))/1000 -> 68.59504 | BY7: =(($D7*$BN7*($BU$1-$BX$1)+$J7*$BG7*($BU$1-$BW$1)+$L7*$BH7*($BU$1-$BW$1)+$N7*$BJ7*($BU$1-$BV$1))*1.05+$BT7*(5.95))/1000 -> 64.820574 | BZ7: =BU7*1152.4 -> 79048.924 | CA7: =BV7*1152.4 -> 79048.924 | CB7: =BW7*1152.4 -> 76875.628 | CC7: =BX7*1152.4 -> 79048.924 | CD7: =BY7*1152.4 -> 74699.229
A8: 5 | B8: Elektrenai | C8: Draugystės gatve 11 | D8: 361.2 | E8: =0.8*D8*H8 -> 2600.64 | F8: 77.6 | G8: Basement | H8: 9 | I8: 29.2 | J8: =F8*I8-L8 -> 1761.12 | K8: Y | L8: 504.8 | M8: 504.8 | N8: 361.2 | O8: Flat | P8: Y | Q8: District heating | R8: Natural gas | S8: =BZ8 -> 116027.69 | T8: =S8/E8 -> 44.615052 | U8: =CA8 -> 116027.69 | V8: =IF(ISBLANK(D8)," ",S8-U8) -> 0 | W8: =CB8 -> 114262.1 | X8: =IF(ISBLANK(D8)," ",S8-W8) -> 1765.5858 | Y8: =CC8 -> 116027.69 | Z8: =IF(ISBLANK(D8)," ",S8-Y8) -> 0 | AA8: =CD8 -> 112693.42 | AB8: =IF(ISBLANK(D8)," ",S8-AA8) -> 3334.2732 | AC8: =V8+X8+Z8+AB8 -> 5099.8591 | AD8: =IF(ISBLANK(D8)," ",S8-AC8) -> 110927.83 | AE8: =(S8-AD8)/E8 -> 1.9610015 | AF8: =1-AD8/S8 -> 0.04395381 | AG8: =IF(ISBLANK($D8),"",S8*_xlfn.XLOOKUP(Q8,DATA!$B$24:$B$25,DATA!$C$24:$C$25,"error",0,1)/1000) -> 46.211508 | AH8: =IF(ISBLANK($D8),"",V8*_xlfn.XLOOKUP(Q8,DATA!$B$24:$B$25,DATA!$C$24:$C$25,"error",0,1)/1000) -> 0 | AI8: =IF(ISBLANK($D8),"",X8*_xlfn.XLOOKUP(Q8,DATA!$B$24:$B$25,DATA!$C$24:$C$25,"error",0,1)/1000) -> 0.70319752 | AJ8: =IF(ISBLANK($D8),"",Z8*_xlfn.XLOOKUP(Q8,DATA!$B$24:$B$25,DATA!$C$24:$C$25,"error",0,1)/1000) -> 0 | AK8: =IF(ISBLANK($D8),"",AB8*_xlfn.XLOOKUP(Q8,DATA!$B$24:$B$25,DATA!$C$24:$C$25,"error",0,1)/1000) -> 1.3279743 | AL8: =SUM(AH8:AK8) -> 2.0311719 | AM8: =IF(ISBLANK($D8),"",AG8-AL8) -> 44.180337 | AN8: =IF(ISBLANK($D8),"",$S8*0.0135790158248428/1000) -> 1.5755418 | AO8: =IF(ISBLANK($D8),"",$V8*0.0135790158248428/1000) -> 0 | AP8: =IF(ISBLANK($D8),"",$X8*0.0135790158248428/1000) -> 0.023974918 | AQ8: =IF(ISBLANK($D8),"",$Z8*0.0135790158248428/1000) -> 0 | AR8: =IF(ISBLANK($D8),"",$AB8*0.0135790158248428/1000) -> 0.045276149 | AS8: =IF(ISBLANK($D8),"",$AC8*0.0135790158248428/1000) -> 0.069251067 | AT8: =IF(ISBLANK($D8),"",AN8-AS8) -> 1.5062908 | AU8: =IF(ISBLANK($D8),"",$S8*0.000738514285714286/1000) -> 0.085688107 | AV8: =IF(ISBLANK($D8),"",$V8*0.000738514285714286/1000) -> 0 | AW8: =IF(ISBLANK($D8),"",$X8*0.000738514285714286/1000) -> 0.0013039103 | AX8: =IF(ISBLANK($D8),"",$Z8*0.000738514285714286/1000) -> 0 | AY8: =IF(ISBLANK($D8),"",$AB8*0.000738514285714286/1000) -> 0.0024624084 | AZ8: =IF(ISBLANK($D8),"",$AC8*0.000738514285714286/1000) -> 0.0037663188 | BA8: =IF(ISBLANK($D8),"",AU8-AZ8) -> 0.081921788 | BB8: =IF(V8>0,J8*DATA!$C$4,0) -> 0 | BC8: =IF(X8>0,N8*_xlfn.XLOOKUP(Elektrenai!O8,DATA!$B$5:$B$6,DATA!$C$5:$C$6,"error",0,1),0) -> 30702 | BD8: =IF(Z8>0,(L8-M8)*DATA!$C$7,"0,00 ") -> 0,00 | BE8: =IF(G8="basement",D8*DATA!$C$8,IF(G8="ground",0,"error")) -> 14448 | BF8: =BB8+BC8+BD8+BE8 -> 45150 | BG8: 0.25 | BH8: 1.1 | BI8: =IF(G8="ground",0.57,IF(G8="basement",0.85,"error")) -> 0.85 | BJ8: 0.21 | BK8: =IF(K8="N",1/((1/BG8)+0.15/0.038),BG8) -> 0.25 | BL8: =IF(O8="sloped",1/(1/BJ8+0.15/0.04),IF(O8="flat",1/(1/BJ8+0.15/0.034),"error")) -> 0.10900763 | BM8: 1.1 | BN8: =IF(BI8=0.85,1/(1/BI8+0.05/0.038),BI8) -> 0.40124224 | BP8: =D8*BS8 -> 10547.04 | BQ8: =H8 -> 9 | BR8: =0.32*BP8 -> 3375.0528 | BS8: =I8 -> 29.2 | BT8: =IF(BQ8<=3,0.76*BP8,0.8*BP8) -> 8437.632 | BU8: =(($D8*$BI8*($BU$1-$BX$1)+$J8*$BG8*($BU$1-$BW$1)+$L8*$BH8*($BU$1-$BW$1)+$N8*$BJ8*($BU$1-$BV$1))*1.05+$BT8*(5.95))/1000 -> 100.68352 | BV8: =(($D8*$BI8*($BU$1-$BX$1)+$J8*$BK8*($BU$1-$BW$1)+$L8*$BH8*($BU$1-$BW$1)+$N8*$BJ8*($BU$1-$BV$1))*1.05+$BT8*(5.95))/1000 -> 100.68352 | BW8: =(($D8*$BI8*($BU$1-$BX$1)+$J8*$BG8*($BU$1-$BW$1)+$L8*$BH8*($BU$1-$BW$1)+$N8*$BL8*($BU$1-$BV$1))*1.05+$BT8*(5.95))/1000 -> 99.151427 | BX8: =(($D8*$BI8*($BU$1-$BX$1)+$J8*$BG8*($BU$1-$BW$1)+$L8*$BM8*($BU$1-$BW$1)+$N8*$BJ8*($BU$1-$BV$1))*1.05+$BT8*(5.95))/1000 -> 100.68352 | BY8: =(($D8*$BN8*($BU$1-$BX$1)+$J8*$BG8*($BU$1-$BW$1)+$L8*$BH8*($BU$1-$BW$1)+$N8*$BJ8*($BU$1-$BV$1))*1.05+$BT8*(5.95))/1000 -> 97.790192 | BZ8: =BU8*1152.4 -> 116027.69 | CA8: =BV8*1152.4 -> 116027.69 | CB8: =BW8*1152.4 -> 114262.1 | CC8: =BX8*1152.4 -> 116027.69 | CD8: =BY8*1152.4 -> 112693.42
A9: 6 | B9: Elektrenai | C9: Draugystės gatve 12 | D9: 735.4 | E9: =0.8*D9*H9 -> 2353.28 | F9: 140 | G9: Basement | H9: 4 | I9: 14.5 | J9: =F9*I9-L9 -> 1624 | K9: Y | L9: 406 | M9: 406 | N9: 757.462 | O9: Sloped | P9: Y | Q9: District heating | R9: Natural gas | S9: =BZ9 -> 120316.53 | T9: =S9/E9 -> 51.127162 | U9: =CA9 -> 120316.53 | V9: =IF(ISBLANK(D9)," ",S9-U9) -> 0 | W9: =CB9 -> 116924.67 | X9: =IF(ISBLANK(D9)," ",S9-W9) -> 3391.8544 | Y9: =CC9 -> 120316.53 | Z9: =IF(ISBLANK(D9)," ",S9-Y9) -> 0 | AA9: =CD9 -> 113527.98 | AB9: =IF(ISBLANK(D9)," ",S9-AA9) -> 6788.5508 | AC9: =V9+X9+Z9+AB9 -> 10180.405 | AD9: =IF(ISBLANK(D9)," ",S9-AC9) -> 110136.12 | AE9: =(S9-AD9)/E9 -> 4.3260492 | AF9: =1-AD9/S9 -> 0.084613521 | AG9: =IF(ISBLANK($D9),"",S9*_xlfn.XLOOKUP(Q9,DATA!$B$24:$B$25,DATA!$C$24:$C$25,"error",0,1)/1000) -> 47.919667 | AH9: =IF(ISBLANK($D9),"",V9*_xlfn.XLOOKUP(Q9,DATA!$B$24:$B$25,DATA!$C$24:$C$25,"error",0,1)/1000) -> 0 | AI9: =IF(ISBLANK($D9),"",X9*_xlfn.XLOOKUP(Q9,DATA!$B$24:$B$25,DATA!$C$24:$C$25,"error",0,1)/1000) -> 1.3509078 | AJ9: =IF(ISBLANK($D9),"",Z9*_xlfn.XLOOKUP(Q9,DATA!$B$24:$B$25,DATA!$C$24:$C$25,"error",0,1)/1000) -> 0 | AK9: =IF(ISBLANK($D9),"",AB9*_xlfn.XLOOKUP(Q9,DATA!$B$24:$B$25,DATA!$C$24:$C$25,"error",0,1)/1000) -> 2.703744 | AL9: =SUM(AH9:AK9) -> 4.0546518 | AM9: =IF(ISBLANK($D9),"",AG9-AL9) -> 43.865015 | AN9: =IF(ISBLANK($D9),"",$S9*0.0135790158248428/1000) -> 1.63378 | AO9: =IF(ISBLANK($D9),"",$V9*0.0135790158248428/1000) -> 0 | AP9: =IF(ISBLANK($D9),"",$X9*0.0135790158248428/1000) -> 0.046058044 | AQ9: =IF(ISBLANK($D9),"",$Z9*0.0135790158248428/1000) -> 0 | AR9: =IF(ISBLANK($D9),"",$AB9*0.0135790158248428/1000) -> 0.092181838 | AS9: =IF(ISBLANK($D9),"",$AC9*0.0135790158248428/1000) -> 0.13823988 | AT9: =IF(ISBLANK($D9),"",AN9-AS9) -> 1.4955402 | AU9: =IF(ISBLANK($D9),"",$S9*0.000738514285714286/1000) -> 0.088855475 | AV9: =IF(ISBLANK($D9),"",$V9*0.000738514285714286/1000) -> 0 | AW9: =IF(ISBLANK($D9),"",$X9*0.000738514285714286/1000) -> 0.0025049329 | AX9: =IF(ISBLANK($D9),"",$Z9*0.000738514285714286/1000) -> 0 | AY9: =IF(ISBLANK($D9),"",$AB9*0.000738514285714286/1000) -> 0.0050134417 | AZ9: =IF(ISBLANK($D9),"",$AC9*0.000738514285714286/1000) -> 0.0075183746 | BA9: =IF(ISBLANK($D9),"",AU9-AZ9) -> 0.081337101 | BB9: =IF(V9>0,J9*DATA!$C$4,0) -> 0 | BC9: =IF(X9>0,N9*_xlfn.XLOOKUP(Elektrenai!O9,DATA!$B$5:$B$6,DATA!$C$5:$C$6,"error",0,1),0) -> 36358.176 | BD9: =IF(Z9>0,(L9-M9)*DATA!$C$7,"0,00 ") -> 0,00 | BE9: =IF(G9="basement",D9*DATA!$C$8,IF(G9="ground",0,"error")) -> 29416 | BF9: =BB9+BC9+BD9+BE9 -> 65774.176 | BG9: 0.25 | BH9: 1.1 | BI9: =IF(G9="ground",0.57,IF(G9="basement",0.85,"error")) -> 0.85 | BJ9: 0.21 | BK9: =IF(K9="N",1/((1/BG9)+0.15/0.038),BG9) -> 0.25 | BL9: =IF(O9="sloped",1/(1/BJ9+0.15/0.04),IF(O9="flat",1/(1/BJ9+0.15/0.034),"error")) -> 0.11748252 | BM9: 1.1 | BN9: =IF(BI9=0.85,1/(1/BI9+0.05/0.038),BI9) -> 0.40124224 | BP9: =D9*BS9 -> 10663.3 | BQ9: =H9 -> 4 | BR9: =0.32*BP9 -> 3412.256 | BS9: =I9 -> 14.5 | BT9: =IF(BQ9<=3,0.76*BP9,0.8*BP9) -> 8530.64 | BU9: =(($D9*$BI9*($BU$1-$BX$1)+$J9*$BG9*($BU$1-$BW$1)+$L9*$BH9*($BU$1-$BW$1)+$N9*$BJ9*($BU$1-$BV$1))*1.05+$BT9*(5.95))/1000 -> 104.40518 | BV9: =(($D9*$BI9*($BU$1-$BX$1)+$J9*$BK9*($BU$1-$BW$1)+$L9*$BH9*($BU$1-$BW$1)+$N9*$BJ9*($BU$1-$BV$1))*1.05+$BT9*(5.95))/1000 -> 104.40518 | BW9: =(($D9*$BI9*($BU$1-$BX$1)+$J9*$BG9*($BU$1-$BW$1)+$L9*$BH9*($BU$1-$BW$1)+$N9*$BL9*($BU$1-$BV$1))*1.05+$BT9*(5.95))/1000 -> 101.46188 | BX9: =(($D9*$BI9*($BU$1-$BX$1)+$J9*$BG9*($BU$1-$BW$1)+$L9*$BM9*($BU$1-$BW$1)+$N9*$BJ9*($BU$1-$BV$1))*1.05+$BT9*(5.95))/1000 -> 104.40518 | BY9: =(($D9*$BN9*($BU$1-$BX$1)+$J9*$BG9*($BU$1-$BW$1)+$L9*$BH9*($BU$1-$BW$1)+$N9*$BJ9*($BU$1-$BV$1))*1.05+$BT9*(5.95))/1000 -> 98.514386 | BZ9: =BU9*1152.4 -> 120316.53 | CA9: =BV9*1152.4 -> 120316.53 | CB9: =BW9*1152.4 -> 116924.67 | CC9: =BX9*1152.4 -> 120316.53 | CD9: =BY9*1152.4 -> 113527.98
A10: 7 | B10: Elektrenai | C10: Draugystės gatve 14 | D10: 925.4 | E10: =0.8*D10*H10 -> 2961.28 | F10: 148.2 | G10: Basement | H10: 4 | I10: 14.5 | J10: =F10*I10-L10 -> 1697.6 | K10: Y | L10: 451.3 | M10: 451.3 | N10: 953.162 | O10: Sloped | P10: Y | Q10: District heating | R10: Natural gas | S10: =BZ10 -> 144042.5 | T10: =S10/E10 -> 48.641971 | U10: =CA10 -> 144042.5 | V10: =IF(ISBLANK(D10)," ",S10-U10) -> 0 | W10: =CB10 -> 139774.31 | X10: =IF(ISBLANK(D10)," ",S10-W10) -> 4268.1833 | Y10: =CC10 -> 144042.5 | Z10: =IF(ISBLANK(D10)," ",S10-Y10) -> 0 | AA10: =CD10 -> 135500.04 | AB10: =IF(ISBLANK(D10)," ",S10-AA10) -> 8542.4597 | AC10: =V10+X10+Z10+AB10 -> 12810.643 | AD10: =IF(ISBLANK(D10)," ",S10-AC10) -> 131231.85 | AE10: =(S10-AD10)/E10 -> 4.3260492 | AF10: =1-AD10/S10 -> 0.088936553 | AG10: =IF(ISBLANK($D10),"",S10*_xlfn.XLOOKUP(Q10,DATA!$B$24:$B$25,DATA!$C$24:$C$25,"error",0,1)/1000) -> 57.369245 | AH10: =IF(ISBLANK($D10),"",V10*_xlfn.XLOOKUP(Q10,DATA!$B$24:$B$25,DATA!$C$24:$C$25,"error",0,1)/1000) -> 0 | AI10: =IF(ISBLANK($D10),"",X10*_xlfn.XLOOKUP(Q10,DATA!$B$24:$B$25,DATA!$C$24:$C$25,"error",0,1)/1000) -> 1.6999321 | AJ10: =IF(ISBLANK($D10),"",Z10*_xlfn.XLOOKUP(Q10,DATA!$B$24:$B$25,DATA!$C$24:$C$25,"error",0,1)/1000) -> 0 | AK10: =IF(ISBLANK($D10),"",AB10*_xlfn.XLOOKUP(Q10,DATA!$B$24:$B$25,DATA!$C$24:$C$25,"error",0,1)/1000) -> 3.4022909 | AL10: =SUM(AH10:AK10) -> 5.1022229 | AM10: =IF(ISBLANK($D10),"",AG10-AL10) -> 52.267022 | AN10: =IF(ISBLANK($D10),"",$S10*0.0135790158248428/1000) -> 1.9559553 | AO10: =IF(ISBLANK($D10),"",$V10*0.0135790158248428/1000) -> 0 | AP10: =IF(ISBLANK($D10),"",$X10*0.0135790158248428/1000) -> 0.057957729 | AQ10: =IF(ISBLANK($D10),"",$Z10*0.0135790158248428/1000) -> 0 | AR10: =IF(ISBLANK($D10),"",$AB10*0.0135790158248428/1000) -> 0.1159982 | AS10: =IF(ISBLANK($D10),"",$AC10*0.0135790158248428/1000) -> 0.17395593 | AT10: =IF(ISBLANK($D10),"",AN10-AS10) -> 1.7819994 | AU10: =IF(ISBLANK($D10),"",$S10*0.000738514285714286/1000) -> 0.10637744 | AV10: =IF(ISBLANK($D10),"",$V10*0.000738514285714286/1000) -> 0 | AW10: =IF(ISBLANK($D10),"",$X10*0.000738514285714286/1000) -> 0.0031521144 | AX10: =IF(ISBLANK($D10),"",$Z10*0.000738514285714286/1000) -> 0 | AY10: =IF(ISBLANK($D10),"",$AB10*0.000738514285714286/1000) -> 0.0063087286 | AZ10: =IF(ISBLANK($D10),"",$AC10*0.000738514285714286/1000) -> 0.0094608429 | BA10: =IF(ISBLANK($D10),"",AU10-AZ10) -> 0.096916598 | BB10: =IF(V10>0,J10*DATA!$C$4,0) -> 0 | BC10: =IF(X10>0,N10*_xlfn.XLOOKUP(Elektrenai!O10,DATA!$B$5:$B$6,DATA!$C$5:$C$6,"error",0,1),0) -> 45751.776 | BD10: =IF(Z10>0,(L10-M10)*DATA!$C$7,"0,00 ") -> 0,00 | BE10: =IF(G10="basement",D10*DATA!$C$8,IF(G10="ground",0,"error")) -> 37016 | BF10: =BB10+BC10+BD10+BE10 -> 82767.776 | BG10: 0.25 | BH10: 1.1 | BI10: =IF(G10="ground",0.57,IF(G10="basement",0.85,"error")) -> 0.85 | BJ10: 0.21 | BK10: =IF(K10="N",1/((1/BG10)+0.15/0.038),BG10) -> 0.25 | BL10: =IF(O10="sloped",1/(1/BJ10+0.15/0.04),IF(O10="flat",1/(1/BJ10+0.15/0.034),"error")) -> 0.11748252 | BM10: 1.1 | BN10: =IF(BI10=0.85,1/(1/BI10+0.05/0.038),BI10) -> 0.40124224 | BP10: =D10*BS10 -> 13418.3 | BQ10: =H10 -> 4 | BR10: =0.32*BP10 -> 4293.856 | BS10: =I10 -> 14.5 | BT10: =IF(BQ10<=3,0.76*BP10,0.8*BP10) -> 10734.64 | BU10: =(($D10*$BI10*($BU$1-$BX$1)+$J10*$BG10*($BU$1-$BW$1)+$L10*$BH10*($BU$1-$BW$1)+$N10*$BJ10*($BU$1-$BV$1))*1.05+$BT10*(5.95))/1000 -> 124.99349 | BV10: =(($D10*$BI10*($BU$1-$BX$1)+$J10*$BK10*($BU$1-$BW$1)+$L10*$BH10*($BU$1-$BW$1)+$N10*$BJ10*($BU$1-$BV$1))*1.05+$BT10*(5.95))/1000 -> 124.99349 | BW10: =(($D10*$BI10*($BU$1-$BX$1)+$J10*$BG10*($BU$1-$BW$1)+$L10*$BH10*($BU$1-$BW$1)+$N10*$BL10*($BU$1-$BV$1))*1.05+$BT10*(5.95))/1000 -> 121.28975 | BX10: =(($D10*$BI10*($BU$1-$BX$1)+$J10*$BG10*($BU$1-$BW$1)+$L10*$BM10*($BU$1-$BW$1)+$N10*$BJ10*($BU$1-$BV$1))*1.05+$BT10*(5.95))/1000 -> 124.99349 | BY10: =(($D10*$BN10*($BU$1-$BX$1)+$J10*$BG10*($BU$1-$BW$1)+$L10*$BH10*($BU$1-$BW$1)+$N10*$BJ10*($BU$1-$BV$1))*1.05+$BT10*(5.95))/1000 -> 117.58073 | BZ10: =BU10*1152.4 -> 144042.5 | CA10: =BV10*1152.4 -> 144042.5 | CB10: =BW10*1152.4 -> 139774.31 | CC10: =BX10*1152.4 -> 144042.5 | CD10: =BY10*1152.4 -> 135500.04
A11: 8 | B11: Elektrenai | C11: Draugystės gatve 16 | D11: 776.1 | E11: =0.8*D11*H11 -> 2483.52 | F11: 128.6 | G11: Basement | H11: 4 | I11: 14.5 | J11: =F11*I11-L11 -> 1491.8 | K11: Y | L11: 372.9 | M11: 372.9 | N11: 799.383 | O11: Sloped | P11: Y | Q11: District heating | R11: Natural gas | S11: =BZ11 -> 121329.56 | T11: =S11/E11 -> 48.853867 | U11: =CA11 -> 121329.56 | V11: =IF(ISBLANK(D11)," ",S11-U11) -> 0 | W11: =CB11 -> 117749.98 | X11: =IF(ISBLANK(D11)," ",S11-W11) -> 3579.5733 | Y11: =CC11 -> 121329.56 | Z11: =IF(ISBLANK(D11)," ",S11-Y11) -> 0 | AA11: =CD11 -> 114165.3 | AB11: =IF(ISBLANK(D11)," ",S11-AA11) -> 7164.2565 | AC11: =V11+X11+Z11+AB11 -> 10743.83 | AD11: =IF(ISBLANK(D11)," ",S11-AC11) -> 110585.73 | AE11: =(S11-AD11)/E11 -> 4.3260492 | AF11: =1-AD11/S11 -> 0.088550805 | AG11: =IF(ISBLANK($D11),"",S11*_xlfn.XLOOKUP(Q11,DATA!$B$24:$B$25,DATA!$C$24:$C$25,"error",0,1)/1000) -> 48.323135 | AH11: =IF(ISBLANK($D11),"",V11*_xlfn.XLOOKUP(Q11,DATA!$B$24:$B$25,DATA!$C$24:$C$25,"error",0,1)/1000) -> 0 | AI11: =IF(ISBLANK($D11),"",X11*_xlfn.XLOOKUP(Q11,DATA!$B$24:$B$25,DATA!$C$24:$C$25,"error",0,1)/1000) -> 1.4256724 | AJ11: =IF(ISBLANK($D11),"",Z11*_xlfn.XLOOKUP(Q11,DATA!$B$24:$B$25,DATA!$C$24:$C$25,"error",0,1)/1000) -> 0 | AK11: =IF(ISBLANK($D11),"",AB11*_xlfn.XLOOKUP(Q11,DATA!$B$24:$B$25,DATA!$C$24:$C$25,"error",0,1)/1000) -> 2.8533801 | AL11: =SUM(AH11:AK11) -> 4.2790525 | AM11: =IF(ISBLANK($D11),"",AG11-AL11) -> 44.044083 | AN11: =IF(ISBLANK($D11),"",$S11*0.0135790158248428/1000) -> 1.6475359 | AO11: =IF(ISBLANK($D11),"",$V11*0.0135790158248428/1000) -> 0 | AP11: =IF(ISBLANK($D11),"",$X11*0.0135790158248428/1000) -> 0.048607082 | AQ11: =IF(ISBLANK($D11),"",$Z11*0.0135790158248428/1000) -> 0 | AR11: =IF(ISBLANK($D11),"",$AB11*0.0135790158248428/1000) -> 0.097283553 | AS11: =IF(ISBLANK($D11),"",$AC11*0.0135790158248428/1000) -> 0.14589063 | AT11: =IF(ISBLANK($D11),"",AN11-AS11) -> 1.5016453 | AU11: =IF(ISBLANK($D11),"",$S11*0.000738514285714286/1000) -> 0.08960361 | AV11: =IF(ISBLANK($D11),"",$V11*0.000738514285714286/1000) -> 0 | AW11: =IF(ISBLANK($D11),"",$X11*0.000738514285714286/1000) -> 0.002643566 | AX11: =IF(ISBLANK($D11),"",$Z11*0.000738514285714286/1000) -> 0 | AY11: =IF(ISBLANK($D11),"",$AB11*0.000738514285714286/1000) -> 0.0052909058 | AZ11: =IF(ISBLANK($D11),"",$AC11*0.000738514285714286/1000) -> 0.0079344718 | BA11: =IF(ISBLANK($D11),"",AU11-AZ11) -> 0.081669138 | BB11: =IF(V11>0,J11*DATA!$C$4,0) -> 0 | BC11: =IF(X11>0,N11*_xlfn.XLOOKUP(Elektrenai!O11,DATA!$B$5:$B$6,DATA!$C$5:$C$6,"error",0,1),0) -> 38370.384 | BD11: =IF(Z11>0,(L11-M11)*DATA!$C$7,"0,00 ") -> 0,00 | BE11: =IF(G11="basement",D11*DATA!$C$8,IF(G11="ground",0,"error")) -> 31044 | BF11: =BB11+BC11+BD11+BE11 -> 69414.384 | BG11: 0.25 | BH11: 1.1 | BI11: =IF(G11="ground",0.57,IF(G11="basement",0.85,"error")) -> 0.85 | BJ11: 0.21 | BK11: =IF(K11="N",1/((1/BG11)+0.15/0.038),BG11) -> 0.25 | BL11: =IF(O11="sloped",1/(1/BJ11+0.15/0.04),IF(O11="flat",1/(1/BJ11+0.15/0.034),"error")) -> 0.11748252 | BM11: 1.1 | BN11: =IF(BI11=0.85,1/(1/BI11+0.05/0.038),BI11) -> 0.40124224 | BP11: =D11*BS11 -> 11253.45 | BQ11: =H11 -> 4 | BR11: =0.32*BP11 -> 3601.104 | BS11: =I11 -> 14.5 | BT11: =IF(BQ11<=3,0.76*BP11,0.8*BP11) -> 9002.76 | BU11: =(($D11*$BI11*($BU$1-$BX$1)+$J11*$BG11*($BU$1-$BW$1)+$L11*$BH11*($BU$1-$BW$1)+$N11*$BJ11*($BU$1-$BV$1))*1.05+$BT11*(5.95))/1000 -> 105.28424 | BV11: =(($D11*$BI11*($BU$1-$BX$1)+$J11*$BK11*($BU$1-$BW$1)+$L11*$BH11*($BU$1-$BW$1)+$N11*$BJ11*($BU$1-$BV$1))*1.05+$BT11*(5.95))/1000 -> 105.28424 | BW11: =(($D11*$BI11*($BU$1-$BX$1)+$J11*$BG11*($BU$1-$BW$1)+$L11*$BH11*($BU$1-$BW$1)+$N11*$BL11*($BU$1-$BV$1))*1.05+$BT11*(5.95))/1000 -> 102.17805 | BX11: =(($D11*$BI11*($BU$1-$BX$1)+$J11*$BG11*($BU$1-$BW$1)+$L11*$BM11*($BU$1-$BW$1)+$N11*$BJ11*($BU$1-$BV$1))*1.05+$BT11*(5.95))/1000 -> 105.28424 | BY11: =(($D11*$BN11*($BU$1-$BX$1)+$J11*$BG11*($BU$1-$BW$1)+$L11*$BH11*($BU$1-$BW$1)+$N11*$BJ11*($BU$1-$BV$1))*1.05+$BT11*(5.95))/1000 -> 99.067423 | BZ11: =BU11*1152.4 -> 121329.56 | CA11: =BV11*1152.4 -> 121329.56 | CB11: =BW11*1152.4 -> 117749.98 | CC11: =BX11*1152.4 -> 121329.56 | CD11: =BY11*1152.4 -> 114165.3
A12: 9 | B12: Elektrenai | C12: Draugystės gatve 17 | D12: 313.4 | E12: =0.8*D12*H12 -> 2256.48 | F12: 78 | G12: Basement | H12: 9 | I12: 29.2 | J12: =F12*I12-L12 -> 1412.1 | K12: Y | L12: 865.5 | M12: 865.5 | N12: 322.802 | O12: Sloped | P12: Y | Q12: District heating | R12: Natural gas | S12: =BZ12 -> 122126.07 | T12: =S12/E12 -> 54.122382 | U12: =CA12 -> 122126.07 | V12: =IF(ISBLANK(D12)," ",S12-U12) -> 0 | W12: =CB12 -> 120680.59 | X12: =IF(ISBLANK(D12)," ",S12-W12) -> 1445.4816 | Y12: =CC12 -> 122126.07 | Z12: =IF(ISBLANK(D12)," ",S12-Y12) -> 0 | AA12: =CD12 -> 119233.04 | AB12: =IF(ISBLANK(D12)," ",S12-AA12) -> 2893.0267 | AC12: =V12+X12+Z12+AB12 -> 4338.5083 | AD12: =IF(ISBLANK(D12)," ",S12-AC12) -> 117787.56 | AE12: =(S12-AD12)/E12 -> 1.9226885 | AF12: =1-AD12/S12 -> 0.035524833 | AG12: =IF(ISBLANK($D12),"",S12*_xlfn.XLOOKUP(Q12,DATA!$B$24:$B$25,DATA!$C$24:$C$25,"error",0,1)/1000) -> 48.640372 | AH12: =IF(ISBLANK($D12),"",V12*_xlfn.XLOOKUP(Q12,DATA!$B$24:$B$25,DATA!$C$24:$C$25,"error",0,1)/1000) -> 0 | AI12: =IF(ISBLANK($D12),"",X12*_xlfn.XLOOKUP(Q12,DATA!$B$24:$B$25,DATA!$C$24:$C$25,"error",0,1)/1000) -> 0.57570641 | AJ12: =IF(ISBLANK($D12),"",Z12*_xlfn.XLOOKUP(Q12,DATA!$B$24:$B$25,DATA!$C$24:$C$25,"error",0,1)/1000) -> 0 | AK12: =IF(ISBLANK($D12),"",AB12*_xlfn.XLOOKUP(Q12,DATA!$B$24:$B$25,DATA!$C$24:$C$25,"error",0,1)/1000) -> 1.1522347 | AL12: =SUM(AH12:AK12) -> 1.7279411 | AM12: =IF(ISBLANK($D12),"",AG12-AL12) -> 46.912431 | AN12: =IF(ISBLANK($D12),"",$S12*0.0135790158248428/1000) -> 1.6583519 | AO12: =IF(ISBLANK($D12),"",$V12*0.0135790158248428/1000) -> 0 | AP12: =IF(ISBLANK($D12),"",$X12*0.0135790158248428/1000) -> 0.019628217 | AQ12: =IF(ISBLANK($D12),"",$Z12*0.0135790158248428/1000) -> 0 | AR12: =IF(ISBLANK($D12),"",$AB12*0.0135790158248428/1000) -> 0.039284455 | AS12: =IF(ISBLANK($D12),"",$AC12*0.0135790158248428/1000) -> 0.058912672 | AT12: =IF(ISBLANK($D12),"",AN12-AS12) -> 1.5994392 | AU12: =IF(ISBLANK($D12),"",$S12*0.000738514285714286/1000) -> 0.090191849 | AV12: =IF(ISBLANK($D12),"",$V12*0.000738514285714286/1000) -> 0 | AW12: =IF(ISBLANK($D12),"",$X12*0.000738514285714286/1000) -> 0.0010675088 | AX12: =IF(ISBLANK($D12),"",$Z12*0.000738514285714286/1000) -> 0 | AY12: =IF(ISBLANK($D12),"",$AB12*0.000738514285714286/1000) -> 0.0021365415 | AZ12: =IF(ISBLANK($D12),"",$AC12*0.000738514285714286/1000) -> 0.0032040503 | BA12: =IF(ISBLANK($D12),"",AU12-AZ12) -> 0.086987798 | BB12: =IF(V12>0,J12*DATA!$C$4,0) -> 0 | BC12: =IF(X12>0,N12*_xlfn.XLOOKUP(Elektrenai!O12,DATA!$B$5:$B$6,DATA!$C$5:$C$6,"error",0,1),0) -> 15494.496 | BD12: =IF(Z12>0,(L12-M12)*DATA!$C$7,"0,00 ") -> 0,00 | BE12: =IF(G12="basement",D12*DATA!$C$8,IF(G12="ground",0,"error")) -> 12536 | BF12: =BB12+BC12+BD12+BE12 -> 28030.496 | BG12: 0.25 | BH12: 1.1 | BI12: =IF(G12="ground",0.57,IF(G12="basement",0.85,"error")) -> 0.85 | BJ12: 0.21 | BK12: =IF(K12="N",1/((1/BG12)+0.15/0.038),BG12) -> 0.25 | BL12: =IF(O12="sloped",1/(1/BJ12+0.15/0.04),IF(O12="flat",1/(1/BJ12+0.15/0.034),"error")) -> 0.11748252 | BM12: 1.1 | BN12: =IF(BI12=0.85,1/(1/BI12+0.05/0.038),BI12) -> 0.40124224 | BP12: =D12*BS12 -> 9151.28 | BQ12: =H12 -> 9 | BR12: =0.32*BP12 -> 2928.4096 | BS12: =I12 -> 29.2 | BT12: =IF(BQ12<=3,0.76*BP12,0.8*BP12) -> 7321.024 | BU12: =(($D12*$BI12*($BU$1-$BX$1)+$J12*$BG12*($BU$1-$BW$1)+$L12*$BH12*($BU$1-$BW$1)+$N12*$BJ12*($BU$1-$BV$1))*1.05+$BT12*(5.95))/1000 -> 105.97542 | BV12: =(($D12*$BI12*($BU$1-$BX$1)+$J12*$BK12*($BU$1-$BW$1)+$L12*$BH12*($BU$1-$BW$1)+$N12*$BJ12*($BU$1-$BV$1))*1.05+$BT12*(5.95))/1000 -> 105.97542 | BW12: =(($D12*$BI12*($BU$1-$BX$1)+$J12*$BG12*($BU$1-$BW$1)+$L12*$BH12*($BU$1-$BW$1)+$N12*$BL12*($BU$1-$BV$1))*1.05+$BT12*(5.95))/1000 -> 104.7211 | BX12: =(($D12*$BI12*($BU$1-$BX$1)+$J12*$BG12*($BU$1-$BW$1)+$L12*$BM12*($BU$1-$BW$1)+$N12*$BJ12*($BU$1-$BV$1))*1.05+$BT12*(5.95))/1000 -> 105.97542 | BY12: =(($D12*$BN12*($BU$1-$BX$1)+$J12*$BG12*($BU$1-$BW$1)+$L12*$BH12*($BU$1-$BW$1)+$N12*$BJ12*($BU$1-$BV$1))*1.05+$BT12*(5.95))/1000 -> 103.46498 | BZ12: =BU12*1152.4 -> 122126.07 | CA12: =BV12*1152.4 -> 122126.07 | CB12: =BW12*1152.4 -> 120680.59 | CC12: =BX12*1152.4 -> 122126.07 | CD12: =BY12*1152.4 -> 119233.04
A13: 10 | B13: Elektrenai | C13: Draugystės gatve 18 | D13: 805.4 | E13: =0.8*D13*H13 -> 2577.28 | F13: 146.8 | G13: Basement | H13: 4 | I13: 14.5 | J13: =F13*I13-L13 -> 1745.4 | K13: Y | L13: 383.2 | M13: 383.2 | N13: 829.562 | O13: Sloped | P13: Y | Q13: District heating | R13: Natural gas | S13: =BZ13 -> 128096.08 | T13: =S13/E13 -> 49.702042 | U13: =CA13 -> 128096.08 | V13: =IF(ISBLANK(D13)," ",S13-U13) -> 0 | W13: =CB13 -> 124381.37 | X13: =IF(ISBLANK(D13)," ",S13-W13) -> 3714.7124 | Y13: =CC13 -> 128096.08 | Z13: =IF(ISBLANK(D13)," ",S13-Y13) -> 0 | AA13: =CD13 -> 120661.35 | AB13: =IF(ISBLANK(D13)," ",S13-AA13) -> 7434.7278 | AC13: =V13+X13+Z13+AB13 -> 11149.44 | AD13: =IF(ISBLANK(D13)," ",S13-AC13) -> 116946.64 | AE13: =(S13-AD13)/E13 -> 4.3260492 | AF13: =1-AD13/S13 -> 0.087039669 | AG13: =IF(ISBLANK($D13),"",S13*_xlfn.XLOOKUP(Q13,DATA!$B$24:$B$25,DATA!$C$24:$C$25,"error",0,1)/1000) -> 51.018106 | AH13: =IF(ISBLANK($D13),"",V13*_xlfn.XLOOKUP(Q13,DATA!$B$24:$B$25,DATA!$C$24:$C$25,"error",0,1)/1000) -> 0 | AI13: =IF(ISBLANK($D13),"",X13*_xlfn.XLOOKUP(Q13,DATA!$B$24:$B$25,DATA!$C$24:$C$25,"error",0,1)/1000) -> 1.4794957 | AJ13: =IF(ISBLANK($D13),"",Z13*_xlfn.XLOOKUP(Q13,DATA!$B$24:$B$25,DATA!$C$24:$C$25,"error",0,1)/1000) -> 0 | AK13: =IF(ISBLANK($D13),"",AB13*_xlfn.XLOOKUP(Q13,DATA!$B$24:$B$25,DATA!$C$24:$C$25,"error",0,1)/1000) -> 2.9611034 | AL13: =SUM(AH13:AK13) -> 4.440599 | AM13: =IF(ISBLANK($D13),"",AG13-AL13) -> 46.577507 | AN13: =IF(ISBLANK($D13),"",$S13*0.0135790158248428/1000) -> 1.7394187 | AO13: =IF(ISBLANK($D13),"",$V13*0.0135790158248428/1000) -> 0 | AP13: =IF(ISBLANK($D13),"",$X13*0.0135790158248428/1000) -> 0.050442139 | AQ13: =IF(ISBLANK($D13),"",$Z13*0.0135790158248428/1000) -> 0 | AR13: =IF(ISBLANK($D13),"",$AB13*0.0135790158248428/1000) -> 0.10095629 | AS13: =IF(ISBLANK($D13),"",$AC13*0.0135790158248428/1000) -> 0.15139842 | AT13: =IF(ISBLANK($D13),"",AN13-AS13) -> 1.5880202 | AU13: =IF(ISBLANK($D13),"",$S13*0.000738514285714286/1000) -> 0.094600784 | AV13: =IF(ISBLANK($D13),"",$V13*0.000738514285714286/1000) -> 0 | AW13: =IF(ISBLANK($D13),"",$X13*0.000738514285714286/1000) -> 0.0027433682 | AX13: =IF(ISBLANK($D13),"",$Z13*0.000738514285714286/1000) -> 0 | AY13: =IF(ISBLANK($D13),"",$AB13*0.000738514285714286/1000) -> 0.0054906527 | AZ13: =IF(ISBLANK($D13),"",$AC13*0.000738514285714286/1000) -> 0.0082340208 | BA13: =IF(ISBLANK($D13),"",AU13-AZ13) -> 0.086366763 | BB13: =IF(V13>0,J13*DATA!$C$4,0) -> 0 | BC13: =IF(X13>0,N13*_xlfn.XLOOKUP(Elektrenai!O13,DATA!$B$5:$B$6,DATA!$C$5:$C$6,"error",0,1),0) -> 39818.976 | BD13: =IF(Z13>0,(L13-M13)*DATA!$C$7,"0,00 ") -> 0,00 | BE13: =IF(G13="basement",D13*DATA!$C$8,IF(G13="ground",0,"error")) -> 32216 | BF13: =BB13+BC13+BD13+BE13 -> 72034.976 | BG13: 0.25 | BH13: 1.1 | BI13: =IF(G13="ground",0.57,IF(G13="basement",0.85,"error")) -> 0.85 | BJ13: 0.21 | BK13: =IF(K13="N",1/((1/BG13)+0.15/0.038),BG13) -> 0.25 | BL13: =IF(O13="sloped",1/(1/BJ13+0.15/0.04),IF(O13="flat",1/(1/BJ13+0.15/0.034),"error")) -> 0.11748252 | BM13: 1.1 | BN13: =IF(BI13=0.85,1/(1/BI13+0.05/0.038),BI13) -> 0.40124224 | BP13: =D13*BS13 -> 11678.3 | BQ13: =H13 -> 4 | BR13: =0.32*BP13 -> 3737.056 | BS13: =I13 -> 14.5 | BT13: =IF(BQ13<=3,0.76*BP13,0.8*BP13) -> 9342.64 | BU13: =(($D13*$BI13*($BU$1-$BX$1)+$J13*$BG13*($BU$1-$BW$1)+$L13*$BH13*($BU$1-$BW$1)+$N13*$BJ13*($BU$1-$BV$1))*1.05+$BT13*(5.95))/1000 -> 111.15592 | BV13: =(($D13*$BI13*($BU$1-$BX$1)+$J13*$BK13*($BU$1-$BW$1)+$L13*$BH13*($BU$1-$BW$1)+$N13*$BJ13*($BU$1-$BV$1))*1.05+$BT13*(5.95))/1000 -> 111.15592 | BW13: =(($D13*$BI13*($BU$1-$BX$1)+$J13*$BG13*($BU$1-$BW$1)+$L13*$BH13*($BU$1-$BW$1)+$N13*$BL13*($BU$1-$BV$1))*1.05+$BT13*(5.95))/1000 -> 107.93246 | BX13: =(($D13*$BI13*($BU$1-$BX$1)+$J13*$BG13*($BU$1-$BW$1)+$L13*$BM13*($BU$1-$BW$1)+$N13*$BJ13*($BU$1-$BV$1))*1.05+$BT13*(5.95))/1000 -> 111.15592 | BY13: =(($D13*$BN13*($BU$1-$BX$1)+$J13*$BG13*($BU$1-$BW$1)+$L13*$BH13*($BU$1-$BW$1)+$N13*$BJ13*($BU$1-$BV$1))*1.05+$BT13*(5.95))/1000 -> 104.7044 | BZ13: =BU13*1152.4 -> 128096.08 | CA13: =BV13*1152.4 -> 128096.08 | CB13: =BW13*1152.4 -> 124381.37 | CC13: =BX13*1152.4 -> 128096.08 | CD13: =BY13*1152.4 -> 120661.35
A14: 11 | B14: Elektrenai | C14: Draugystės gatve 19 | D14: 819.9 | E14: =0.8*D14*H14 -> 3279.6 | F14: 138.8 | G14: Basement | H14: 5 | I14: 17.5 | J14: =F14*I14-L14 -> 2016.1 | K14: Y | L14: 412.9 | M14: 412.4 | N14: 844.497 | O14: Sloped | P14: Y | Q14: District heating | R14: Natural gas | S14: =BZ14 -> 148046.35 | T14: =S14/E14 -> 45.141586 | U14: =CA14 -> 148046.35 | V14: =IF(ISBLANK(D14)," ",S14-U14) -> 0 | W14: =CB14 -> 144264.76 | X14: =IF(ISBLANK(D14)," ",S14-W14) -> 3781.5901 | Y14: =CC14 -> 148004 | Z14: =IF(ISBLANK(D14)," ",S14-Y14) -> 42.3507 | AA14: =CD14 -> 140477.77 | AB14: =IF(ISBLANK(D14)," ",S14-AA14) -> 7568.5787 | AC14: =V14+X14+Z14+AB14 -> 11392.52 | AD14: =IF(ISBLANK(D14)," ",S14-AC14) -> 136653.83 | AE14: =(S14-AD14)/E14 -> 3.4737528 | AF14: =1-AD14/S14 -> 0.076952386 | AG14: =IF(ISBLANK($D14),"",S14*_xlfn.XLOOKUP(Q14,DATA!$B$24:$B$25,DATA!$C$24:$C$25,"error",0,1)/1000) -> 58.963899 | AH14: =IF(ISBLANK($D14),"",V14*_xlfn.XLOOKUP(Q14,DATA!$B$24:$B$25,DATA!$C$24:$C$25,"error",0,1)/1000) -> 0 | AI14: =IF(ISBLANK($D14),"",X14*_xlfn.XLOOKUP(Q14,DATA!$B$24:$B$25,DATA!$C$24:$C$25,"error",0,1)/1000) -> 1.5061317 | AJ14: =IF(ISBLANK($D14),"",Z14*_xlfn.XLOOKUP(Q14,DATA!$B$24:$B$25,DATA!$C$24:$C$25,"error",0,1)/1000) -> 0.016867437 | AK14: =IF(ISBLANK($D14),"",AB14*_xlfn.XLOOKUP(Q14,DATA!$B$24:$B$25,DATA!$C$24:$C$25,"error",0,1)/1000) -> 3.0144135 | AL14: =SUM(AH14:AK14) -> 4.5374127 | AM14: =IF(ISBLANK($D14),"",AG14-AL14) -> 54.426486 | AN14: =IF(ISBLANK($D14),"",$S14*0.0135790158248428/1000) -> 2.0103237 | AO14: =IF(ISBLANK($D14),"",$V14*0.0135790158248428/1000) -> 0 | AP14: =IF(ISBLANK($D14),"",$X14*0.0135790158248428/1000) -> 0.051350272 | AQ14: =IF(ISBLANK($D14),"",$Z14*0.0135790158248428/1000) -> 0.00057508083 | AR14: =IF(ISBLANK($D14),"",$AB14*0.0135790158248428/1000) -> 0.10277385 | AS14: =IF(ISBLANK($D14),"",$AC14*0.0135790158248428/1000) -> 0.1546992 | AT14: =IF(ISBLANK($D14),"",AN14-AS14) -> 1.8556245 | AU14: =IF(ISBLANK($D14),"",$S14*0.000738514285714286/1000) -> 0.10933434 | AV14: =IF(ISBLANK($D14),"",$V14*0.000738514285714286/1000) -> 0 | AW14: =IF(ISBLANK($D14),"",$X14*0.000738514285714286/1000) -> 0.0027927583 | AX14: =IF(ISBLANK($D14),"",$Z14*0.000738514285714286/1000) -> 3.1276597e-05 | AY14: =IF(ISBLANK($D14),"",$AB14*0.000738514285714286/1000) -> 0.0055895035 | AZ14: =IF(ISBLANK($D14),"",$AC14*0.000738514285714286/1000) -> 0.0084135384 | BA14: =IF(ISBLANK($D14),"",AU14-AZ14) -> 0.1009208 | BB14: =IF(V14>0,J14*DATA!$C$4,0) -> 0 | BC14: =IF(X14>0,N14*_xlfn.XLOOKUP(Elektrenai!O14,DATA!$B$5:$B$6,DATA!$C$5:$C$6,"error",0,1),0) -> 40535.856 | BD14: =IF(Z14>0,(L14-M14)*DATA!$C$7,"0,00 ") -> 75 | BE14: =IF(G14="basement",D14*DATA!$C$8,IF(G14="ground",0,"error")) -> 32796 | BF14: =BB14+BC14+BD14+BE14 -> 73406.856 | BG14: 0.25 | BH14: 1.1021192 | BI14: =IF(G14="ground",0.57,IF(G14="basement",0.85,"error")) -> 0.85 | BJ14: 0.21 | BK14: =IF(K14="N",1/((1/BG14)+0.15/0.038),BG14) -> 0.25 | BL14: =IF(O14="sloped",1/(1/BJ14+0.15/0.04),IF(O14="flat",1/(1/BJ14+0.15/0.034),"error")) -> 0.11748252 | BM14: 1.1 | BN14: =IF(BI14=0.85,1/(1/BI14+0.05/0.038),BI14) -> 0.40124224 | BP14: =D14*BS14 -> 14348.25 | BQ14: =H14 -> 5 | BR14: =0.32*BP14 -> 4591.44 | BS14: =I14 -> 17.5 | BT14: =IF(BQ14<=3,0.76*BP14,0.8*BP14) -> 11478.6 | BU14: =(($D14*$BI14*($BU$1-$BX$1)+$J14*$BG14*($BU$1-$BW$1)+$L14*$BH14*($BU$1-$BW$1)+$N14*$BJ14*($BU$1-$BV$1))*1.05+$BT14*(5.95))/1000 -> 128.46785 | BV14: =(($D14*$BI14*($BU$1-$BX$1)+$J14*$BK14*($BU$1-$BW$1)+$L14*$BH14*($BU$1-$BW$1)+$N14*$BJ14*($BU$1-$BV$1))*1.05+$BT14*(5.95))/1000 -> 128.46785 | BW14: =(($D14*$BI14*($BU$1-$BX$1)+$J14*$BG14*($BU$1-$BW$1)+$L14*$BH14*($BU$1-$BW$1)+$N14*$BL14*($BU$1-$BV$1))*1.05+$BT14*(5.95))/1000 -> 125.18636 | BX14: =(($D14*$BI14*($BU$1-$BX$1)+$J14*$BG14*($BU$1-$BW$1)+$L14*$BM14*($BU$1-$BW$1)+$N14*$BJ14*($BU$1-$BV$1))*1.05+$BT14*(5.95))/1000 -> 128.4311 | BY14: =(($D14*$BN14*($BU$1-$BX$1)+$J14*$BG14*($BU$1-$BW$1)+$L14*$BH14*($BU$1-$BW$1)+$N14*$BJ14*($BU$1-$BV$1))*1.05+$BT14*(5.95))/1000 -> 121.90018 | BZ14: =BU14*1152.4 -> 148046.35 | CA14: =BV14*1152.4 -> 148046.35 | CB14: =BW14*1152.4 -> 144264.76 | CC14: =BX14*1152.4 -> 148004 | CD14: =BY14*1152.4 -> 140477.77
A15: 12 | B15: Elektrenai | C15: Draugystės gatve 21 | D15: 211.9 | E15: =0.8*D15*H15 -> 1525.68 | F15: 62.6 | G15: Basement | H15: 9 | I15: 29.2 | J15: =F15*I15-L15 -> 1535.52 | K15: N | L15: 292.4 | M15: 219.3 | N15: 218.257 | O15: Sloped | P15: N | Q15: District heating | R15: Natural gas | S15: =BZ15 -> 194013.16 | T15: =S15/E15 -> 127.16504 | U15: =CA15 -> 100095.04 | V15: =IF(ISBLANK(D15)," ",S15-U15) -> 93918.113 | W15: =CB15 -> 171927.19 | X15: =IF(ISBLANK(D15)," ",S15-W15) -> 22085.964 | Y15: =CC15 -> 187821.48 | Z15: =IF(ISBLANK(D15)," ",S15-Y15) -> 6191.6723 | AA15: =CD15 -> 192057.09 | AB15: =IF(ISBLANK(D15)," ",S15-AA15) -> 1956.07 | AC15: =V15+X15+Z15+AB15 -> 124151.82 | AD15: =IF(ISBLANK(D15)," ",S15-AC15) -> 69861.336 | AE15: =(S15-AD15)/E15 -> 81.374744 | AF15: =1-AD15/S15 -> 0.63991444 | AG15: =IF(ISBLANK($D15),"",S15*_xlfn.XLOOKUP(Q15,DATA!$B$24:$B$25,DATA!$C$24:$C$25,"error",0,1)/1000) -> 77.27156 | AH15: =IF(ISBLANK($D15),"",V15*_xlfn.XLOOKUP(Q15,DATA!$B$24:$B$25,DATA!$C$24:$C$25,"error",0,1)/1000) -> 37.405706 | AI15: =IF(ISBLANK($D15),"",X15*_xlfn.XLOOKUP(Q15,DATA!$B$24:$B$25,DATA!$C$24:$C$25,"error",0,1)/1000) -> 8.7963978 | AJ15: =IF(ISBLANK($D15),"",Z15*_xlfn.XLOOKUP(Q15,DATA!$B$24:$B$25,DATA!$C$24:$C$25,"error",0,1)/1000) -> 2.4660193 | AK15: =IF(ISBLANK($D15),"",AB15*_xlfn.XLOOKUP(Q15,DATA!$B$24:$B$25,DATA!$C$24:$C$25,"error",0,1)/1000) -> 0.77906358 | AL15: =SUM(AH15:AK15) -> 49.447187 | AM15: =IF(ISBLANK($D15),"",AG15-AL15) -> 27.824373 | AN15: =IF(ISBLANK($D15),"",$S15*0.0135790158248428/1000) -> 2.6345077 | AO15: =IF(ISBLANK($D15),"",$V15*0.0135790158248428/1000) -> 1.2753155 | AP15: =IF(ISBLANK($D15),"",$X15*0.0135790158248428/1000) -> 0.29990566 | AQ15: =IF(ISBLANK($D15),"",$Z15*0.0135790158248428/1000) -> 0.084076817 | AR15: =IF(ISBLANK($D15),"",$AB15*0.0135790158248428/1000) -> 0.026561506 | AS15: =IF(ISBLANK($D15),"",$AC15*0.0135790158248428/1000) -> 1.6858595 | AT15: =IF(ISBLANK($D15),"",AN15-AS15) -> 0.94864819 | AU15: =IF(ISBLANK($D15),"",$S15*0.000738514285714286/1000) -> 0.14328149 | AV15: =IF(ISBLANK($D15),"",$V15*0.000738514285714286/1000) -> 0.069359868 | AW15: =IF(ISBLANK($D15),"",$X15*0.000738514285714286/1000) -> 0.0163108 | AX15: =IF(ISBLANK($D15),"",$Z15*0.000738514285714286/1000) -> 0.0045726385 | AY15: =IF(ISBLANK($D15),"",$AB15*0.000738514285714286/1000) -> 0.0014445857 | AZ15: =IF(ISBLANK($D15),"",$AC15*0.000738514285714286/1000) -> 0.091687892 | BA15: =IF(ISBLANK($D15),"",AU15-AZ15) -> 0.051593595 | BB15: =IF(V15>0,J15*DATA!$C$4,0) -> 99808.8 | BC15: =IF(X15>0,N15*_xlfn.XLOOKUP(Elektrenai!O15,DATA!$B$5:$B$6,DATA!$C$5:$C$6,"error",0,1),0) -> 10476.336 | BD15: =IF(Z15>0,(L15-M15)*DATA!$C$7,"0,00 ") -> 10965 | BE15: =IF(G15="basement",D15*DATA!$C$8,IF(G15="ground",0,"error")) -> 8476 | BF15: =BB15+BC15+BD15+BE15 -> 129726.14 | BG15: 1.48 | BH15: 1.5375 | BI15: =IF(G15="ground",0.57,IF(G15="basement",0.85,"error")) -> 0.85 | BJ15: 2.33 | BK15: =IF(K15="N",1/((1/BG15)+0.15/0.038),BG15) -> 0.21630769 | BL15: =IF(O15="sloped",1/(1/BJ15+0.15/0.04),IF(O15="flat",1/(1/BJ15+0.15/0.034),"error")) -> 0.23928113 | BM15: 1.1 | BN15: =IF(BI15=0.85,1/(1/BI15+0.05/0.038),BI15) -> 0.40124224 | BP15: =D15*BS15 -> 6187.48 | BQ15: =H15 -> 9 | BR15: =0.32*BP15 -> 1979.9936 | BS15: =I15 -> 29.2 | BT15: =IF(BQ15<=3,0.76*BP15,0.8*BP15) -> 4949.984 | BU15: =(($D15*$BI15*($BU$1-$BX$1)+$J15*$BG15*($BU$1-$BW$1)+$L15*$BH15*($BU$1-$BW$1)+$N15*$BJ15*($BU$1-$BV$1))*1.05+$BT15*(5.95))/1000 -> 168.35574 | BV15: =(($D15*$BI15*($BU$1-$BX$1)+$J15*$BK15*($BU$1-$BW$1)+$L15*$BH15*($BU$1-$BW$1)+$N15*$BJ15*($BU$1-$BV$1))*1.05+$BT15*(5.95))/1000 -> 86.857899 | BW15: =(($D15*$BI15*($BU$1-$BX$1)+$J15*$BG15*($BU$1-$BW$1)+$L15*$BH15*($BU$1-$BW$1)+$N15*$BL15*($BU$1-$BV$1))*1.05+$BT15*(5.95))/1000 -> 149.19055 | BX15: =(($D15*$BI15*($BU$1-$BX$1)+$J15*$BG15*($BU$1-$BW$1)+$L15*$BM15*($BU$1-$BW$1)+$N15*$BJ15*($BU$1-$BV$1))*1.05+$BT15*(5.95))/1000 -> 162.98289 | BY15: =(($D15*$BN15*($BU$1-$BX$1)+$J15*$BG15*($BU$1-$BW$1)+$L15*$BH15*($BU$1-$BW$1)+$N15*$BJ15*($BU$1-$BV$1))*1.05+$BT15*(5.95))/1000 -> 166.65835 | BZ15: =BU15*1152.4 -> 194013.16 | CA15: =BV15*1152.4 -> 100095.04 | CB15: =BW15*1152.4 -> 171927.19 | CC15: =BX15*1152.4 -> 187821.48 | CD15: =BY15*1152.4 -> 192057.09
... A146: 143 | B146: Elektrenai | C146: Trakų gatve 37 | D146: 447.6 | E146: =0.8*D146*H146 -> 1790.4 | F146: 100.4 | G146: Basement | H146: 5 | I146: 17.5 | J146: =F146*I146-L146 -> 1440.7 | K146: Y | L146: 316.3 | M146: 316.3 | N146: 447.6 | O146: Flat | P146: Y | Q146: District heating | R146: Natural gas | S146: =BZ146 -> 89615.848 | T146: =S146/E146 -> 50.053534 | U146: =CA146 -> 89615.848 | V146: =IF(ISBLANK(D146)," ",S146-U146) -> 0 | W146: =CB146 -> 87427.929 | X146: =IF(ISBLANK(D146)," ",S146-W146) -> 2187.9186 | Y146: =CC146 -> 89615.848 | Z146: =IF(ISBLANK(D146)," ",S146-Y146) -> 0 | AA146: =CD146 -> 85484.008 | AB146: =IF(ISBLANK(D146)," ",S146-AA146) -> 4131.8403 | AC146: =V146+X146+Z146+AB146 -> 6319.7589 | AD146: =IF(ISBLANK(D146)," ",S146-AC146) -> 83296.089 | AE146: =(S146-AD146)/E146 -> 3.5298028 | AF146: =1-AD146/S146 -> 0.07052055 | AG146: =IF(ISBLANK($D146),"",S146*_xlfn.XLOOKUP(Q146,DATA!$B$24:$B$25,DATA!$C$24:$C$25,"error",0,1)/1000) -> 35.6922 | AH146: =IF(ISBLANK($D146),"",V146*_xlfn.XLOOKUP(Q146,DATA!$B$24:$B$25,DATA!$C$24:$C$25,"error",0,1)/1000) -> 0 | AI146: =IF(ISBLANK($D146),"",X146*_xlfn.XLOOKUP(Q146,DATA!$B$24:$B$25,DATA!$C$24:$C$25,"error",0,1)/1000) -> 0.87140423 | AJ146: =IF(ISBLANK($D146),"",Z146*_xlfn.XLOOKUP(Q146,DATA!$B$24:$B$25,DATA!$C$24:$C$25,"error",0,1)/1000) -> 0 | AK146: =IF(ISBLANK($D146),"",AB146*_xlfn.XLOOKUP(Q146,DATA!$B$24:$B$25,DATA!$C$24:$C$25,"error",0,1)/1000) -> 1.6456293 | AL146: =SUM(AH146:AK146) -> 2.5170336 | AM146: =IF(ISBLANK($D146),"",AG146-AL146) -> 33.175166 | AN146: =IF(ISBLANK($D146),"",$S146*0.0135790158248428/1000) -> 1.216895 | AO146: =IF(ISBLANK($D146),"",$V146*0.0135790158248428/1000) -> 0 | AP146: =IF(ISBLANK($D146),"",$X146*0.0135790158248428/1000) -> 0.029709782 | AQ146: =IF(ISBLANK($D146),"",$Z146*0.0135790158248428/1000) -> 0 | AR146: =IF(ISBLANK($D146),"",$AB146*0.0135790158248428/1000) -> 0.056106324 | AS146: =IF(ISBLANK($D146),"",$AC146*0.0135790158248428/1000) -> 0.085816106 | AT146: =IF(ISBLANK($D146),"",AN146-AS146) -> 1.1310789 | AU146: =IF(ISBLANK($D146),"",$S146*0.000738514285714286/1000) -> 0.066182584 | AV146: =IF(ISBLANK($D146),"",$V146*0.000738514285714286/1000) -> 0 | AW146: =IF(ISBLANK($D146),"",$X146*0.000738514285714286/1000) -> 0.0016158092 | AX146: =IF(ISBLANK($D146),"",$Z146*0.000738514285714286/1000) -> 0 | AY146: =IF(ISBLANK($D146),"",$AB146*0.000738514285714286/1000) -> 0.0030514231 | AZ146: =IF(ISBLANK($D146),"",$AC146*0.000738514285714286/1000) -> 0.0046672322 | BA146: =IF(ISBLANK($D146),"",AU146-AZ146) -> 0.061515352 | BB146: =IF(V146>0,J146*DATA!$C$4,0) -> 0 | BC146: =IF(X146>0,N146*_xlfn.XLOOKUP(Elektrenai!O146,DATA!$B$5:$B$6,DATA!$C$5:$C$6,"error",0,1),0) -> 38046 | BD146: =IF(Z146>0,(L146-M146)*DATA!$C$7,"0,00 ") -> 0,00 | BE146: =IF(G146="basement",D146*DATA!$C$8,IF(G146="ground",0,"error")) -> 17904 | BF146: =BB146+BC146+BD146+BE146 -> 55950 | BG146: 0.25 | BH146: 1.1 | BI146: =IF(G146="ground",0.57,IF(G146="basement",0.85,"error")) -> 0.85 | BJ146: 0.21 | BK146: =IF(K146="N",1/((1/BG146)+0.15/0.038),BG146) -> 0.25 | BL146: =IF(O146="sloped",1/(1/BJ146+0.15/0.04),IF(O146="flat",1/(1/BJ146+0.15/0.034),"error")) -> 0.10900763 | BM146: 1.1 | BN146: =IF(BI146=0.85,1/(1/BI146+0.05/0.038),BI146) -> 0.40124224 | BP146: =D146*BS146 -> 7833 | BQ146: =H146 -> 5 | BR146: =0.32*BP146 -> 2506.56 | BS146: =I146 -> 17.5 | BT146: =IF(BQ146<=3,0.76*BP146,0.8*BP146) -> 6266.4 | BU146: =(($D146*$BI146*($BU$1-$BX$1)+$J146*$BG146*($BU$1-$BW$1)+$L146*$BH146*($BU$1-$BW$1)+$N146*$BJ146*($BU$1-$BV$1))*1.05+$BT146*(5.95))/1000 -> 77.764533 | BV146: =(($D146*$BI146*($BU$1-$BX$1)+$J146*$BK146*($BU$1-$BW$1)+$L146*$BH146*($BU$1-$BW$1)+$N146*$BJ146*($BU$1-$BV$1))*1.05+$BT146*(5.95))/1000 -> 77.764533 | BW146: =(($D146*$BI146*($BU$1-$BX$1)+$J146*$BG146*($BU$1-$BW$1)+$L146*$BH146*($BU$1-$BW$1)+$N146*$BL146*($BU$1-$BV$1))*1.05+$BT146*(5.95))/1000 -> 75.865957 | BX146: =(($D146*$BI146*($BU$1-$BX$1)+$J146*$BG146*($BU$1-$BW$1)+$L146*$BM146*($BU$1-$BW$1)+$N146*$BJ146*($BU$1-$BV$1))*1.05+$BT146*(5.95))/1000 -> 77.764533 | BY146: =(($D146*$BN146*($BU$1-$BX$1)+$J146*$BG146*($BU$1-$BW$1)+$L146*$BH146*($BU$1-$BW$1)+$N146*$BJ146*($BU$1-$BV$1))*1.05+$BT146*(5.95))/1000 -> 74.179111 | BZ146: =BU146*1152.4 -> 89615.848 | CA146: =BV146*1152.4 -> 89615.848 | CB146: =BW146*1152.4 -> 87427.929 | CC146: =BX146*1152.4 -> 89615.848 | CD146: =BY146*1152.4 -> 85484.008

Sheet DATA
B2: Unit prices for EE measures
B3: Measure | C3: Price | D3: Unit
B4: Outer walls | C4: 65 | D4: EUR/m2
B5: Sloped | C5: 48 | D5: EUR/m2
B6: Flat | C6: 85 | D6: EUR/m2
B7: Replacement of windows | C7: 150 | D7: EUR/m2
B8: Insulation of the unheated basement ceiling | C8: 40 | D8: EUR/m2
B10: Energy prices
B11: Energy source | C11: Price per kWh | E11: Price per unit | G11: Lower heating value
B12: District heating | C12: =0.14*1.17 -> 0.1638 | D12: EUR/kWh | E12: 2.5 | F12: EUR/m2 | G12: - | H12: -
B13: Firewood | C13: =E13/G13 -> 0.057142857 | D13: EUR/kWh | E13: 80 | F13: EUR/m | G13: 1400 | H13: kWh/m
B14: Coal | C14: =E14/G14 -> 0.020117657 | D14: EUR/kWh | E14: 95 | F14: EUR/t | G14: 4722.22 | H14: kWh/t
B15: Pellets | C15: =E15/G15 -> 0.037777778 | D15: EUR/kWh | E15: 170 | F15: EUR/t | G15: 4500 | H15: kWh/t
B16: Natural gas | C16: =E16/G16 -> 0.10564794 | D16: EUR/kWh | E16: 1 | F16: EUR/Sm3 | G16: 9.4654 | H16: kWh/Sm3
B17: LNG | C17: =E17/G17 -> 0.13669065 | D17: EUR/kWh | E17: 0.95 | F17: EUR/l | G17: 6.95 | H17: kWh/l
B18: Fuel oil | C18: =E18/G18 -> 0.19668737 | D18: EUR/kWh | E18: 1.9 | F18: EUR/l | G18: 9.66 | H18: kWh/l
B19: Woodchips | C19: =E19/G19 -> 0.074285714 | D19: EUR/kWh | E19: 260 | F19: EUR/t | G19: 3500 | H19: kWh/kg
B20: Electricity | C20: 0.21 | D20: EUR/kWh | E20: 0.21 | F20: EUR/kWh | G20: - | H20: -
B22: CO2 EMISSION
B23: Energy source | C23: Emission coefficient
B24: Individual | C24: 0.20095 | D24: kgCO2/kWh
B25: District heating | C25: 0.39828 | D25: kgCO2/kWh
